BEGIN:VCALENDAR
PRODID:-//WikiCFP//passionvirus 1.0//EN
VERSION:2.0
CALSCALE:GREGORIAN
BEGIN:VEVENT
DTSTAMP:20260421T010154Z
DTSTART;VALUE=DATE:20140825
DTEND;VALUE=DATE:20140830
SUMMARY:RO-MAN 2014
DESCRIPTION:IEEE International Symposium on Robot and Human Interactive C
 ommunication
URL:http://www.wikicfp.com/cfp/servlet/event.showcfp?eventid=32944&copyow
 nerid=28334
UID:cfp479171-E@wikicfp.com
END:VEVENT
BEGIN:VEVENT
DTSTAMP:20260421T010154Z
DTSTART;VALUE=DATE:20140216
SUMMARY:RO-MAN 2014 Deadline
DESCRIPTION:IEEE International Symposium on Robot and Human Interactive C
 ommunication
URL:http://www.wikicfp.com/cfp/servlet/event.showcfp?eventid=32944&copyow
 nerid=28334
UID:cfp479171-D@wikicfp.com
END:VEVENT
BEGIN:VEVENT
DTSTAMP:20260421T010154Z
DTSTART;VALUE=DATE:20140427
SUMMARY:RO-MAN 2014 Notification Due
DESCRIPTION:IEEE International Symposium on Robot and Human Interactive C
 ommunication
URL:http://www.wikicfp.com/cfp/servlet/event.showcfp?eventid=32944&copyow
 nerid=28334
UID:cfp479171-N@wikicfp.com
END:VEVENT
BEGIN:VEVENT
DTSTAMP:20260421T010154Z
DTSTART;VALUE=DATE:20140523
SUMMARY:RO-MAN 2014 Final Version Due
DESCRIPTION:IEEE International Symposium on Robot and Human Interactive C
 ommunication
URL:http://www.wikicfp.com/cfp/servlet/event.showcfp?eventid=32944&copyow
 nerid=28334
UID:cfp479171-N@wikicfp.com
END:VEVENT
BEGIN:VEVENT
DTSTAMP:20260421T010154Z
DTSTART;VALUE=DATE:20150526
DTEND;VALUE=DATE:20150531
SUMMARY:ICRA 2015
DESCRIPTION:2015 IEEE International Conference on Robotics and Automation
  (ICRA)
URL:http://www.wikicfp.com/cfp/servlet/event.showcfp?eventid=37708&copyow
 nerid=28334
UID:cfp479156-E@wikicfp.com
END:VEVENT
BEGIN:VEVENT
DTSTAMP:20260421T010154Z
DTSTART;VALUE=DATE:20141002
SUMMARY:ICRA 2015 Deadline
DESCRIPTION:2015 IEEE International Conference on Robotics and Automation
  (ICRA)
URL:http://www.wikicfp.com/cfp/servlet/event.showcfp?eventid=37708&copyow
 nerid=28334
UID:cfp479156-D@wikicfp.com
END:VEVENT
BEGIN:VEVENT
DTSTAMP:20260421T010154Z
DTSTART;VALUE=DATE:20150130
SUMMARY:ICRA 2015 Notification Due
DESCRIPTION:2015 IEEE International Conference on Robotics and Automation
  (ICRA)
URL:http://www.wikicfp.com/cfp/servlet/event.showcfp?eventid=37708&copyow
 nerid=28334
UID:cfp479156-N@wikicfp.com
END:VEVENT
BEGIN:VEVENT
DTSTAMP:20260421T010154Z
DTSTART;VALUE=DATE:20150227
SUMMARY:ICRA 2015 Final Version Due
DESCRIPTION:2015 IEEE International Conference on Robotics and Automation
  (ICRA)
URL:http://www.wikicfp.com/cfp/servlet/event.showcfp?eventid=37708&copyow
 nerid=28334
UID:cfp479156-N@wikicfp.com
END:VEVENT
BEGIN:VEVENT
DTSTAMP:20260421T010154Z
DTSTART;VALUE=DATE:20150727
DTEND;VALUE=DATE:20150801
SUMMARY:ICAR 2015
DESCRIPTION:17th International Conference on Advanced Robotics
URL:http://www.wikicfp.com/cfp/servlet/event.showcfp?eventid=39772&copyow
 nerid=28334
UID:cfp479158-E@wikicfp.com
END:VEVENT
BEGIN:VEVENT
DTSTAMP:20260421T010154Z
DTSTART;VALUE=DATE:20150201
SUMMARY:ICAR 2015 Deadline
DESCRIPTION:17th International Conference on Advanced Robotics
URL:http://www.wikicfp.com/cfp/servlet/event.showcfp?eventid=39772&copyow
 nerid=28334
UID:cfp479158-D@wikicfp.com
END:VEVENT
BEGIN:VEVENT
DTSTAMP:20260421T010154Z
DTSTART;VALUE=DATE:20150415
SUMMARY:ICAR 2015 Notification Due
DESCRIPTION:17th International Conference on Advanced Robotics
URL:http://www.wikicfp.com/cfp/servlet/event.showcfp?eventid=39772&copyow
 nerid=28334
UID:cfp479158-N@wikicfp.com
END:VEVENT
BEGIN:VEVENT
DTSTAMP:20260421T010154Z
DTSTART;VALUE=DATE:20150515
SUMMARY:ICAR 2015 Final Version Due
DESCRIPTION:17th International Conference on Advanced Robotics
URL:http://www.wikicfp.com/cfp/servlet/event.showcfp?eventid=39772&copyow
 nerid=28334
UID:cfp479158-N@wikicfp.com
END:VEVENT
BEGIN:VEVENT
DTSTAMP:20260421T010154Z
DTSTART;VALUE=DATE:20150928
DTEND;VALUE=DATE:20151003
SUMMARY:IROS 2015
DESCRIPTION:Intelligent RObots and Systems
URL:http://www.wikicfp.com/cfp/servlet/event.showcfp?eventid=37848&copyow
 nerid=28334
UID:cfp479155-E@wikicfp.com
END:VEVENT
BEGIN:VEVENT
DTSTAMP:20260421T010154Z
DTSTART;VALUE=DATE:20150301
SUMMARY:IROS 2015 Deadline
DESCRIPTION:Intelligent RObots and Systems
URL:http://www.wikicfp.com/cfp/servlet/event.showcfp?eventid=37848&copyow
 nerid=28334
UID:cfp479155-D@wikicfp.com
END:VEVENT
BEGIN:VEVENT
DTSTAMP:20260421T010154Z
DTSTART;VALUE=DATE:20150617
SUMMARY:IROS 2015 Notification Due
DESCRIPTION:Intelligent RObots and Systems
URL:http://www.wikicfp.com/cfp/servlet/event.showcfp?eventid=37848&copyow
 nerid=28334
UID:cfp479155-N@wikicfp.com
END:VEVENT
BEGIN:VEVENT
DTSTAMP:20260421T010154Z
DTSTART;VALUE=DATE:20150724
SUMMARY:IROS 2015 Final Version Due
DESCRIPTION:Intelligent RObots and Systems
URL:http://www.wikicfp.com/cfp/servlet/event.showcfp?eventid=37848&copyow
 nerid=28334
UID:cfp479155-N@wikicfp.com
END:VEVENT
BEGIN:VEVENT
DTSTAMP:20260421T010154Z
DTSTART;VALUE=DATE:20151101
DTEND;VALUE=DATE:20151105
SUMMARY:SENSORS 2015
DESCRIPTION:IEEE SENSORS 2015
URL:http://www.wikicfp.com/cfp/servlet/event.showcfp?eventid=39072&copyow
 nerid=28334
UID:cfp479159-E@wikicfp.com
END:VEVENT
BEGIN:VEVENT
DTSTAMP:20260421T010154Z
DTSTART;VALUE=DATE:20150417
SUMMARY:SENSORS 2015 Deadline
DESCRIPTION:IEEE SENSORS 2015
URL:http://www.wikicfp.com/cfp/servlet/event.showcfp?eventid=39072&copyow
 nerid=28334
UID:cfp479159-D@wikicfp.com
END:VEVENT
BEGIN:VEVENT
DTSTAMP:20260421T010154Z
DTSTART;VALUE=DATE:20150701
SUMMARY:SENSORS 2015 Notification Due
DESCRIPTION:IEEE SENSORS 2015
URL:http://www.wikicfp.com/cfp/servlet/event.showcfp?eventid=39072&copyow
 nerid=28334
UID:cfp479159-N@wikicfp.com
END:VEVENT
BEGIN:VEVENT
DTSTAMP:20260421T010154Z
DTSTART;VALUE=DATE:20150901
SUMMARY:SENSORS 2015 Final Version Due
DESCRIPTION:IEEE SENSORS 2015
URL:http://www.wikicfp.com/cfp/servlet/event.showcfp?eventid=39072&copyow
 nerid=28334
UID:cfp479159-N@wikicfp.com
END:VEVENT
END:VCALENDAR
