BEGIN:VCALENDAR
PRODID:-//WikiCFP//anupkdas 1.0//EN
VERSION:2.0
CALSCALE:GREGORIAN
BEGIN:VEVENT
DTSTAMP:20260420T173005Z
DTSTART;VALUE=DATE:20120107
DTEND;VALUE=DATE:20120112
SUMMARY:VLSI 2012
DESCRIPTION:25th Conference on VLSI Design
URL:http://www.wikicfp.com/cfp/servlet/event.showcfp?eventid=16029&copyow
 nerid=28185
UID:cfp195760-E@wikicfp.com
END:VEVENT
BEGIN:VEVENT
DTSTAMP:20260420T173005Z
DTSTART;VALUE=DATE:20110711
SUMMARY:VLSI 2012 Deadline
DESCRIPTION:25th Conference on VLSI Design
URL:http://www.wikicfp.com/cfp/servlet/event.showcfp?eventid=16029&copyow
 nerid=28185
UID:cfp195760-D@wikicfp.com
END:VEVENT
BEGIN:VEVENT
DTSTAMP:20260420T173005Z
DTSTART;VALUE=DATE:20110919
SUMMARY:VLSI 2012 Notification Due
DESCRIPTION:25th Conference on VLSI Design
URL:http://www.wikicfp.com/cfp/servlet/event.showcfp?eventid=16029&copyow
 nerid=28185
UID:cfp195760-N@wikicfp.com
END:VEVENT
BEGIN:VEVENT
DTSTAMP:20260420T173005Z
DTSTART;VALUE=DATE:20120123
DTEND;VALUE=DATE:20120126
SUMMARY:HiPEAC 2012
DESCRIPTION:7th International Conference on High-Performance and Embedded
  Architectures and Compi
URL:http://www.wikicfp.com/cfp/servlet/event.showcfp?eventid=16157&copyow
 nerid=28185
UID:cfp195754-E@wikicfp.com
END:VEVENT
BEGIN:VEVENT
DTSTAMP:20260420T173005Z
DTSTART;VALUE=DATE:20110715
SUMMARY:HiPEAC 2012 Deadline
DESCRIPTION:7th International Conference on High-Performance and Embedded
  Architectures and Compi
URL:http://www.wikicfp.com/cfp/servlet/event.showcfp?eventid=16157&copyow
 nerid=28185
UID:cfp195754-D@wikicfp.com
END:VEVENT
BEGIN:VEVENT
DTSTAMP:20260420T173005Z
DTSTART;VALUE=DATE:20120130
DTEND;VALUE=DATE:20120203
SUMMARY:ASP-DAC 2012
DESCRIPTION:17th Asia and South Pacific Design Automation Conference
URL:http://www.wikicfp.com/cfp/servlet/event.showcfp?eventid=14680&copyow
 nerid=28185
UID:cfp195756-E@wikicfp.com
END:VEVENT
BEGIN:VEVENT
DTSTAMP:20260420T173005Z
DTSTART;VALUE=DATE:20110719
SUMMARY:ASP-DAC 2012 Deadline
DESCRIPTION:17th Asia and South Pacific Design Automation Conference
URL:http://www.wikicfp.com/cfp/servlet/event.showcfp?eventid=14680&copyow
 nerid=28185
UID:cfp195756-D@wikicfp.com
END:VEVENT
BEGIN:VEVENT
DTSTAMP:20260420T173005Z
DTSTART;VALUE=DATE:20110923
SUMMARY:ASP-DAC 2012 Notification Due
DESCRIPTION:17th Asia and South Pacific Design Automation Conference
URL:http://www.wikicfp.com/cfp/servlet/event.showcfp?eventid=14680&copyow
 nerid=28185
UID:cfp195756-N@wikicfp.com
END:VEVENT
BEGIN:VEVENT
DTSTAMP:20260420T173005Z
DTSTART;VALUE=DATE:20111115
SUMMARY:ASP-DAC 2012 Final Version Due
DESCRIPTION:17th Asia and South Pacific Design Automation Conference
URL:http://www.wikicfp.com/cfp/servlet/event.showcfp?eventid=14680&copyow
 nerid=28185
UID:cfp195756-N@wikicfp.com
END:VEVENT
BEGIN:VEVENT
DTSTAMP:20260420T173005Z
DTSTART;VALUE=DATE:20120303
DTEND;VALUE=DATE:20120308
SUMMARY:ASPLOS 2012
DESCRIPTION:Architectural Support for Programming Languages and Operating
  Systems
URL:http://www.wikicfp.com/cfp/servlet/event.showcfp?eventid=16050&copyow
 nerid=28185
UID:cfp195753-E@wikicfp.com
END:VEVENT
BEGIN:VEVENT
DTSTAMP:20260420T173005Z
DTSTART;VALUE=DATE:20110718
SUMMARY:ASPLOS 2012 Abstract Due
DESCRIPTION:Architectural Support for Programming Languages and Operating
  Systems
URL:http://www.wikicfp.com/cfp/servlet/event.showcfp?eventid=16050&copyow
 nerid=28185
UID:cfp195753-A@wikicfp.com
END:VEVENT
BEGIN:VEVENT
DTSTAMP:20260420T173005Z
DTSTART;VALUE=DATE:20110725
SUMMARY:ASPLOS 2012 Deadline
DESCRIPTION:Architectural Support for Programming Languages and Operating
  Systems
URL:http://www.wikicfp.com/cfp/servlet/event.showcfp?eventid=16050&copyow
 nerid=28185
UID:cfp195753-D@wikicfp.com
END:VEVENT
BEGIN:VEVENT
DTSTAMP:20260420T173005Z
DTSTART;VALUE=DATE:20111028
SUMMARY:ASPLOS 2012 Notification Due
DESCRIPTION:Architectural Support for Programming Languages and Operating
  Systems
URL:http://www.wikicfp.com/cfp/servlet/event.showcfp?eventid=16050&copyow
 nerid=28185
UID:cfp195753-N@wikicfp.com
END:VEVENT
BEGIN:VEVENT
DTSTAMP:20260420T173005Z
DTSTART;VALUE=DATE:20120113
SUMMARY:ASPLOS 2012 Final Version Due
DESCRIPTION:Architectural Support for Programming Languages and Operating
  Systems
URL:http://www.wikicfp.com/cfp/servlet/event.showcfp?eventid=16050&copyow
 nerid=28185
UID:cfp195753-N@wikicfp.com
END:VEVENT
BEGIN:VEVENT
DTSTAMP:20260420T173005Z
DTSTART;VALUE=DATE:20120325
DTEND;VALUE=DATE:20120331
SUMMARY:INFOCOM 2012
DESCRIPTION:The 31st Annual IEEE International Conference on Computer Com
 munications
URL:http://www.wikicfp.com/cfp/servlet/event.showcfp?eventid=11876&copyow
 nerid=28185
UID:cfp195766-E@wikicfp.com
END:VEVENT
BEGIN:VEVENT
DTSTAMP:20260420T173005Z
DTSTART;VALUE=DATE:20110722
SUMMARY:INFOCOM 2012 Abstract Due
DESCRIPTION:The 31st Annual IEEE International Conference on Computer Com
 munications
URL:http://www.wikicfp.com/cfp/servlet/event.showcfp?eventid=11876&copyow
 nerid=28185
UID:cfp195766-A@wikicfp.com
END:VEVENT
BEGIN:VEVENT
DTSTAMP:20260420T173005Z
DTSTART;VALUE=DATE:20110729
SUMMARY:INFOCOM 2012 Deadline
DESCRIPTION:The 31st Annual IEEE International Conference on Computer Com
 munications
URL:http://www.wikicfp.com/cfp/servlet/event.showcfp?eventid=11876&copyow
 nerid=28185
UID:cfp195766-D@wikicfp.com
END:VEVENT
BEGIN:VEVENT
DTSTAMP:20260420T173005Z
DTSTART;VALUE=DATE:20111121
SUMMARY:INFOCOM 2012 Notification Due
DESCRIPTION:The 31st Annual IEEE International Conference on Computer Com
 munications
URL:http://www.wikicfp.com/cfp/servlet/event.showcfp?eventid=11876&copyow
 nerid=28185
UID:cfp195766-N@wikicfp.com
END:VEVENT
BEGIN:VEVENT
DTSTAMP:20260420T173005Z
DTSTART;VALUE=DATE:20120225
DTEND;VALUE=DATE:20120301
SUMMARY:HPCA 2012
DESCRIPTION:IEEE 18th International Symposium on High Performance Compute
 r Architecture
URL:http://www.wikicfp.com/cfp/servlet/event.showcfp?eventid=16077&copyow
 nerid=28185
UID:cfp195752-E@wikicfp.com
END:VEVENT
BEGIN:VEVENT
DTSTAMP:20260420T173005Z
DTSTART;VALUE=DATE:20110824
SUMMARY:HPCA 2012 Abstract Due
DESCRIPTION:IEEE 18th International Symposium on High Performance Compute
 r Architecture
URL:http://www.wikicfp.com/cfp/servlet/event.showcfp?eventid=16077&copyow
 nerid=28185
UID:cfp195752-A@wikicfp.com
END:VEVENT
BEGIN:VEVENT
DTSTAMP:20260420T173005Z
DTSTART;VALUE=DATE:20110831
SUMMARY:HPCA 2012 Deadline
DESCRIPTION:IEEE 18th International Symposium on High Performance Compute
 r Architecture
URL:http://www.wikicfp.com/cfp/servlet/event.showcfp?eventid=16077&copyow
 nerid=28185
UID:cfp195752-D@wikicfp.com
END:VEVENT
BEGIN:VEVENT
DTSTAMP:20260420T173005Z
DTSTART;VALUE=DATE:20111109
SUMMARY:HPCA 2012 Notification Due
DESCRIPTION:IEEE 18th International Symposium on High Performance Compute
 r Architecture
URL:http://www.wikicfp.com/cfp/servlet/event.showcfp?eventid=16077&copyow
 nerid=28185
UID:cfp195752-N@wikicfp.com
END:VEVENT
BEGIN:VEVENT
DTSTAMP:20260420T173005Z
DTSTART;VALUE=DATE:20120312
DTEND;VALUE=DATE:20120317
SUMMARY:DATE 2012
DESCRIPTION:Design\, Automation and Test in Europe
URL:http://www.wikicfp.com/cfp/servlet/event.showcfp?eventid=16092&copyow
 nerid=28185
UID:cfp195755-E@wikicfp.com
END:VEVENT
BEGIN:VEVENT
DTSTAMP:20260420T173005Z
DTSTART;VALUE=DATE:20110911
SUMMARY:DATE 2012 Deadline
DESCRIPTION:Design\, Automation and Test in Europe
URL:http://www.wikicfp.com/cfp/servlet/event.showcfp?eventid=16092&copyow
 nerid=28185
UID:cfp195755-D@wikicfp.com
END:VEVENT
BEGIN:VEVENT
DTSTAMP:20260420T173005Z
DTSTART;VALUE=DATE:20111114
SUMMARY:DATE 2012 Notification Due
DESCRIPTION:Design\, Automation and Test in Europe
URL:http://www.wikicfp.com/cfp/servlet/event.showcfp?eventid=16092&copyow
 nerid=28185
UID:cfp195755-N@wikicfp.com
END:VEVENT
BEGIN:VEVENT
DTSTAMP:20260420T173005Z
DTSTART;VALUE=DATE:20111212
SUMMARY:DATE 2012 Final Version Due
DESCRIPTION:Design\, Automation and Test in Europe
URL:http://www.wikicfp.com/cfp/servlet/event.showcfp?eventid=16092&copyow
 nerid=28185
UID:cfp195755-N@wikicfp.com
END:VEVENT
BEGIN:VEVENT
DTSTAMP:20260420T173005Z
DTSTART;VALUE=DATE:20120425
DTEND;VALUE=DATE:20120428
SUMMARY:NSDI 2012
DESCRIPTION:9th USENIX Symposium on Networked Systems Design and Implemen
 tation 
URL:http://www.wikicfp.com/cfp/servlet/event.showcfp?eventid=17554&copyow
 nerid=28185
UID:cfp195772-E@wikicfp.com
END:VEVENT
BEGIN:VEVENT
DTSTAMP:20260420T173005Z
DTSTART;VALUE=DATE:20110927
SUMMARY:NSDI 2012 Abstract Due
DESCRIPTION:9th USENIX Symposium on Networked Systems Design and Implemen
 tation 
URL:http://www.wikicfp.com/cfp/servlet/event.showcfp?eventid=17554&copyow
 nerid=28185
UID:cfp195772-A@wikicfp.com
END:VEVENT
BEGIN:VEVENT
DTSTAMP:20260420T173005Z
DTSTART;VALUE=DATE:20111004
SUMMARY:NSDI 2012 Deadline
DESCRIPTION:9th USENIX Symposium on Networked Systems Design and Implemen
 tation 
URL:http://www.wikicfp.com/cfp/servlet/event.showcfp?eventid=17554&copyow
 nerid=28185
UID:cfp195772-D@wikicfp.com
END:VEVENT
BEGIN:VEVENT
DTSTAMP:20260420T173005Z
DTSTART;VALUE=DATE:20111220
SUMMARY:NSDI 2012 Notification Due
DESCRIPTION:9th USENIX Symposium on Networked Systems Design and Implemen
 tation 
URL:http://www.wikicfp.com/cfp/servlet/event.showcfp?eventid=17554&copyow
 nerid=28185
UID:cfp195772-N@wikicfp.com
END:VEVENT
BEGIN:VEVENT
DTSTAMP:20260420T173005Z
DTSTART;VALUE=DATE:20120314
SUMMARY:NSDI 2012 Final Version Due
DESCRIPTION:9th USENIX Symposium on Networked Systems Design and Implemen
 tation 
URL:http://www.wikicfp.com/cfp/servlet/event.showcfp?eventid=17554&copyow
 nerid=28185
UID:cfp195772-N@wikicfp.com
END:VEVENT
BEGIN:VEVENT
DTSTAMP:20260420T173005Z
DTSTART;VALUE=DATE:20120520
DTEND;VALUE=DATE:20120524
SUMMARY:ISCAS 2012
DESCRIPTION:2012 IEEE International Symposium on Circuits and Systems
URL:http://www.wikicfp.com/cfp/servlet/event.showcfp?eventid=17652&copyow
 nerid=28185
UID:cfp195773-E@wikicfp.com
END:VEVENT
BEGIN:VEVENT
DTSTAMP:20260420T173005Z
DTSTART;VALUE=DATE:20111007
SUMMARY:ISCAS 2012 Deadline
DESCRIPTION:2012 IEEE International Symposium on Circuits and Systems
URL:http://www.wikicfp.com/cfp/servlet/event.showcfp?eventid=17652&copyow
 nerid=28185
UID:cfp195773-D@wikicfp.com
END:VEVENT
BEGIN:VEVENT
DTSTAMP:20260420T173005Z
DTSTART;VALUE=DATE:20120106
SUMMARY:ISCAS 2012 Notification Due
DESCRIPTION:2012 IEEE International Symposium on Circuits and Systems
URL:http://www.wikicfp.com/cfp/servlet/event.showcfp?eventid=17652&copyow
 nerid=28185
UID:cfp195773-N@wikicfp.com
END:VEVENT
BEGIN:VEVENT
DTSTAMP:20260420T173005Z
DTSTART;VALUE=DATE:20120206
SUMMARY:ISCAS 2012 Final Version Due
DESCRIPTION:2012 IEEE International Symposium on Circuits and Systems
URL:http://www.wikicfp.com/cfp/servlet/event.showcfp?eventid=17652&copyow
 nerid=28185
UID:cfp195773-N@wikicfp.com
END:VEVENT
BEGIN:VEVENT
DTSTAMP:20260420T173005Z
DTSTART;VALUE=DATE:20111014
SUMMARY:RTAS 2012 Deadline
DESCRIPTION:The 18th IEEE Real-Time and Embedded Technology and Applicati
 ons Symposium
URL:http://www.wikicfp.com/cfp/servlet/event.showcfp?eventid=10786&copyow
 nerid=28185
UID:cfp199144-D@wikicfp.com
END:VEVENT
BEGIN:VEVENT
DTSTAMP:20260420T173005Z
DTSTART;VALUE=DATE:20111210
SUMMARY:RTAS 2012 Notification Due
DESCRIPTION:The 18th IEEE Real-Time and Embedded Technology and Applicati
 ons Symposium
URL:http://www.wikicfp.com/cfp/servlet/event.showcfp?eventid=10786&copyow
 nerid=28185
UID:cfp199144-N@wikicfp.com
END:VEVENT
BEGIN:VEVENT
DTSTAMP:20260420T173005Z
DTSTART;VALUE=DATE:20120403
DTEND;VALUE=DATE:20120406
SUMMARY:CESCIT 2012
DESCRIPTION:1st IFAC Conference on Embedded Systems\, Computational Intel
 ligence and Telematics in Control
URL:http://www.wikicfp.com/cfp/servlet/event.showcfp?eventid=17619&copyow
 nerid=28185
UID:cfp195769-E@wikicfp.com
END:VEVENT
BEGIN:VEVENT
DTSTAMP:20260420T173005Z
DTSTART;VALUE=DATE:20111015
SUMMARY:CESCIT 2012 Deadline
DESCRIPTION:1st IFAC Conference on Embedded Systems\, Computational Intel
 ligence and Telematics in Control
URL:http://www.wikicfp.com/cfp/servlet/event.showcfp?eventid=17619&copyow
 nerid=28185
UID:cfp195769-D@wikicfp.com
END:VEVENT
BEGIN:VEVENT
DTSTAMP:20260420T173005Z
DTSTART;VALUE=DATE:20111215
SUMMARY:CESCIT 2012 Notification Due
DESCRIPTION:1st IFAC Conference on Embedded Systems\, Computational Intel
 ligence and Telematics in Control
URL:http://www.wikicfp.com/cfp/servlet/event.showcfp?eventid=17619&copyow
 nerid=28185
UID:cfp195769-N@wikicfp.com
END:VEVENT
BEGIN:VEVENT
DTSTAMP:20260420T173005Z
DTSTART;VALUE=DATE:20120215
SUMMARY:CESCIT 2012 Final Version Due
DESCRIPTION:1st IFAC Conference on Embedded Systems\, Computational Intel
 ligence and Telematics in Control
URL:http://www.wikicfp.com/cfp/servlet/event.showcfp?eventid=17619&copyow
 nerid=28185
UID:cfp195769-N@wikicfp.com
END:VEVENT
BEGIN:VEVENT
DTSTAMP:20260420T173005Z
DTSTART;VALUE=DATE:20120411
DTEND;VALUE=DATE:20120414
SUMMARY:EuroSys 2012
DESCRIPTION:12th European Conference on Computer Systems
URL:http://www.wikicfp.com/cfp/servlet/event.showcfp?eventid=16876&copyow
 nerid=28185
UID:cfp195770-E@wikicfp.com
END:VEVENT
BEGIN:VEVENT
DTSTAMP:20260420T173005Z
DTSTART;VALUE=DATE:20111014
SUMMARY:EuroSys 2012 Abstract Due
DESCRIPTION:12th European Conference on Computer Systems
URL:http://www.wikicfp.com/cfp/servlet/event.showcfp?eventid=16876&copyow
 nerid=28185
UID:cfp195770-A@wikicfp.com
END:VEVENT
BEGIN:VEVENT
DTSTAMP:20260420T173005Z
DTSTART;VALUE=DATE:20111020
SUMMARY:EuroSys 2012 Deadline
DESCRIPTION:12th European Conference on Computer Systems
URL:http://www.wikicfp.com/cfp/servlet/event.showcfp?eventid=16876&copyow
 nerid=28185
UID:cfp195770-D@wikicfp.com
END:VEVENT
BEGIN:VEVENT
DTSTAMP:20260420T173005Z
DTSTART;VALUE=DATE:20120108
SUMMARY:EuroSys 2012 Notification Due
DESCRIPTION:12th European Conference on Computer Systems
URL:http://www.wikicfp.com/cfp/servlet/event.showcfp?eventid=16876&copyow
 nerid=28185
UID:cfp195770-N@wikicfp.com
END:VEVENT
BEGIN:VEVENT
DTSTAMP:20260420T173005Z
DTSTART;VALUE=DATE:20120110
SUMMARY:EuroSys 2012 Final Version Due
DESCRIPTION:12th European Conference on Computer Systems
URL:http://www.wikicfp.com/cfp/servlet/event.showcfp?eventid=16876&copyow
 nerid=28185
UID:cfp195770-N@wikicfp.com
END:VEVENT
BEGIN:VEVENT
DTSTAMP:20260420T173005Z
DTSTART;VALUE=DATE:20120609
DTEND;VALUE=DATE:20120614
SUMMARY:ISCA 2012
DESCRIPTION:THE 39th ANNUAL INTERNATIONAL SYMPOSIUM ON COMPUTER ARCHITECT
 URE
URL:http://www.wikicfp.com/cfp/servlet/event.showcfp?eventid=17535&copyow
 nerid=28185
UID:cfp195744-E@wikicfp.com
END:VEVENT
BEGIN:VEVENT
DTSTAMP:20260420T173005Z
DTSTART;VALUE=DATE:20111114
SUMMARY:ISCA 2012 Abstract Due
DESCRIPTION:THE 39th ANNUAL INTERNATIONAL SYMPOSIUM ON COMPUTER ARCHITECT
 URE
URL:http://www.wikicfp.com/cfp/servlet/event.showcfp?eventid=17535&copyow
 nerid=28185
UID:cfp195744-A@wikicfp.com
END:VEVENT
BEGIN:VEVENT
DTSTAMP:20260420T173005Z
DTSTART;VALUE=DATE:20111121
SUMMARY:ISCA 2012 Deadline
DESCRIPTION:THE 39th ANNUAL INTERNATIONAL SYMPOSIUM ON COMPUTER ARCHITECT
 URE
URL:http://www.wikicfp.com/cfp/servlet/event.showcfp?eventid=17535&copyow
 nerid=28185
UID:cfp195744-D@wikicfp.com
END:VEVENT
BEGIN:VEVENT
DTSTAMP:20260420T173005Z
DTSTART;VALUE=DATE:20120305
SUMMARY:ISCA 2012 Notification Due
DESCRIPTION:THE 39th ANNUAL INTERNATIONAL SYMPOSIUM ON COMPUTER ARCHITECT
 URE
URL:http://www.wikicfp.com/cfp/servlet/event.showcfp?eventid=17535&copyow
 nerid=28185
UID:cfp195744-N@wikicfp.com
END:VEVENT
BEGIN:VEVENT
DTSTAMP:20260420T173005Z
DTSTART;VALUE=DATE:20120224
DTEND;VALUE=DATE:20120227
SUMMARY:PECCS 2012
DESCRIPTION:2nd International Conference on Pervasive and Embedded Comput
 ing and Communication Systems (PECCS)
URL:http://www.wikicfp.com/cfp/servlet/event.showcfp?eventid=17548&copyow
 nerid=28185
UID:cfp195768-E@wikicfp.com
END:VEVENT
BEGIN:VEVENT
DTSTAMP:20260420T173005Z
DTSTART;VALUE=DATE:20111124
SUMMARY:PECCS 2012 Deadline
DESCRIPTION:2nd International Conference on Pervasive and Embedded Comput
 ing and Communication Systems (PECCS)
URL:http://www.wikicfp.com/cfp/servlet/event.showcfp?eventid=17548&copyow
 nerid=28185
UID:cfp195768-D@wikicfp.com
END:VEVENT
BEGIN:VEVENT
DTSTAMP:20260420T173005Z
DTSTART;VALUE=DATE:20111214
SUMMARY:PECCS 2012 Notification Due
DESCRIPTION:2nd International Conference on Pervasive and Embedded Comput
 ing and Communication Systems (PECCS)
URL:http://www.wikicfp.com/cfp/servlet/event.showcfp?eventid=17548&copyow
 nerid=28185
UID:cfp195768-N@wikicfp.com
END:VEVENT
BEGIN:VEVENT
DTSTAMP:20260420T173005Z
DTSTART;VALUE=DATE:20110104
SUMMARY:PECCS 2012 Final Version Due
DESCRIPTION:2nd International Conference on Pervasive and Embedded Comput
 ing and Communication Systems (PECCS)
URL:http://www.wikicfp.com/cfp/servlet/event.showcfp?eventid=17548&copyow
 nerid=28185
UID:cfp195768-N@wikicfp.com
END:VEVENT
BEGIN:VEVENT
DTSTAMP:20260420T173005Z
DTSTART;VALUE=DATE:20120603
DTEND;VALUE=DATE:20120608
SUMMARY:DAC 2012
DESCRIPTION:Design Automation Conference 
URL:http://www.wikicfp.com/cfp/servlet/event.showcfp?eventid=17495&copyow
 nerid=28185
UID:cfp195743-E@wikicfp.com
END:VEVENT
BEGIN:VEVENT
DTSTAMP:20260420T173005Z
DTSTART;VALUE=DATE:20111129
SUMMARY:DAC 2012 Abstract Due
DESCRIPTION:Design Automation Conference 
URL:http://www.wikicfp.com/cfp/servlet/event.showcfp?eventid=17495&copyow
 nerid=28185
UID:cfp195743-A@wikicfp.com
END:VEVENT
BEGIN:VEVENT
DTSTAMP:20260420T173005Z
DTSTART;VALUE=DATE:20111205
SUMMARY:DAC 2012 Deadline
DESCRIPTION:Design Automation Conference 
URL:http://www.wikicfp.com/cfp/servlet/event.showcfp?eventid=17495&copyow
 nerid=28185
UID:cfp195743-D@wikicfp.com
END:VEVENT
BEGIN:VEVENT
DTSTAMP:20260420T173005Z
DTSTART;VALUE=DATE:20120618
DTEND;VALUE=DATE:20120623
SUMMARY:HPDC 2012
DESCRIPTION:The 21st International ACM Symposium on High-Performance Para
 llel and Distributed Computing
URL:http://www.wikicfp.com/cfp/servlet/event.showcfp?eventid=17458&copyow
 nerid=28185
UID:cfp195758-E@wikicfp.com
END:VEVENT
BEGIN:VEVENT
DTSTAMP:20260420T173005Z
DTSTART;VALUE=DATE:20120116
SUMMARY:HPDC 2012 Abstract Due
DESCRIPTION:The 21st International ACM Symposium on High-Performance Para
 llel and Distributed Computing
URL:http://www.wikicfp.com/cfp/servlet/event.showcfp?eventid=17458&copyow
 nerid=28185
UID:cfp195758-A@wikicfp.com
END:VEVENT
BEGIN:VEVENT
DTSTAMP:20260420T173005Z
DTSTART;VALUE=DATE:20120123
SUMMARY:HPDC 2012 Deadline
DESCRIPTION:The 21st International ACM Symposium on High-Performance Para
 llel and Distributed Computing
URL:http://www.wikicfp.com/cfp/servlet/event.showcfp?eventid=17458&copyow
 nerid=28185
UID:cfp195758-D@wikicfp.com
END:VEVENT
BEGIN:VEVENT
DTSTAMP:20260420T173005Z
DTSTART;VALUE=DATE:20120319
SUMMARY:HPDC 2012 Notification Due
DESCRIPTION:The 21st International ACM Symposium on High-Performance Para
 llel and Distributed Computing
URL:http://www.wikicfp.com/cfp/servlet/event.showcfp?eventid=17458&copyow
 nerid=28185
UID:cfp195758-N@wikicfp.com
END:VEVENT
BEGIN:VEVENT
DTSTAMP:20260420T173005Z
DTSTART;VALUE=DATE:20120416
SUMMARY:HPDC 2012 Final Version Due
DESCRIPTION:The 21st International ACM Symposium on High-Performance Para
 llel and Distributed Computing
URL:http://www.wikicfp.com/cfp/servlet/event.showcfp?eventid=17458&copyow
 nerid=28185
UID:cfp195758-N@wikicfp.com
END:VEVENT
BEGIN:VEVENT
DTSTAMP:20260420T173005Z
DTSTART;VALUE=DATE:20120920
DTEND;VALUE=DATE:20120923
SUMMARY:MCSoC 2012
DESCRIPTION:IEEE 6th International Symposium on Embedded Multicore SoCs
URL:http://www.wikicfp.com/cfp/servlet/event.showcfp?eventid=17017&copyow
 nerid=28185
UID:cfp195767-E@wikicfp.com
END:VEVENT
BEGIN:VEVENT
DTSTAMP:20260420T173005Z
DTSTART;VALUE=DATE:20120316
SUMMARY:MCSoC 2012 Deadline
DESCRIPTION:IEEE 6th International Symposium on Embedded Multicore SoCs
URL:http://www.wikicfp.com/cfp/servlet/event.showcfp?eventid=17017&copyow
 nerid=28185
UID:cfp195767-D@wikicfp.com
END:VEVENT
BEGIN:VEVENT
DTSTAMP:20260420T173005Z
DTSTART;VALUE=DATE:20120411
SUMMARY:MCSoC 2012 Notification Due
DESCRIPTION:IEEE 6th International Symposium on Embedded Multicore SoCs
URL:http://www.wikicfp.com/cfp/servlet/event.showcfp?eventid=17017&copyow
 nerid=28185
UID:cfp195767-N@wikicfp.com
END:VEVENT
BEGIN:VEVENT
DTSTAMP:20260420T173005Z
DTSTART;VALUE=DATE:20120615
SUMMARY:MCSoC 2012 Final Version Due
DESCRIPTION:IEEE 6th International Symposium on Embedded Multicore SoCs
URL:http://www.wikicfp.com/cfp/servlet/event.showcfp?eventid=17017&copyow
 nerid=28185
UID:cfp195767-N@wikicfp.com
END:VEVENT
BEGIN:VEVENT
DTSTAMP:20260420T173005Z
DTSTART;VALUE=DATE:20120909
DTEND;VALUE=DATE:20120913
SUMMARY:CICC 2012
DESCRIPTION:IEEE Custom Integrated Circuits Conference
URL:http://www.wikicfp.com/cfp/servlet/event.showcfp?eventid=7817&copyown
 erid=28185
UID:cfp195776-E@wikicfp.com
END:VEVENT
BEGIN:VEVENT
DTSTAMP:20260420T173005Z
DTSTART;VALUE=DATE:20120407
SUMMARY:CICC 2012 Deadline
DESCRIPTION:IEEE Custom Integrated Circuits Conference
URL:http://www.wikicfp.com/cfp/servlet/event.showcfp?eventid=7817&copyown
 erid=28185
UID:cfp195776-D@wikicfp.com
END:VEVENT
BEGIN:VEVENT
DTSTAMP:20260420T173005Z
DTSTART;VALUE=DATE:20121202
DTEND;VALUE=DATE:20121206
SUMMARY:APCCAS 2012
DESCRIPTION:2012 Asia Pacific Conference on Circuits and Systems
URL:http://www.wikicfp.com/cfp/servlet/event.showcfp?eventid=17517&copyow
 nerid=28185
UID:cfp195771-E@wikicfp.com
END:VEVENT
BEGIN:VEVENT
DTSTAMP:20260420T173005Z
DTSTART;VALUE=DATE:20120630
SUMMARY:APCCAS 2012 Deadline
DESCRIPTION:2012 Asia Pacific Conference on Circuits and Systems
URL:http://www.wikicfp.com/cfp/servlet/event.showcfp?eventid=17517&copyow
 nerid=28185
UID:cfp195771-D@wikicfp.com
END:VEVENT
BEGIN:VEVENT
DTSTAMP:20260420T173005Z
DTSTART;VALUE=DATE:20120815
SUMMARY:APCCAS 2012 Notification Due
DESCRIPTION:2012 Asia Pacific Conference on Circuits and Systems
URL:http://www.wikicfp.com/cfp/servlet/event.showcfp?eventid=17517&copyow
 nerid=28185
UID:cfp195771-N@wikicfp.com
END:VEVENT
BEGIN:VEVENT
DTSTAMP:20260420T173005Z
DTSTART;VALUE=DATE:20120910
SUMMARY:APCCAS 2012 Final Version Due
DESCRIPTION:2012 Asia Pacific Conference on Circuits and Systems
URL:http://www.wikicfp.com/cfp/servlet/event.showcfp?eventid=17517&copyow
 nerid=28185
UID:cfp195771-N@wikicfp.com
END:VEVENT
BEGIN:VEVENT
DTSTAMP:20260420T173005Z
DTSTART;VALUE=DATE:20140131
SUMMARY:IJERTCS 2014 Deadline
DESCRIPTION:Int. J. Embedded and Real-Time Communication Systems
URL:http://www.wikicfp.com/cfp/servlet/event.showcfp?eventid=4905&copyown
 erid=28185
UID:cfp195751-D@wikicfp.com
END:VEVENT
BEGIN:VEVENT
DTSTAMP:20260420T173005Z
DTSTART;VALUE=DATE:20140220
SUMMARY:IJERTCS 2014 Notification Due
DESCRIPTION:Int. J. Embedded and Real-Time Communication Systems
URL:http://www.wikicfp.com/cfp/servlet/event.showcfp?eventid=4905&copyown
 erid=28185
UID:cfp195751-N@wikicfp.com
END:VEVENT
BEGIN:VEVENT
DTSTAMP:20260420T173005Z
DTSTART;VALUE=DATE:20140315
SUMMARY:IJERTCS 2014 Final Version Due
DESCRIPTION:Int. J. Embedded and Real-Time Communication Systems
URL:http://www.wikicfp.com/cfp/servlet/event.showcfp?eventid=4905&copyown
 erid=28185
UID:cfp195751-N@wikicfp.com
END:VEVENT
END:VCALENDAR
