BEGIN:VCALENDAR
PRODID:-//WikiCFP//Gacem 1.0//EN
VERSION:2.0
CALSCALE:GREGORIAN
BEGIN:VEVENT
DTSTAMP:20260423T204445Z
DTSTART;VALUE=DATE:20110220
DTEND;VALUE=DATE:20110222
SUMMARY:FSNC 2011
DESCRIPTION:International Conference on Fuzzy Systems and Neural Computin
 g
URL:http://www.wikicfp.com/cfp/servlet/event.showcfp?eventid=11107&copyow
 nerid=28008
UID:cfp194867-E@wikicfp.com
END:VEVENT
BEGIN:VEVENT
DTSTAMP:20260423T204445Z
DTSTART;VALUE=DATE:20101020
SUMMARY:FSNC 2011 Deadline
DESCRIPTION:International Conference on Fuzzy Systems and Neural Computin
 g
URL:http://www.wikicfp.com/cfp/servlet/event.showcfp?eventid=11107&copyow
 nerid=28008
UID:cfp194867-D@wikicfp.com
END:VEVENT
BEGIN:VEVENT
DTSTAMP:20260423T204445Z
DTSTART;VALUE=DATE:20101130
SUMMARY:FSNC 2011 Notification Due
DESCRIPTION:International Conference on Fuzzy Systems and Neural Computin
 g
URL:http://www.wikicfp.com/cfp/servlet/event.showcfp?eventid=11107&copyow
 nerid=28008
UID:cfp194867-N@wikicfp.com
END:VEVENT
BEGIN:VEVENT
DTSTAMP:20260423T204445Z
DTSTART;VALUE=DATE:20101231
SUMMARY:FSNC 2011 Final Version Due
DESCRIPTION:International Conference on Fuzzy Systems and Neural Computin
 g
URL:http://www.wikicfp.com/cfp/servlet/event.showcfp?eventid=11107&copyow
 nerid=28008
UID:cfp194867-N@wikicfp.com
END:VEVENT
BEGIN:VEVENT
DTSTAMP:20260423T204445Z
DTSTART;VALUE=DATE:20110831
SUMMARY:CSE Journals 2011 Deadline
DESCRIPTION:Computer Science\, Engineering and Information Technology Jou
 rnals and Conferences
URL:http://www.wikicfp.com/cfp/servlet/event.showcfp?eventid=17130&copyow
 nerid=28008
UID:cfp194858-D@wikicfp.com
END:VEVENT
BEGIN:VEVENT
DTSTAMP:20260423T204445Z
DTSTART;VALUE=DATE:20111207
DTEND;VALUE=DATE:20111210
SUMMARY:ACRA 2011
DESCRIPTION:Australasian Conference on Robotics and Automation 2011
URL:http://www.wikicfp.com/cfp/servlet/event.showcfp?eventid=17700&copyow
 nerid=28008
UID:cfp194859-E@wikicfp.com
END:VEVENT
BEGIN:VEVENT
DTSTAMP:20260423T204445Z
DTSTART;VALUE=DATE:20110902
SUMMARY:ACRA 2011 Deadline
DESCRIPTION:Australasian Conference on Robotics and Automation 2011
URL:http://www.wikicfp.com/cfp/servlet/event.showcfp?eventid=17700&copyow
 nerid=28008
UID:cfp194859-D@wikicfp.com
END:VEVENT
BEGIN:VEVENT
DTSTAMP:20260423T204445Z
DTSTART;VALUE=DATE:20111003
SUMMARY:ACRA 2011 Notification Due
DESCRIPTION:Australasian Conference on Robotics and Automation 2011
URL:http://www.wikicfp.com/cfp/servlet/event.showcfp?eventid=17700&copyow
 nerid=28008
UID:cfp194859-N@wikicfp.com
END:VEVENT
BEGIN:VEVENT
DTSTAMP:20260423T204445Z
DTSTART;VALUE=DATE:20111104
SUMMARY:ACRA 2011 Final Version Due
DESCRIPTION:Australasian Conference on Robotics and Automation 2011
URL:http://www.wikicfp.com/cfp/servlet/event.showcfp?eventid=17700&copyow
 nerid=28008
UID:cfp194859-N@wikicfp.com
END:VEVENT
BEGIN:VEVENT
DTSTAMP:20260423T204445Z
DTSTART;VALUE=DATE:20130427
DTEND;VALUE=DATE:20130503
SUMMARY:CHI 2013
DESCRIPTION:31th Human Factors in Computing Systems
URL:http://www.wikicfp.com/cfp/servlet/event.showcfp?eventid=21059&copyow
 nerid=28008
UID:cfp267378-E@wikicfp.com
END:VEVENT
BEGIN:VEVENT
DTSTAMP:20260423T204445Z
DTSTART;VALUE=DATE:20120919
SUMMARY:CHI 2013 Deadline
DESCRIPTION:31th Human Factors in Computing Systems
URL:http://www.wikicfp.com/cfp/servlet/event.showcfp?eventid=21059&copyow
 nerid=28008
UID:cfp267378-D@wikicfp.com
END:VEVENT
BEGIN:VEVENT
DTSTAMP:20260423T204445Z
DTSTART;VALUE=DATE:20130619
DTEND;VALUE=DATE:20130622
SUMMARY:ICOST 2013
DESCRIPTION:International Conference on Smart Homes and Health Telematics
 
URL:http://www.wikicfp.com/cfp/servlet/event.showcfp?eventid=18965&copyow
 nerid=28008
UID:cfp214629-E@wikicfp.com
END:VEVENT
BEGIN:VEVENT
DTSTAMP:20260423T204445Z
DTSTART;VALUE=DATE:20130125
SUMMARY:ICOST 2013 Deadline
DESCRIPTION:International Conference on Smart Homes and Health Telematics
 
URL:http://www.wikicfp.com/cfp/servlet/event.showcfp?eventid=18965&copyow
 nerid=28008
UID:cfp214629-D@wikicfp.com
END:VEVENT
BEGIN:VEVENT
DTSTAMP:20260423T204445Z
DTSTART;VALUE=DATE:20130222
SUMMARY:ICOST 2013 Notification Due
DESCRIPTION:International Conference on Smart Homes and Health Telematics
 
URL:http://www.wikicfp.com/cfp/servlet/event.showcfp?eventid=18965&copyow
 nerid=28008
UID:cfp214629-N@wikicfp.com
END:VEVENT
BEGIN:VEVENT
DTSTAMP:20260423T204445Z
DTSTART;VALUE=DATE:20130322
SUMMARY:ICOST 2013 Final Version Due
DESCRIPTION:International Conference on Smart Homes and Health Telematics
 
URL:http://www.wikicfp.com/cfp/servlet/event.showcfp?eventid=18965&copyow
 nerid=28008
UID:cfp214629-N@wikicfp.com
END:VEVENT
END:VCALENDAR
