BEGIN:VCALENDAR
PRODID:-//WikiCFP//kutawiah 1.0//EN
VERSION:2.0
CALSCALE:GREGORIAN
BEGIN:VEVENT
DTSTAMP:20260421T153150Z
DTSTART;VALUE=DATE:20120322
DTEND;VALUE=DATE:20120324
SUMMARY:ECUMICT 2012
DESCRIPTION:Fifth European Conference on the Use of Modern Information an
 d Communication Technologies
URL:http://www.wikicfp.com/cfp/servlet/event.showcfp?eventid=17417&copyow
 nerid=27969
UID:cfp194598-E@wikicfp.com
END:VEVENT
BEGIN:VEVENT
DTSTAMP:20260421T153150Z
DTSTART;VALUE=DATE:20111215
SUMMARY:ECUMICT 2012 Deadline
DESCRIPTION:Fifth European Conference on the Use of Modern Information an
 d Communication Technologies
URL:http://www.wikicfp.com/cfp/servlet/event.showcfp?eventid=17417&copyow
 nerid=27969
UID:cfp194598-D@wikicfp.com
END:VEVENT
BEGIN:VEVENT
DTSTAMP:20260421T153150Z
DTSTART;VALUE=DATE:20120117
SUMMARY:ECUMICT 2012 Notification Due
DESCRIPTION:Fifth European Conference on the Use of Modern Information an
 d Communication Technologies
URL:http://www.wikicfp.com/cfp/servlet/event.showcfp?eventid=17417&copyow
 nerid=27969
UID:cfp194598-N@wikicfp.com
END:VEVENT
END:VCALENDAR
