BEGIN:VCALENDAR
PRODID:-//WikiCFP//refezs 1.0//EN
VERSION:2.0
CALSCALE:GREGORIAN
BEGIN:VEVENT
DTSTAMP:20260421T135922Z
DTSTART;VALUE=DATE:20110809
DTEND;VALUE=DATE:20110810
SUMMARY:HealthSec 2011
DESCRIPTION:2nd USENIX Workshop on Health Security and Privacy
URL:http://www.wikicfp.com/cfp/servlet/event.showcfp?eventid=14490&copyow
 nerid=27397
UID:cfp191363-E@wikicfp.com
END:VEVENT
BEGIN:VEVENT
DTSTAMP:20260421T135922Z
DTSTART;VALUE=DATE:20110412
SUMMARY:HealthSec 2011 Deadline
DESCRIPTION:2nd USENIX Workshop on Health Security and Privacy
URL:http://www.wikicfp.com/cfp/servlet/event.showcfp?eventid=14490&copyow
 nerid=27397
UID:cfp191363-D@wikicfp.com
END:VEVENT
BEGIN:VEVENT
DTSTAMP:20260421T135922Z
DTSTART;VALUE=DATE:20110524
SUMMARY:HealthSec 2011 Notification Due
DESCRIPTION:2nd USENIX Workshop on Health Security and Privacy
URL:http://www.wikicfp.com/cfp/servlet/event.showcfp?eventid=14490&copyow
 nerid=27397
UID:cfp191363-N@wikicfp.com
END:VEVENT
BEGIN:VEVENT
DTSTAMP:20260421T135922Z
DTSTART;VALUE=DATE:20110620
SUMMARY:HealthSec 2011 Final Version Due
DESCRIPTION:2nd USENIX Workshop on Health Security and Privacy
URL:http://www.wikicfp.com/cfp/servlet/event.showcfp?eventid=14490&copyow
 nerid=27397
UID:cfp191363-N@wikicfp.com
END:VEVENT
BEGIN:VEVENT
DTSTAMP:20260421T135922Z
DTSTART;VALUE=DATE:20121011
DTEND;VALUE=DATE:20121014
SUMMARY:HealthCom 2012
DESCRIPTION:IEEE International Conference on e-Health Networking\, Applic
 ation & Services
URL:http://www.wikicfp.com/cfp/servlet/event.showcfp?eventid=17436&copyow
 nerid=27397
UID:cfp191365-E@wikicfp.com
END:VEVENT
BEGIN:VEVENT
DTSTAMP:20260421T135922Z
DTSTART;VALUE=DATE:20120815
SUMMARY:HealthCom 2012 Deadline
DESCRIPTION:IEEE International Conference on e-Health Networking\, Applic
 ation & Services
URL:http://www.wikicfp.com/cfp/servlet/event.showcfp?eventid=17436&copyow
 nerid=27397
UID:cfp191365-D@wikicfp.com
END:VEVENT
END:VCALENDAR
