BEGIN:VCALENDAR
PRODID:-//WikiCFP//maaabdalla 1.0//EN
VERSION:2.0
CALSCALE:GREGORIAN
BEGIN:VEVENT
DTSTAMP:20260422T200602Z
DTSTART;VALUE=DATE:20110314
DTEND;VALUE=DATE:20110317
SUMMARY:GeMiC 2011
DESCRIPTION:German Microwave Conference
URL:http://www.wikicfp.com/cfp/servlet/event.showcfp?eventid=9035&copyown
 erid=27030
UID:cfp189330-E@wikicfp.com
END:VEVENT
BEGIN:VEVENT
DTSTAMP:20260422T200602Z
DTSTART;VALUE=DATE:20101023
SUMMARY:GeMiC 2011 Deadline
DESCRIPTION:German Microwave Conference
URL:http://www.wikicfp.com/cfp/servlet/event.showcfp?eventid=9035&copyown
 erid=27030
UID:cfp189330-D@wikicfp.com
END:VEVENT
BEGIN:VEVENT
DTSTAMP:20260422T200602Z
DTSTART;VALUE=DATE:20101217
SUMMARY:GeMiC 2011 Notification Due
DESCRIPTION:German Microwave Conference
URL:http://www.wikicfp.com/cfp/servlet/event.showcfp?eventid=9035&copyown
 erid=27030
UID:cfp189330-N@wikicfp.com
END:VEVENT
BEGIN:VEVENT
DTSTAMP:20260422T200602Z
DTSTART;VALUE=DATE:20110122
SUMMARY:GeMiC 2011 Final Version Due
DESCRIPTION:German Microwave Conference
URL:http://www.wikicfp.com/cfp/servlet/event.showcfp?eventid=9035&copyown
 erid=27030
UID:cfp189330-N@wikicfp.com
END:VEVENT
BEGIN:VEVENT
DTSTAMP:20260422T200602Z
DTSTART;VALUE=DATE:20111218
DTEND;VALUE=DATE:20111223
SUMMARY:IAW 2011
DESCRIPTION:Indian Antenna Week
URL:http://www.wikicfp.com/cfp/servlet/event.showcfp?eventid=16462&copyow
 nerid=27030
UID:cfp189331-E@wikicfp.com
END:VEVENT
BEGIN:VEVENT
DTSTAMP:20260422T200602Z
DTSTART;VALUE=DATE:20110808
SUMMARY:IAW 2011 Deadline
DESCRIPTION:Indian Antenna Week
URL:http://www.wikicfp.com/cfp/servlet/event.showcfp?eventid=16462&copyow
 nerid=27030
UID:cfp189331-D@wikicfp.com
END:VEVENT
BEGIN:VEVENT
DTSTAMP:20260422T200602Z
DTSTART;VALUE=DATE:20110909
SUMMARY:IAW 2011 Notification Due
DESCRIPTION:Indian Antenna Week
URL:http://www.wikicfp.com/cfp/servlet/event.showcfp?eventid=16462&copyow
 nerid=27030
UID:cfp189331-N@wikicfp.com
END:VEVENT
BEGIN:VEVENT
DTSTAMP:20260422T200602Z
DTSTART;VALUE=DATE:20120326
DTEND;VALUE=DATE:20120331
SUMMARY:EuCAP 2012
DESCRIPTION:EuCAP 2012: the 6th European Conference on Antennas and Propa
 gation
URL:http://www.wikicfp.com/cfp/servlet/event.showcfp?eventid=16737&copyow
 nerid=27030
UID:cfp189329-E@wikicfp.com
END:VEVENT
BEGIN:VEVENT
DTSTAMP:20260422T200602Z
DTSTART;VALUE=DATE:20111016
SUMMARY:EuCAP 2012 Deadline
DESCRIPTION:EuCAP 2012: the 6th European Conference on Antennas and Propa
 gation
URL:http://www.wikicfp.com/cfp/servlet/event.showcfp?eventid=16737&copyow
 nerid=27030
UID:cfp189329-D@wikicfp.com
END:VEVENT
BEGIN:VEVENT
DTSTAMP:20260422T200602Z
DTSTART;VALUE=DATE:20111216
SUMMARY:EuCAP 2012 Notification Due
DESCRIPTION:EuCAP 2012: the 6th European Conference on Antennas and Propa
 gation
URL:http://www.wikicfp.com/cfp/servlet/event.showcfp?eventid=16737&copyow
 nerid=27030
UID:cfp189329-N@wikicfp.com
END:VEVENT
BEGIN:VEVENT
DTSTAMP:20260422T200602Z
DTSTART;VALUE=DATE:20120115
SUMMARY:EuCAP 2012 Final Version Due
DESCRIPTION:EuCAP 2012: the 6th European Conference on Antennas and Propa
 gation
URL:http://www.wikicfp.com/cfp/servlet/event.showcfp?eventid=16737&copyow
 nerid=27030
UID:cfp189329-N@wikicfp.com
END:VEVENT
BEGIN:VEVENT
DTSTAMP:20260422T200602Z
DTSTART;VALUE=DATE:20121029
DTEND;VALUE=DATE:20121103
SUMMARY:ISAP 2012
DESCRIPTION:2012 International Symposium on Antennas and Propagation (ISA
 P 2012)
URL:http://www.wikicfp.com/cfp/servlet/event.showcfp?eventid=17212&copyow
 nerid=27030
UID:cfp189332-E@wikicfp.com
END:VEVENT
BEGIN:VEVENT
DTSTAMP:20260422T200602Z
DTSTART;VALUE=DATE:20120427
SUMMARY:ISAP 2012 Deadline
DESCRIPTION:2012 International Symposium on Antennas and Propagation (ISA
 P 2012)
URL:http://www.wikicfp.com/cfp/servlet/event.showcfp?eventid=17212&copyow
 nerid=27030
UID:cfp189332-D@wikicfp.com
END:VEVENT
BEGIN:VEVENT
DTSTAMP:20260422T200602Z
DTSTART;VALUE=DATE:20120629
SUMMARY:ISAP 2012 Notification Due
DESCRIPTION:2012 International Symposium on Antennas and Propagation (ISA
 P 2012)
URL:http://www.wikicfp.com/cfp/servlet/event.showcfp?eventid=17212&copyow
 nerid=27030
UID:cfp189332-N@wikicfp.com
END:VEVENT
BEGIN:VEVENT
DTSTAMP:20260422T200602Z
DTSTART;VALUE=DATE:20121204
DTEND;VALUE=DATE:20121208
SUMMARY:APMC 2012
DESCRIPTION:Asia Pacific Microwave Conference
URL:http://www.wikicfp.com/cfp/servlet/event.showcfp?eventid=13653&copyow
 nerid=27030
UID:cfp189328-E@wikicfp.com
END:VEVENT
BEGIN:VEVENT
DTSTAMP:20260422T200602Z
DTSTART;VALUE=DATE:20120620
SUMMARY:APMC 2012 Deadline
DESCRIPTION:Asia Pacific Microwave Conference
URL:http://www.wikicfp.com/cfp/servlet/event.showcfp?eventid=13653&copyow
 nerid=27030
UID:cfp189328-D@wikicfp.com
END:VEVENT
BEGIN:VEVENT
DTSTAMP:20260422T200602Z
DTSTART;VALUE=DATE:20120815
SUMMARY:APMC 2012 Notification Due
DESCRIPTION:Asia Pacific Microwave Conference
URL:http://www.wikicfp.com/cfp/servlet/event.showcfp?eventid=13653&copyow
 nerid=27030
UID:cfp189328-N@wikicfp.com
END:VEVENT
BEGIN:VEVENT
DTSTAMP:20260422T200602Z
DTSTART;VALUE=DATE:20110920
SUMMARY:APMC 2012 Final Version Due
DESCRIPTION:Asia Pacific Microwave Conference
URL:http://www.wikicfp.com/cfp/servlet/event.showcfp?eventid=13653&copyow
 nerid=27030
UID:cfp189328-N@wikicfp.com
END:VEVENT
BEGIN:VEVENT
DTSTAMP:20260422T200602Z
DTSTART;VALUE=DATE:20130413
DTEND;VALUE=DATE:20130419
SUMMARY:IWS 2013
DESCRIPTION:IEEE International Wireless Symposium
URL:http://www.wikicfp.com/cfp/servlet/event.showcfp?eventid=21173&copyow
 nerid=27030
UID:cfp277568-E@wikicfp.com
END:VEVENT
BEGIN:VEVENT
DTSTAMP:20260422T200602Z
DTSTART;VALUE=DATE:20120922
SUMMARY:IWS 2013 Deadline
DESCRIPTION:IEEE International Wireless Symposium
URL:http://www.wikicfp.com/cfp/servlet/event.showcfp?eventid=21173&copyow
 nerid=27030
UID:cfp277568-D@wikicfp.com
END:VEVENT
BEGIN:VEVENT
DTSTAMP:20260422T200602Z
DTSTART;VALUE=DATE:20121202
SUMMARY:IWS 2013 Notification Due
DESCRIPTION:IEEE International Wireless Symposium
URL:http://www.wikicfp.com/cfp/servlet/event.showcfp?eventid=21173&copyow
 nerid=27030
UID:cfp277568-N@wikicfp.com
END:VEVENT
END:VCALENDAR
