BEGIN:VCALENDAR
PRODID:-//WikiCFP//anotheratlas 1.0//EN
VERSION:2.0
CALSCALE:GREGORIAN
BEGIN:VEVENT
DTSTAMP:20260422T132503Z
DTSTART;VALUE=DATE:20140504
DTEND;VALUE=DATE:20140510
SUMMARY:ICASSP 2014
DESCRIPTION:IEEE International Conference on Acoustics\, Speech and Signa
 l Processing
URL:http://www.wikicfp.com/cfp/servlet/event.showcfp?eventid=14048&copyow
 nerid=2679
UID:cfp341503-E@wikicfp.com
END:VEVENT
BEGIN:VEVENT
DTSTAMP:20260422T132503Z
DTSTART;VALUE=DATE:20131104
SUMMARY:ICASSP 2014 Deadline
DESCRIPTION:IEEE International Conference on Acoustics\, Speech and Signa
 l Processing
URL:http://www.wikicfp.com/cfp/servlet/event.showcfp?eventid=14048&copyow
 nerid=2679
UID:cfp341503-D@wikicfp.com
END:VEVENT
BEGIN:VEVENT
DTSTAMP:20260422T132503Z
DTSTART;VALUE=DATE:20140127
SUMMARY:ICASSP 2014 Notification Due
DESCRIPTION:IEEE International Conference on Acoustics\, Speech and Signa
 l Processing
URL:http://www.wikicfp.com/cfp/servlet/event.showcfp?eventid=14048&copyow
 nerid=2679
UID:cfp341503-N@wikicfp.com
END:VEVENT
BEGIN:VEVENT
DTSTAMP:20260422T132503Z
DTSTART;VALUE=DATE:20140307
SUMMARY:ICASSP 2014 Final Version Due
DESCRIPTION:IEEE International Conference on Acoustics\, Speech and Signa
 l Processing
URL:http://www.wikicfp.com/cfp/servlet/event.showcfp?eventid=14048&copyow
 nerid=2679
UID:cfp341503-N@wikicfp.com
END:VEVENT
BEGIN:VEVENT
DTSTAMP:20260422T132503Z
DTSTART;VALUE=DATE:20140407
DTEND;VALUE=DATE:20140412
SUMMARY:WWW-Short 2014
DESCRIPTION:International World Wide Web Conference Posters
URL:http://www.wikicfp.com/cfp/servlet/event.showcfp?eventid=33062&copyow
 nerid=2679
UID:cfp402334-E@wikicfp.com
END:VEVENT
BEGIN:VEVENT
DTSTAMP:20260422T132503Z
DTSTART;VALUE=DATE:20140105
SUMMARY:WWW-Short 2014 Deadline
DESCRIPTION:International World Wide Web Conference Posters
URL:http://www.wikicfp.com/cfp/servlet/event.showcfp?eventid=33062&copyow
 nerid=2679
UID:cfp402334-D@wikicfp.com
END:VEVENT
BEGIN:VEVENT
DTSTAMP:20260422T132503Z
DTSTART;VALUE=DATE:20140128
SUMMARY:WWW-Short 2014 Notification Due
DESCRIPTION:International World Wide Web Conference Posters
URL:http://www.wikicfp.com/cfp/servlet/event.showcfp?eventid=33062&copyow
 nerid=2679
UID:cfp402334-N@wikicfp.com
END:VEVENT
BEGIN:VEVENT
DTSTAMP:20260422T132503Z
DTSTART;VALUE=DATE:20140205
SUMMARY:WWW-Short 2014 Final Version Due
DESCRIPTION:International World Wide Web Conference Posters
URL:http://www.wikicfp.com/cfp/servlet/event.showcfp?eventid=33062&copyow
 nerid=2679
UID:cfp402334-N@wikicfp.com
END:VEVENT
BEGIN:VEVENT
DTSTAMP:20260422T132503Z
DTSTART;VALUE=DATE:20140426
DTEND;VALUE=DATE:20140501
SUMMARY:EACL-short 2014
DESCRIPTION:14th Conference of the European Chapter of the Association fo
 r Computational Linguistics (S)
URL:http://www.wikicfp.com/cfp/servlet/event.showcfp?eventid=31601&copyow
 nerid=2679
UID:cfp407565-E@wikicfp.com
END:VEVENT
BEGIN:VEVENT
DTSTAMP:20260422T132503Z
DTSTART;VALUE=DATE:20140106
SUMMARY:EACL-short 2014 Deadline
DESCRIPTION:14th Conference of the European Chapter of the Association fo
 r Computational Linguistics (S)
URL:http://www.wikicfp.com/cfp/servlet/event.showcfp?eventid=31601&copyow
 nerid=2679
UID:cfp407565-D@wikicfp.com
END:VEVENT
BEGIN:VEVENT
DTSTAMP:20260422T132503Z
DTSTART;VALUE=DATE:20140224
SUMMARY:EACL-short 2014 Notification Due
DESCRIPTION:14th Conference of the European Chapter of the Association fo
 r Computational Linguistics (S)
URL:http://www.wikicfp.com/cfp/servlet/event.showcfp?eventid=31601&copyow
 nerid=2679
UID:cfp407565-N@wikicfp.com
END:VEVENT
BEGIN:VEVENT
DTSTAMP:20260422T132503Z
DTSTART;VALUE=DATE:20140303
SUMMARY:EACL-short 2014 Final Version Due
DESCRIPTION:14th Conference of the European Chapter of the Association fo
 r Computational Linguistics (S)
URL:http://www.wikicfp.com/cfp/servlet/event.showcfp?eventid=31601&copyow
 nerid=2679
UID:cfp407565-N@wikicfp.com
END:VEVENT
BEGIN:VEVENT
DTSTAMP:20260422T132503Z
DTSTART;VALUE=DATE:20140406
DTEND;VALUE=DATE:20140413
SUMMARY:CICLing 2014
DESCRIPTION:15th International Conference on Intelligent Text Processing 
 and Computational Linguistics
URL:http://www.wikicfp.com/cfp/servlet/event.showcfp?eventid=33810&copyow
 nerid=2679
UID:cfp402325-E@wikicfp.com
END:VEVENT
BEGIN:VEVENT
DTSTAMP:20260422T132503Z
DTSTART;VALUE=DATE:20131231
SUMMARY:CICLing 2014 Abstract Due
DESCRIPTION:15th International Conference on Intelligent Text Processing 
 and Computational Linguistics
URL:http://www.wikicfp.com/cfp/servlet/event.showcfp?eventid=33810&copyow
 nerid=2679
UID:cfp402325-A@wikicfp.com
END:VEVENT
BEGIN:VEVENT
DTSTAMP:20260422T132503Z
DTSTART;VALUE=DATE:20140107
SUMMARY:CICLing 2014 Deadline
DESCRIPTION:15th International Conference on Intelligent Text Processing 
 and Computational Linguistics
URL:http://www.wikicfp.com/cfp/servlet/event.showcfp?eventid=33810&copyow
 nerid=2679
UID:cfp402325-D@wikicfp.com
END:VEVENT
BEGIN:VEVENT
DTSTAMP:20260422T132503Z
DTSTART;VALUE=DATE:20140622
DTEND;VALUE=DATE:20140628
SUMMARY:ACL 2014
DESCRIPTION:The 52nd Annual Meeting of the Association for Computational 
 Linguistics
URL:http://www.wikicfp.com/cfp/servlet/event.showcfp?eventid=27857&copyow
 nerid=2679
UID:cfp402323-E@wikicfp.com
END:VEVENT
BEGIN:VEVENT
DTSTAMP:20260422T132503Z
DTSTART;VALUE=DATE:20140110
SUMMARY:ACL 2014 Deadline
DESCRIPTION:The 52nd Annual Meeting of the Association for Computational 
 Linguistics
URL:http://www.wikicfp.com/cfp/servlet/event.showcfp?eventid=27857&copyow
 nerid=2679
UID:cfp402323-D@wikicfp.com
END:VEVENT
BEGIN:VEVENT
DTSTAMP:20260422T132503Z
DTSTART;VALUE=DATE:20140305
SUMMARY:ACL 2014 Notification Due
DESCRIPTION:The 52nd Annual Meeting of the Association for Computational 
 Linguistics
URL:http://www.wikicfp.com/cfp/servlet/event.showcfp?eventid=27857&copyow
 nerid=2679
UID:cfp402323-N@wikicfp.com
END:VEVENT
BEGIN:VEVENT
DTSTAMP:20260422T132503Z
DTSTART;VALUE=DATE:20140727
DTEND;VALUE=DATE:20140801
SUMMARY:AAAI 2014
DESCRIPTION:28th AAAI Conference on Artificial Intelligence
URL:http://www.wikicfp.com/cfp/servlet/event.showcfp?eventid=31244&copyow
 nerid=2679
UID:cfp365191-E@wikicfp.com
END:VEVENT
BEGIN:VEVENT
DTSTAMP:20260422T132503Z
DTSTART;VALUE=DATE:20140131
SUMMARY:AAAI 2014 Abstract Due
DESCRIPTION:28th AAAI Conference on Artificial Intelligence
URL:http://www.wikicfp.com/cfp/servlet/event.showcfp?eventid=31244&copyow
 nerid=2679
UID:cfp365191-A@wikicfp.com
END:VEVENT
BEGIN:VEVENT
DTSTAMP:20260422T132503Z
DTSTART;VALUE=DATE:20140204
SUMMARY:AAAI 2014 Deadline
DESCRIPTION:28th AAAI Conference on Artificial Intelligence
URL:http://www.wikicfp.com/cfp/servlet/event.showcfp?eventid=31244&copyow
 nerid=2679
UID:cfp365191-D@wikicfp.com
END:VEVENT
BEGIN:VEVENT
DTSTAMP:20260422T132503Z
DTSTART;VALUE=DATE:20140407
SUMMARY:AAAI 2014 Notification Due
DESCRIPTION:28th AAAI Conference on Artificial Intelligence
URL:http://www.wikicfp.com/cfp/servlet/event.showcfp?eventid=31244&copyow
 nerid=2679
UID:cfp365191-N@wikicfp.com
END:VEVENT
BEGIN:VEVENT
DTSTAMP:20260422T132503Z
DTSTART;VALUE=DATE:20140422
SUMMARY:AAAI 2014 Final Version Due
DESCRIPTION:28th AAAI Conference on Artificial Intelligence
URL:http://www.wikicfp.com/cfp/servlet/event.showcfp?eventid=31244&copyow
 nerid=2679
UID:cfp365191-N@wikicfp.com
END:VEVENT
BEGIN:VEVENT
DTSTAMP:20260422T132503Z
DTSTART;VALUE=DATE:20140311
SUMMARY:IJAIA 2014 Deadline
DESCRIPTION:International Journal of Artificial Intelligence & Applicatio
 ns
URL:http://www.wikicfp.com/cfp/servlet/event.showcfp?eventid=24653&copyow
 nerid=2679
UID:cfp335497-D@wikicfp.com
END:VEVENT
BEGIN:VEVENT
DTSTAMP:20260422T132503Z
DTSTART;VALUE=DATE:20140411
SUMMARY:IJAIA 2014 Notification Due
DESCRIPTION:International Journal of Artificial Intelligence & Applicatio
 ns
URL:http://www.wikicfp.com/cfp/servlet/event.showcfp?eventid=24653&copyow
 nerid=2679
UID:cfp335497-N@wikicfp.com
END:VEVENT
BEGIN:VEVENT
DTSTAMP:20260422T132503Z
DTSTART;VALUE=DATE:20140418
SUMMARY:IJAIA 2014 Final Version Due
DESCRIPTION:International Journal of Artificial Intelligence & Applicatio
 ns
URL:http://www.wikicfp.com/cfp/servlet/event.showcfp?eventid=24653&copyow
 nerid=2679
UID:cfp335497-N@wikicfp.com
END:VEVENT
BEGIN:VEVENT
DTSTAMP:20260422T132503Z
DTSTART;VALUE=DATE:20140626
DTEND;VALUE=DATE:20140628
SUMMARY:CONLL 2014
DESCRIPTION:Eighteenth Conference on Computational Natural Language Learn
 ing
URL:http://www.wikicfp.com/cfp/servlet/event.showcfp?eventid=34164&copyow
 nerid=2679
UID:cfp407566-E@wikicfp.com
END:VEVENT
BEGIN:VEVENT
DTSTAMP:20260422T132503Z
DTSTART;VALUE=DATE:20140314
SUMMARY:CONLL 2014 Deadline
DESCRIPTION:Eighteenth Conference on Computational Natural Language Learn
 ing
URL:http://www.wikicfp.com/cfp/servlet/event.showcfp?eventid=34164&copyow
 nerid=2679
UID:cfp407566-D@wikicfp.com
END:VEVENT
BEGIN:VEVENT
DTSTAMP:20260422T132503Z
DTSTART;VALUE=DATE:20140421
SUMMARY:CONLL 2014 Notification Due
DESCRIPTION:Eighteenth Conference on Computational Natural Language Learn
 ing
URL:http://www.wikicfp.com/cfp/servlet/event.showcfp?eventid=34164&copyow
 nerid=2679
UID:cfp407566-N@wikicfp.com
END:VEVENT
BEGIN:VEVENT
DTSTAMP:20260422T132503Z
DTSTART;VALUE=DATE:20140504
SUMMARY:CONLL 2014 Final Version Due
DESCRIPTION:Eighteenth Conference on Computational Natural Language Learn
 ing
URL:http://www.wikicfp.com/cfp/servlet/event.showcfp?eventid=34164&copyow
 nerid=2679
UID:cfp407566-N@wikicfp.com
END:VEVENT
BEGIN:VEVENT
DTSTAMP:20260422T132503Z
DTSTART;VALUE=DATE:20140823
DTEND;VALUE=DATE:20140830
SUMMARY:COLING 2014
DESCRIPTION:25th International Conference on Computational Linguistics
URL:http://www.wikicfp.com/cfp/servlet/event.showcfp?eventid=33331&copyow
 nerid=2679
UID:cfp402324-E@wikicfp.com
END:VEVENT
BEGIN:VEVENT
DTSTAMP:20260422T132503Z
DTSTART;VALUE=DATE:20140321
SUMMARY:COLING 2014 Deadline
DESCRIPTION:25th International Conference on Computational Linguistics
URL:http://www.wikicfp.com/cfp/servlet/event.showcfp?eventid=33331&copyow
 nerid=2679
UID:cfp402324-D@wikicfp.com
END:VEVENT
BEGIN:VEVENT
DTSTAMP:20260422T132503Z
DTSTART;VALUE=DATE:20140523
SUMMARY:COLING 2014 Notification Due
DESCRIPTION:25th International Conference on Computational Linguistics
URL:http://www.wikicfp.com/cfp/servlet/event.showcfp?eventid=33331&copyow
 nerid=2679
UID:cfp402324-N@wikicfp.com
END:VEVENT
BEGIN:VEVENT
DTSTAMP:20260422T132503Z
DTSTART;VALUE=DATE:20140606
SUMMARY:COLING 2014 Final Version Due
DESCRIPTION:25th International Conference on Computational Linguistics
URL:http://www.wikicfp.com/cfp/servlet/event.showcfp?eventid=33331&copyow
 nerid=2679
UID:cfp402324-N@wikicfp.com
END:VEVENT
BEGIN:VEVENT
DTSTAMP:20260422T132503Z
DTSTART;VALUE=DATE:20140908
DTEND;VALUE=DATE:20140913
SUMMARY:TSD 2014
DESCRIPTION:Text\, Speech and Dialogue
URL:http://www.wikicfp.com/cfp/servlet/event.showcfp?eventid=29443&copyow
 nerid=2679
UID:cfp402332-E@wikicfp.com
END:VEVENT
BEGIN:VEVENT
DTSTAMP:20260422T132503Z
DTSTART;VALUE=DATE:20140315
SUMMARY:TSD 2014 Abstract Due
DESCRIPTION:Text\, Speech and Dialogue
URL:http://www.wikicfp.com/cfp/servlet/event.showcfp?eventid=29443&copyow
 nerid=2679
UID:cfp402332-A@wikicfp.com
END:VEVENT
BEGIN:VEVENT
DTSTAMP:20260422T132503Z
DTSTART;VALUE=DATE:20140322
SUMMARY:TSD 2014 Deadline
DESCRIPTION:Text\, Speech and Dialogue
URL:http://www.wikicfp.com/cfp/servlet/event.showcfp?eventid=29443&copyow
 nerid=2679
UID:cfp402332-D@wikicfp.com
END:VEVENT
BEGIN:VEVENT
DTSTAMP:20260422T132503Z
DTSTART;VALUE=DATE:20140515
SUMMARY:TSD 2014 Notification Due
DESCRIPTION:Text\, Speech and Dialogue
URL:http://www.wikicfp.com/cfp/servlet/event.showcfp?eventid=29443&copyow
 nerid=2679
UID:cfp402332-N@wikicfp.com
END:VEVENT
BEGIN:VEVENT
DTSTAMP:20260422T132503Z
DTSTART;VALUE=DATE:20140531
SUMMARY:TSD 2014 Final Version Due
DESCRIPTION:Text\, Speech and Dialogue
URL:http://www.wikicfp.com/cfp/servlet/event.showcfp?eventid=29443&copyow
 nerid=2679
UID:cfp402332-N@wikicfp.com
END:VEVENT
BEGIN:VEVENT
DTSTAMP:20260422T132503Z
DTSTART;VALUE=DATE:20140905
DTEND;VALUE=DATE:20140908
SUMMARY:APWeb 2014
DESCRIPTION:Asia-Pacific Web Conference
URL:http://www.wikicfp.com/cfp/servlet/event.showcfp?eventid=33242&copyow
 nerid=2679
UID:cfp402322-E@wikicfp.com
END:VEVENT
BEGIN:VEVENT
DTSTAMP:20260422T132503Z
DTSTART;VALUE=DATE:20140321
SUMMARY:APWeb 2014 Abstract Due
DESCRIPTION:Asia-Pacific Web Conference
URL:http://www.wikicfp.com/cfp/servlet/event.showcfp?eventid=33242&copyow
 nerid=2679
UID:cfp402322-A@wikicfp.com
END:VEVENT
BEGIN:VEVENT
DTSTAMP:20260422T132503Z
DTSTART;VALUE=DATE:20140328
SUMMARY:APWeb 2014 Deadline
DESCRIPTION:Asia-Pacific Web Conference
URL:http://www.wikicfp.com/cfp/servlet/event.showcfp?eventid=33242&copyow
 nerid=2679
UID:cfp402322-D@wikicfp.com
END:VEVENT
BEGIN:VEVENT
DTSTAMP:20260422T132503Z
DTSTART;VALUE=DATE:20140516
SUMMARY:APWeb 2014 Notification Due
DESCRIPTION:Asia-Pacific Web Conference
URL:http://www.wikicfp.com/cfp/servlet/event.showcfp?eventid=33242&copyow
 nerid=2679
UID:cfp402322-N@wikicfp.com
END:VEVENT
BEGIN:VEVENT
DTSTAMP:20260422T132503Z
DTSTART;VALUE=DATE:20140606
SUMMARY:APWeb 2014 Final Version Due
DESCRIPTION:Asia-Pacific Web Conference
URL:http://www.wikicfp.com/cfp/servlet/event.showcfp?eventid=33242&copyow
 nerid=2679
UID:cfp402322-N@wikicfp.com
END:VEVENT
BEGIN:VEVENT
DTSTAMP:20260422T132503Z
DTSTART;VALUE=DATE:20140811
DTEND;VALUE=DATE:20140815
SUMMARY:WI 2014
DESCRIPTION:Web Intelligence
URL:http://www.wikicfp.com/cfp/servlet/event.showcfp?eventid=34467&copyow
 nerid=2679
UID:cfp407564-E@wikicfp.com
END:VEVENT
BEGIN:VEVENT
DTSTAMP:20260422T132503Z
DTSTART;VALUE=DATE:20140413
SUMMARY:WI 2014 Deadline
DESCRIPTION:Web Intelligence
URL:http://www.wikicfp.com/cfp/servlet/event.showcfp?eventid=34467&copyow
 nerid=2679
UID:cfp407564-D@wikicfp.com
END:VEVENT
BEGIN:VEVENT
DTSTAMP:20260422T132503Z
DTSTART;VALUE=DATE:20140504
SUMMARY:WI 2014 Notification Due
DESCRIPTION:Web Intelligence
URL:http://www.wikicfp.com/cfp/servlet/event.showcfp?eventid=34467&copyow
 nerid=2679
UID:cfp407564-N@wikicfp.com
END:VEVENT
BEGIN:VEVENT
DTSTAMP:20260422T132503Z
DTSTART;VALUE=DATE:20140518
SUMMARY:WI 2014 Final Version Due
DESCRIPTION:Web Intelligence
URL:http://www.wikicfp.com/cfp/servlet/event.showcfp?eventid=34467&copyow
 nerid=2679
UID:cfp407564-N@wikicfp.com
END:VEVENT
BEGIN:VEVENT
DTSTAMP:20260422T132503Z
DTSTART;VALUE=DATE:20141025
DTEND;VALUE=DATE:20141030
SUMMARY:EMNLP 2014
DESCRIPTION:Conference on Empirical Methods in Natural Language Processin
 g
URL:http://www.wikicfp.com/cfp/servlet/event.showcfp?eventid=35398&copyow
 nerid=2679
UID:cfp453896-E@wikicfp.com
END:VEVENT
BEGIN:VEVENT
DTSTAMP:20260422T132503Z
DTSTART;VALUE=DATE:20140602
SUMMARY:EMNLP 2014 Deadline
DESCRIPTION:Conference on Empirical Methods in Natural Language Processin
 g
URL:http://www.wikicfp.com/cfp/servlet/event.showcfp?eventid=35398&copyow
 nerid=2679
UID:cfp453896-D@wikicfp.com
END:VEVENT
BEGIN:VEVENT
DTSTAMP:20260422T132503Z
DTSTART;VALUE=DATE:20140722
SUMMARY:EMNLP 2014 Notification Due
DESCRIPTION:Conference on Empirical Methods in Natural Language Processin
 g
URL:http://www.wikicfp.com/cfp/servlet/event.showcfp?eventid=35398&copyow
 nerid=2679
UID:cfp453896-N@wikicfp.com
END:VEVENT
BEGIN:VEVENT
DTSTAMP:20260422T132503Z
DTSTART;VALUE=DATE:20140826
SUMMARY:EMNLP 2014 Final Version Due
DESCRIPTION:Conference on Empirical Methods in Natural Language Processin
 g
URL:http://www.wikicfp.com/cfp/servlet/event.showcfp?eventid=35398&copyow
 nerid=2679
UID:cfp453896-N@wikicfp.com
END:VEVENT
BEGIN:VEVENT
DTSTAMP:20260422T132503Z
DTSTART;VALUE=DATE:20141203
DTEND;VALUE=DATE:20141206
SUMMARY:AIRS 2014
DESCRIPTION:Asia Information Retrieval Symposium
URL:http://www.wikicfp.com/cfp/servlet/event.showcfp?eventid=38468&copyow
 nerid=2679
UID:cfp453894-E@wikicfp.com
END:VEVENT
BEGIN:VEVENT
DTSTAMP:20260422T132503Z
DTSTART;VALUE=DATE:20140622
SUMMARY:AIRS 2014 Deadline
DESCRIPTION:Asia Information Retrieval Symposium
URL:http://www.wikicfp.com/cfp/servlet/event.showcfp?eventid=38468&copyow
 nerid=2679
UID:cfp453894-D@wikicfp.com
END:VEVENT
BEGIN:VEVENT
DTSTAMP:20260422T132503Z
DTSTART;VALUE=DATE:20140807
SUMMARY:AIRS 2014 Notification Due
DESCRIPTION:Asia Information Retrieval Symposium
URL:http://www.wikicfp.com/cfp/servlet/event.showcfp?eventid=38468&copyow
 nerid=2679
UID:cfp453894-N@wikicfp.com
END:VEVENT
BEGIN:VEVENT
DTSTAMP:20260422T132503Z
DTSTART;VALUE=DATE:20140815
SUMMARY:AIRS 2014 Final Version Due
DESCRIPTION:Asia Information Retrieval Symposium
URL:http://www.wikicfp.com/cfp/servlet/event.showcfp?eventid=38468&copyow
 nerid=2679
UID:cfp453894-N@wikicfp.com
END:VEVENT
BEGIN:VEVENT
DTSTAMP:20260422T132503Z
DTSTART;VALUE=DATE:20141201
DTEND;VALUE=DATE:20141206
SUMMARY:PRICAI 2014
DESCRIPTION:The 13th Pacific Rim International Conference on Artificial I
 ntelligence
URL:http://www.wikicfp.com/cfp/servlet/event.showcfp?eventid=34026&copyow
 nerid=2679
UID:cfp453897-E@wikicfp.com
END:VEVENT
BEGIN:VEVENT
DTSTAMP:20260422T132503Z
DTSTART;VALUE=DATE:20140629
SUMMARY:PRICAI 2014 Deadline
DESCRIPTION:The 13th Pacific Rim International Conference on Artificial I
 ntelligence
URL:http://www.wikicfp.com/cfp/servlet/event.showcfp?eventid=34026&copyow
 nerid=2679
UID:cfp453897-D@wikicfp.com
END:VEVENT
BEGIN:VEVENT
DTSTAMP:20260422T132503Z
DTSTART;VALUE=DATE:20140822
SUMMARY:PRICAI 2014 Notification Due
DESCRIPTION:The 13th Pacific Rim International Conference on Artificial I
 ntelligence
URL:http://www.wikicfp.com/cfp/servlet/event.showcfp?eventid=34026&copyow
 nerid=2679
UID:cfp453897-N@wikicfp.com
END:VEVENT
BEGIN:VEVENT
DTSTAMP:20260422T132503Z
DTSTART;VALUE=DATE:20140912
SUMMARY:PRICAI 2014 Final Version Due
DESCRIPTION:The 13th Pacific Rim International Conference on Artificial I
 ntelligence
URL:http://www.wikicfp.com/cfp/servlet/event.showcfp?eventid=34026&copyow
 nerid=2679
UID:cfp453897-N@wikicfp.com
END:VEVENT
BEGIN:VEVENT
DTSTAMP:20260422T132503Z
DTSTART;VALUE=DATE:20140925
DTEND;VALUE=DATE:20140927
SUMMARY:ROCLING 2014
DESCRIPTION:The 26th Computational Linguistics and Speech Processing
URL:http://www.wikicfp.com/cfp/servlet/event.showcfp?eventid=36420&copyow
 nerid=2679
UID:cfp453895-E@wikicfp.com
END:VEVENT
BEGIN:VEVENT
DTSTAMP:20260422T132503Z
DTSTART;VALUE=DATE:20140704
SUMMARY:ROCLING 2014 Deadline
DESCRIPTION:The 26th Computational Linguistics and Speech Processing
URL:http://www.wikicfp.com/cfp/servlet/event.showcfp?eventid=36420&copyow
 nerid=2679
UID:cfp453895-D@wikicfp.com
END:VEVENT
BEGIN:VEVENT
DTSTAMP:20260422T132503Z
DTSTART;VALUE=DATE:20140815
SUMMARY:ROCLING 2014 Notification Due
DESCRIPTION:The 26th Computational Linguistics and Speech Processing
URL:http://www.wikicfp.com/cfp/servlet/event.showcfp?eventid=36420&copyow
 nerid=2679
UID:cfp453895-N@wikicfp.com
END:VEVENT
BEGIN:VEVENT
DTSTAMP:20260422T132503Z
DTSTART;VALUE=DATE:20140822
SUMMARY:ROCLING 2014 Final Version Due
DESCRIPTION:The 26th Computational Linguistics and Speech Processing
URL:http://www.wikicfp.com/cfp/servlet/event.showcfp?eventid=36420&copyow
 nerid=2679
UID:cfp453895-N@wikicfp.com
END:VEVENT
BEGIN:VEVENT
DTSTAMP:20260422T132503Z
DTSTART;VALUE=DATE:20150728
DTEND;VALUE=DATE:20150802
SUMMARY:IJCAI 2015
DESCRIPTION:International Joint Conference on Artificial Intelligence
URL:http://www.wikicfp.com/cfp/servlet/event.showcfp?eventid=31845&copyow
 nerid=2679
UID:cfp453546-E@wikicfp.com
END:VEVENT
BEGIN:VEVENT
DTSTAMP:20260422T132503Z
DTSTART;VALUE=DATE:20150208
SUMMARY:IJCAI 2015 Abstract Due
DESCRIPTION:International Joint Conference on Artificial Intelligence
URL:http://www.wikicfp.com/cfp/servlet/event.showcfp?eventid=31845&copyow
 nerid=2679
UID:cfp453546-A@wikicfp.com
END:VEVENT
BEGIN:VEVENT
DTSTAMP:20260422T132503Z
DTSTART;VALUE=DATE:20150212
SUMMARY:IJCAI 2015 Deadline
DESCRIPTION:International Joint Conference on Artificial Intelligence
URL:http://www.wikicfp.com/cfp/servlet/event.showcfp?eventid=31845&copyow
 nerid=2679
UID:cfp453546-D@wikicfp.com
END:VEVENT
END:VCALENDAR
