BEGIN:VCALENDAR
PRODID:-//WikiCFP//lmrojasb 1.0//EN
VERSION:2.0
CALSCALE:GREGORIAN
BEGIN:VEVENT
DTSTAMP:20260423T163657Z
DTSTART;VALUE=DATE:20110907
DTEND;VALUE=DATE:20110910
SUMMARY:AMT 2011
DESCRIPTION:2011 International Conference on Active Media Technology
URL:http://www.wikicfp.com/cfp/servlet/event.showcfp?eventid=13885&copyow
 nerid=26599
UID:cfp195550-E@wikicfp.com
END:VEVENT
BEGIN:VEVENT
DTSTAMP:20260423T163657Z
DTSTART;VALUE=DATE:20110331
SUMMARY:AMT 2011 Deadline
DESCRIPTION:2011 International Conference on Active Media Technology
URL:http://www.wikicfp.com/cfp/servlet/event.showcfp?eventid=13885&copyow
 nerid=26599
UID:cfp195550-D@wikicfp.com
END:VEVENT
BEGIN:VEVENT
DTSTAMP:20260423T163657Z
DTSTART;VALUE=DATE:20110601
SUMMARY:AMT 2011 Notification Due
DESCRIPTION:2011 International Conference on Active Media Technology
URL:http://www.wikicfp.com/cfp/servlet/event.showcfp?eventid=13885&copyow
 nerid=26599
UID:cfp195550-N@wikicfp.com
END:VEVENT
BEGIN:VEVENT
DTSTAMP:20260423T163657Z
DTSTART;VALUE=DATE:20110624
SUMMARY:AMT 2011 Final Version Due
DESCRIPTION:2011 International Conference on Active Media Technology
URL:http://www.wikicfp.com/cfp/servlet/event.showcfp?eventid=13885&copyow
 nerid=26599
UID:cfp195550-N@wikicfp.com
END:VEVENT
BEGIN:VEVENT
DTSTAMP:20260423T163657Z
DTSTART;VALUE=DATE:20120206
DTEND;VALUE=DATE:20120209
SUMMARY:ICAART 2012
DESCRIPTION:4th International Conference on Agents and Artificial Intelli
 gence
URL:http://www.wikicfp.com/cfp/servlet/event.showcfp?eventid=16200&copyow
 nerid=26599
UID:cfp186021-E@wikicfp.com
END:VEVENT
BEGIN:VEVENT
DTSTAMP:20260423T163657Z
DTSTART;VALUE=DATE:20110905
SUMMARY:ICAART 2012 Deadline
DESCRIPTION:4th International Conference on Agents and Artificial Intelli
 gence
URL:http://www.wikicfp.com/cfp/servlet/event.showcfp?eventid=16200&copyow
 nerid=26599
UID:cfp186021-D@wikicfp.com
END:VEVENT
BEGIN:VEVENT
DTSTAMP:20260423T163657Z
DTSTART;VALUE=DATE:20111004
SUMMARY:ICAART 2012 Notification Due
DESCRIPTION:4th International Conference on Agents and Artificial Intelli
 gence
URL:http://www.wikicfp.com/cfp/servlet/event.showcfp?eventid=16200&copyow
 nerid=26599
UID:cfp186021-N@wikicfp.com
END:VEVENT
BEGIN:VEVENT
DTSTAMP:20260423T163657Z
DTSTART;VALUE=DATE:20111024
SUMMARY:ICAART 2012 Final Version Due
DESCRIPTION:4th International Conference on Agents and Artificial Intelli
 gence
URL:http://www.wikicfp.com/cfp/servlet/event.showcfp?eventid=16200&copyow
 nerid=26599
UID:cfp186021-N@wikicfp.com
END:VEVENT
BEGIN:VEVENT
DTSTAMP:20260423T163657Z
DTSTART;VALUE=DATE:20120423
DTEND;VALUE=DATE:20120428
SUMMARY:EACL 2012
DESCRIPTION:Thirteenth Conference of the European Chapter of the Associat
 ion for Computational Linguistics
URL:http://www.wikicfp.com/cfp/servlet/event.showcfp?eventid=16439&copyow
 nerid=26599
UID:cfp195553-E@wikicfp.com
END:VEVENT
BEGIN:VEVENT
DTSTAMP:20260423T163657Z
DTSTART;VALUE=DATE:20111104
SUMMARY:EACL 2012 Deadline
DESCRIPTION:Thirteenth Conference of the European Chapter of the Associat
 ion for Computational Linguistics
URL:http://www.wikicfp.com/cfp/servlet/event.showcfp?eventid=16439&copyow
 nerid=26599
UID:cfp195553-D@wikicfp.com
END:VEVENT
BEGIN:VEVENT
DTSTAMP:20260423T163657Z
DTSTART;VALUE=DATE:20120113
SUMMARY:EACL 2012 Notification Due
DESCRIPTION:Thirteenth Conference of the European Chapter of the Associat
 ion for Computational Linguistics
URL:http://www.wikicfp.com/cfp/servlet/event.showcfp?eventid=16439&copyow
 nerid=26599
UID:cfp195553-N@wikicfp.com
END:VEVENT
BEGIN:VEVENT
DTSTAMP:20260423T163657Z
DTSTART;VALUE=DATE:20120309
SUMMARY:EACL 2012 Final Version Due
DESCRIPTION:Thirteenth Conference of the European Chapter of the Associat
 ion for Computational Linguistics
URL:http://www.wikicfp.com/cfp/servlet/event.showcfp?eventid=16439&copyow
 nerid=26599
UID:cfp195553-N@wikicfp.com
END:VEVENT
END:VCALENDAR
