BEGIN:VCALENDAR
PRODID:-//WikiCFP//mstopczynski 1.0//EN
VERSION:2.0
CALSCALE:GREGORIAN
BEGIN:VEVENT
DTSTAMP:20260420T193018Z
DTSTART;VALUE=DATE:20110720
DTEND;VALUE=DATE:20110723
SUMMARY:SOUPS 2011
DESCRIPTION:Symposium On Usable Privacy and Security  
URL:http://www.wikicfp.com/cfp/servlet/event.showcfp?eventid=14001&copyow
 nerid=26361
UID:cfp184414-E@wikicfp.com
END:VEVENT
BEGIN:VEVENT
DTSTAMP:20260420T193018Z
DTSTART;VALUE=DATE:20110311
SUMMARY:SOUPS 2011 Deadline
DESCRIPTION:Symposium On Usable Privacy and Security  
URL:http://www.wikicfp.com/cfp/servlet/event.showcfp?eventid=14001&copyow
 nerid=26361
UID:cfp184414-D@wikicfp.com
END:VEVENT
BEGIN:VEVENT
DTSTAMP:20260420T193018Z
DTSTART;VALUE=DATE:20110518
SUMMARY:SOUPS 2011 Notification Due
DESCRIPTION:Symposium On Usable Privacy and Security  
URL:http://www.wikicfp.com/cfp/servlet/event.showcfp?eventid=14001&copyow
 nerid=26361
UID:cfp184414-N@wikicfp.com
END:VEVENT
BEGIN:VEVENT
DTSTAMP:20260420T193018Z
DTSTART;VALUE=DATE:20110615
SUMMARY:SOUPS 2011 Final Version Due
DESCRIPTION:Symposium On Usable Privacy and Security  
URL:http://www.wikicfp.com/cfp/servlet/event.showcfp?eventid=14001&copyow
 nerid=26361
UID:cfp184414-N@wikicfp.com
END:VEVENT
BEGIN:VEVENT
DTSTAMP:20260420T193018Z
DTSTART;VALUE=DATE:20110915
DTEND;VALUE=DATE:20110917
SUMMARY:EuroPKI 2011
DESCRIPTION:Eight European Workshop on Public Key Services\, Applications
  and Infrastructures
URL:http://www.wikicfp.com/cfp/servlet/event.showcfp?eventid=15843&copyow
 nerid=26361
UID:cfp184425-E@wikicfp.com
END:VEVENT
BEGIN:VEVENT
DTSTAMP:20260420T193018Z
DTSTART;VALUE=DATE:20110610
SUMMARY:EuroPKI 2011 Deadline
DESCRIPTION:Eight European Workshop on Public Key Services\, Applications
  and Infrastructures
URL:http://www.wikicfp.com/cfp/servlet/event.showcfp?eventid=15843&copyow
 nerid=26361
UID:cfp184425-D@wikicfp.com
END:VEVENT
BEGIN:VEVENT
DTSTAMP:20260420T193018Z
DTSTART;VALUE=DATE:20110801
SUMMARY:EuroPKI 2011 Notification Due
DESCRIPTION:Eight European Workshop on Public Key Services\, Applications
  and Infrastructures
URL:http://www.wikicfp.com/cfp/servlet/event.showcfp?eventid=15843&copyow
 nerid=26361
UID:cfp184425-N@wikicfp.com
END:VEVENT
BEGIN:VEVENT
DTSTAMP:20260420T193018Z
DTSTART;VALUE=DATE:20110820
SUMMARY:EuroPKI 2011 Final Version Due
DESCRIPTION:Eight European Workshop on Public Key Services\, Applications
  and Infrastructures
URL:http://www.wikicfp.com/cfp/servlet/event.showcfp?eventid=15843&copyow
 nerid=26361
UID:cfp184425-N@wikicfp.com
END:VEVENT
BEGIN:VEVENT
DTSTAMP:20260420T193018Z
DTSTART;VALUE=DATE:20111116
DTEND;VALUE=DATE:20111119
SUMMARY:IEEE TrustCom 2011
DESCRIPTION:The 10th IEEE International Conference on Trust\, Security an
 d Privacy in Computing and Communications
URL:http://www.wikicfp.com/cfp/servlet/event.showcfp?eventid=16039&copyow
 nerid=26361
UID:cfp184416-E@wikicfp.com
END:VEVENT
BEGIN:VEVENT
DTSTAMP:20260420T193018Z
DTSTART;VALUE=DATE:20110630
SUMMARY:IEEE TrustCom 2011 Deadline
DESCRIPTION:The 10th IEEE International Conference on Trust\, Security an
 d Privacy in Computing and Communications
URL:http://www.wikicfp.com/cfp/servlet/event.showcfp?eventid=16039&copyow
 nerid=26361
UID:cfp184416-D@wikicfp.com
END:VEVENT
BEGIN:VEVENT
DTSTAMP:20260420T193018Z
DTSTART;VALUE=DATE:20110830
SUMMARY:IEEE TrustCom 2011 Notification Due
DESCRIPTION:The 10th IEEE International Conference on Trust\, Security an
 d Privacy in Computing and Communications
URL:http://www.wikicfp.com/cfp/servlet/event.showcfp?eventid=16039&copyow
 nerid=26361
UID:cfp184416-N@wikicfp.com
END:VEVENT
BEGIN:VEVENT
DTSTAMP:20260420T193018Z
DTSTART;VALUE=DATE:20110930
SUMMARY:IEEE TrustCom 2011 Final Version Due
DESCRIPTION:The 10th IEEE International Conference on Trust\, Security an
 d Privacy in Computing and Communications
URL:http://www.wikicfp.com/cfp/servlet/event.showcfp?eventid=16039&copyow
 nerid=26361
UID:cfp184416-N@wikicfp.com
END:VEVENT
BEGIN:VEVENT
DTSTAMP:20260420T193018Z
DTSTART;VALUE=DATE:20111116
DTEND;VALUE=DATE:20111119
SUMMARY:IEEE TrustID 2011
DESCRIPTION:2011 IEEE International Workshop on Trust and Identity in Mob
 ile Internet\, Computing and Communications
URL:http://www.wikicfp.com/cfp/servlet/event.showcfp?eventid=16384&copyow
 nerid=26361
UID:cfp184417-E@wikicfp.com
END:VEVENT
BEGIN:VEVENT
DTSTAMP:20260420T193018Z
DTSTART;VALUE=DATE:20110630
SUMMARY:IEEE TrustID 2011 Deadline
DESCRIPTION:2011 IEEE International Workshop on Trust and Identity in Mob
 ile Internet\, Computing and Communications
URL:http://www.wikicfp.com/cfp/servlet/event.showcfp?eventid=16384&copyow
 nerid=26361
UID:cfp184417-D@wikicfp.com
END:VEVENT
BEGIN:VEVENT
DTSTAMP:20260420T193018Z
DTSTART;VALUE=DATE:20110830
SUMMARY:IEEE TrustID 2011 Notification Due
DESCRIPTION:2011 IEEE International Workshop on Trust and Identity in Mob
 ile Internet\, Computing and Communications
URL:http://www.wikicfp.com/cfp/servlet/event.showcfp?eventid=16384&copyow
 nerid=26361
UID:cfp184417-N@wikicfp.com
END:VEVENT
BEGIN:VEVENT
DTSTAMP:20260420T193018Z
DTSTART;VALUE=DATE:20110930
SUMMARY:IEEE TrustID 2011 Final Version Due
DESCRIPTION:2011 IEEE International Workshop on Trust and Identity in Mob
 ile Internet\, Computing and Communications
URL:http://www.wikicfp.com/cfp/servlet/event.showcfp?eventid=16384&copyow
 nerid=26361
UID:cfp184417-N@wikicfp.com
END:VEVENT
BEGIN:VEVENT
DTSTAMP:20260420T193018Z
DTSTART;VALUE=DATE:20110815
DTEND;VALUE=DATE:20110819
SUMMARY:WCNIS 2011
DESCRIPTION:International Workshop on Computer Network & Information Secu
 rity (WCNIS 2011)
URL:http://www.wikicfp.com/cfp/servlet/event.showcfp?eventid=15431&copyow
 nerid=26361
UID:cfp184420-E@wikicfp.com
END:VEVENT
BEGIN:VEVENT
DTSTAMP:20260420T193018Z
DTSTART;VALUE=DATE:20110701
SUMMARY:WCNIS 2011 Deadline
DESCRIPTION:International Workshop on Computer Network & Information Secu
 rity (WCNIS 2011)
URL:http://www.wikicfp.com/cfp/servlet/event.showcfp?eventid=15431&copyow
 nerid=26361
UID:cfp184420-D@wikicfp.com
END:VEVENT
BEGIN:VEVENT
DTSTAMP:20260420T193018Z
DTSTART;VALUE=DATE:20110705
SUMMARY:WCNIS 2011 Notification Due
DESCRIPTION:International Workshop on Computer Network & Information Secu
 rity (WCNIS 2011)
URL:http://www.wikicfp.com/cfp/servlet/event.showcfp?eventid=15431&copyow
 nerid=26361
UID:cfp184420-N@wikicfp.com
END:VEVENT
BEGIN:VEVENT
DTSTAMP:20260420T193018Z
DTSTART;VALUE=DATE:20110721
SUMMARY:WCNIS 2011 Final Version Due
DESCRIPTION:International Workshop on Computer Network & Information Secu
 rity (WCNIS 2011)
URL:http://www.wikicfp.com/cfp/servlet/event.showcfp?eventid=15431&copyow
 nerid=26361
UID:cfp184420-N@wikicfp.com
END:VEVENT
BEGIN:VEVENT
DTSTAMP:20260420T193018Z
DTSTART;VALUE=DATE:20110907
DTEND;VALUE=DATE:20110910
SUMMARY:ICSEC 2011
DESCRIPTION:The 2011 International Computer Science and Engineering Confe
 rence (ICSEC2011)
URL:http://www.wikicfp.com/cfp/servlet/event.showcfp?eventid=16234&copyow
 nerid=26361
UID:cfp184421-E@wikicfp.com
END:VEVENT
BEGIN:VEVENT
DTSTAMP:20260420T193018Z
DTSTART;VALUE=DATE:20110701
SUMMARY:ICSEC 2011 Deadline
DESCRIPTION:The 2011 International Computer Science and Engineering Confe
 rence (ICSEC2011)
URL:http://www.wikicfp.com/cfp/servlet/event.showcfp?eventid=16234&copyow
 nerid=26361
UID:cfp184421-D@wikicfp.com
END:VEVENT
BEGIN:VEVENT
DTSTAMP:20260420T193018Z
DTSTART;VALUE=DATE:20110801
SUMMARY:ICSEC 2011 Notification Due
DESCRIPTION:The 2011 International Computer Science and Engineering Confe
 rence (ICSEC2011)
URL:http://www.wikicfp.com/cfp/servlet/event.showcfp?eventid=16234&copyow
 nerid=26361
UID:cfp184421-N@wikicfp.com
END:VEVENT
BEGIN:VEVENT
DTSTAMP:20260420T193018Z
DTSTART;VALUE=DATE:20110815
SUMMARY:ICSEC 2011 Final Version Due
DESCRIPTION:The 2011 International Computer Science and Engineering Confe
 rence (ICSEC2011)
URL:http://www.wikicfp.com/cfp/servlet/event.showcfp?eventid=16234&copyow
 nerid=26361
UID:cfp184421-N@wikicfp.com
END:VEVENT
BEGIN:VEVENT
DTSTAMP:20260420T193018Z
DTSTART;VALUE=DATE:20110906
DTEND;VALUE=DATE:20110908
SUMMARY:EC2ND 2011
DESCRIPTION:European Conference on Computer Network Defense
URL:http://www.wikicfp.com/cfp/servlet/event.showcfp?eventid=16347&copyow
 nerid=26361
UID:cfp184422-E@wikicfp.com
END:VEVENT
BEGIN:VEVENT
DTSTAMP:20260420T193018Z
DTSTART;VALUE=DATE:20110704
SUMMARY:EC2ND 2011 Deadline
DESCRIPTION:European Conference on Computer Network Defense
URL:http://www.wikicfp.com/cfp/servlet/event.showcfp?eventid=16347&copyow
 nerid=26361
UID:cfp184422-D@wikicfp.com
END:VEVENT
BEGIN:VEVENT
DTSTAMP:20260420T193018Z
DTSTART;VALUE=DATE:20110804
SUMMARY:EC2ND 2011 Notification Due
DESCRIPTION:European Conference on Computer Network Defense
URL:http://www.wikicfp.com/cfp/servlet/event.showcfp?eventid=16347&copyow
 nerid=26361
UID:cfp184422-N@wikicfp.com
END:VEVENT
BEGIN:VEVENT
DTSTAMP:20260420T193018Z
DTSTART;VALUE=DATE:20110819
SUMMARY:EC2ND 2011 Final Version Due
DESCRIPTION:European Conference on Computer Network Defense
URL:http://www.wikicfp.com/cfp/servlet/event.showcfp?eventid=16347&copyow
 nerid=26361
UID:cfp184422-N@wikicfp.com
END:VEVENT
BEGIN:VEVENT
DTSTAMP:20260420T193018Z
DTSTART;VALUE=DATE:20111017
DTEND;VALUE=DATE:20111018
SUMMARY:WPES 2011
DESCRIPTION:Workshop on Privacy in the Electronic Society 
URL:http://www.wikicfp.com/cfp/servlet/event.showcfp?eventid=16753&copyow
 nerid=26361
UID:cfp184418-E@wikicfp.com
END:VEVENT
BEGIN:VEVENT
DTSTAMP:20260420T193018Z
DTSTART;VALUE=DATE:20110716
SUMMARY:WPES 2011 Deadline
DESCRIPTION:Workshop on Privacy in the Electronic Society 
URL:http://www.wikicfp.com/cfp/servlet/event.showcfp?eventid=16753&copyow
 nerid=26361
UID:cfp184418-D@wikicfp.com
END:VEVENT
BEGIN:VEVENT
DTSTAMP:20260420T193018Z
DTSTART;VALUE=DATE:20110814
SUMMARY:WPES 2011 Notification Due
DESCRIPTION:Workshop on Privacy in the Electronic Society 
URL:http://www.wikicfp.com/cfp/servlet/event.showcfp?eventid=16753&copyow
 nerid=26361
UID:cfp184418-N@wikicfp.com
END:VEVENT
BEGIN:VEVENT
DTSTAMP:20260420T193018Z
DTSTART;VALUE=DATE:20110825
SUMMARY:WPES 2011 Final Version Due
DESCRIPTION:Workshop on Privacy in the Electronic Society 
URL:http://www.wikicfp.com/cfp/servlet/event.showcfp?eventid=16753&copyow
 nerid=26361
UID:cfp184418-N@wikicfp.com
END:VEVENT
BEGIN:VEVENT
DTSTAMP:20260420T193018Z
DTSTART;VALUE=DATE:20111104
DTEND;VALUE=DATE:20111107
SUMMARY:ICITIS 2011
DESCRIPTION:2011 International Conference on Information Theory and Infor
 mation Security
URL:http://www.wikicfp.com/cfp/servlet/event.showcfp?eventid=14730&copyow
 nerid=26361
UID:cfp184419-E@wikicfp.com
END:VEVENT
BEGIN:VEVENT
DTSTAMP:20260420T193018Z
DTSTART;VALUE=DATE:20110731
SUMMARY:ICITIS 2011 Deadline
DESCRIPTION:2011 International Conference on Information Theory and Infor
 mation Security
URL:http://www.wikicfp.com/cfp/servlet/event.showcfp?eventid=14730&copyow
 nerid=26361
UID:cfp184419-D@wikicfp.com
END:VEVENT
BEGIN:VEVENT
DTSTAMP:20260420T193018Z
DTSTART;VALUE=DATE:20110831
SUMMARY:ICITIS 2011 Notification Due
DESCRIPTION:2011 International Conference on Information Theory and Infor
 mation Security
URL:http://www.wikicfp.com/cfp/servlet/event.showcfp?eventid=14730&copyow
 nerid=26361
UID:cfp184419-N@wikicfp.com
END:VEVENT
BEGIN:VEVENT
DTSTAMP:20260420T193018Z
DTSTART;VALUE=DATE:20110831
SUMMARY:ICITIS 2011 Final Version Due
DESCRIPTION:2011 International Conference on Information Theory and Infor
 mation Security
URL:http://www.wikicfp.com/cfp/servlet/event.showcfp?eventid=14730&copyow
 nerid=26361
UID:cfp184419-N@wikicfp.com
END:VEVENT
BEGIN:VEVENT
DTSTAMP:20260420T193018Z
DTSTART;VALUE=DATE:20120208
DTEND;VALUE=DATE:20120211
SUMMARY:CODASPY 2012
DESCRIPTION:Second ACM Conference on Data and Application Security and Pr
 ivacy
URL:http://www.wikicfp.com/cfp/servlet/event.showcfp?eventid=16339&copyow
 nerid=26361
UID:cfp184415-E@wikicfp.com
END:VEVENT
BEGIN:VEVENT
DTSTAMP:20260420T193018Z
DTSTART;VALUE=DATE:20110921
SUMMARY:CODASPY 2012 Deadline
DESCRIPTION:Second ACM Conference on Data and Application Security and Pr
 ivacy
URL:http://www.wikicfp.com/cfp/servlet/event.showcfp?eventid=16339&copyow
 nerid=26361
UID:cfp184415-D@wikicfp.com
END:VEVENT
BEGIN:VEVENT
DTSTAMP:20260420T193018Z
DTSTART;VALUE=DATE:20111101
SUMMARY:CODASPY 2012 Notification Due
DESCRIPTION:Second ACM Conference on Data and Application Security and Pr
 ivacy
URL:http://www.wikicfp.com/cfp/servlet/event.showcfp?eventid=16339&copyow
 nerid=26361
UID:cfp184415-N@wikicfp.com
END:VEVENT
BEGIN:VEVENT
DTSTAMP:20260420T193018Z
DTSTART;VALUE=DATE:20111201
SUMMARY:CODASPY 2012 Final Version Due
DESCRIPTION:Second ACM Conference on Data and Application Security and Pr
 ivacy
URL:http://www.wikicfp.com/cfp/servlet/event.showcfp?eventid=16339&copyow
 nerid=26361
UID:cfp184415-N@wikicfp.com
END:VEVENT
END:VCALENDAR
