BEGIN:VCALENDAR
PRODID:-//WikiCFP//farleysm 1.0//EN
VERSION:2.0
CALSCALE:GREGORIAN
BEGIN:VEVENT
DTSTAMP:20260419T172335Z
DTSTART;VALUE=DATE:20150919
SUMMARY:SCPE vol 17 issue  2015 Deadline
DESCRIPTION:Special Issue on High Performance Computing Solutions for Com
 plex Problems
URL:http://www.wikicfp.com/cfp/servlet/event.showcfp?eventid=46303&copyow
 nerid=25502
UID:cfp538634-D@wikicfp.com
END:VEVENT
BEGIN:VEVENT
DTSTAMP:20260419T172335Z
DTSTART;VALUE=DATE:20160301
SUMMARY:SCPE vol 17 issue  2015 Notification Due
DESCRIPTION:Special Issue on High Performance Computing Solutions for Com
 plex Problems
URL:http://www.wikicfp.com/cfp/servlet/event.showcfp?eventid=46303&copyow
 nerid=25502
UID:cfp538634-N@wikicfp.com
END:VEVENT
BEGIN:VEVENT
DTSTAMP:20260419T172335Z
DTSTART;VALUE=DATE:20160315
SUMMARY:SCPE vol 17 issue  2015 Final Version Due
DESCRIPTION:Special Issue on High Performance Computing Solutions for Com
 plex Problems
URL:http://www.wikicfp.com/cfp/servlet/event.showcfp?eventid=46303&copyow
 nerid=25502
UID:cfp538634-N@wikicfp.com
END:VEVENT
BEGIN:VEVENT
DTSTAMP:20260419T172335Z
DTSTART;VALUE=DATE:20200309
DTEND;VALUE=DATE:20200313
SUMMARY:ICICT--Ei Compendex and Scopus 2020
DESCRIPTION:2020 the 3rd International Conference on Information and Comp
 uter Technologies (ICICT 2020)--Ei Compendex and Scopus
URL:http://www.wikicfp.com/cfp/servlet/event.showcfp?eventid=90262&copyow
 nerid=25502
UID:cfp819278-E@wikicfp.com
END:VEVENT
BEGIN:VEVENT
DTSTAMP:20260419T172335Z
DTSTART;VALUE=DATE:20200115
SUMMARY:ICICT--Ei Compendex and Scopus 2020 Deadline
DESCRIPTION:2020 the 3rd International Conference on Information and Comp
 uter Technologies (ICICT 2020)--Ei Compendex and Scopus
URL:http://www.wikicfp.com/cfp/servlet/event.showcfp?eventid=90262&copyow
 nerid=25502
UID:cfp819278-D@wikicfp.com
END:VEVENT
BEGIN:VEVENT
DTSTAMP:20260419T172335Z
DTSTART;VALUE=DATE:20200624
DTEND;VALUE=DATE:20200627
SUMMARY:ICDIS 2020
DESCRIPTION:The 3rd International Conference on Data Intelligence and Sec
 urity
URL:http://www.wikicfp.com/cfp/servlet/event.showcfp?eventid=80075&copyow
 nerid=25502
UID:cfp819277-E@wikicfp.com
END:VEVENT
BEGIN:VEVENT
DTSTAMP:20260419T172335Z
DTSTART;VALUE=DATE:20200301
SUMMARY:ICDIS 2020 Deadline
DESCRIPTION:The 3rd International Conference on Data Intelligence and Sec
 urity
URL:http://www.wikicfp.com/cfp/servlet/event.showcfp?eventid=80075&copyow
 nerid=25502
UID:cfp819277-D@wikicfp.com
END:VEVENT
BEGIN:VEVENT
DTSTAMP:20260419T172335Z
DTSTART;VALUE=DATE:20200315
SUMMARY:ICDIS 2020 Notification Due
DESCRIPTION:The 3rd International Conference on Data Intelligence and Sec
 urity
URL:http://www.wikicfp.com/cfp/servlet/event.showcfp?eventid=80075&copyow
 nerid=25502
UID:cfp819277-N@wikicfp.com
END:VEVENT
BEGIN:VEVENT
DTSTAMP:20260419T172335Z
DTSTART;VALUE=DATE:20200331
SUMMARY:ICDIS 2020 Final Version Due
DESCRIPTION:The 3rd International Conference on Data Intelligence and Sec
 urity
URL:http://www.wikicfp.com/cfp/servlet/event.showcfp?eventid=80075&copyow
 nerid=25502
UID:cfp819277-N@wikicfp.com
END:VEVENT
BEGIN:VEVENT
DTSTAMP:20260419T172335Z
DTSTART;VALUE=DATE:20250907
SUMMARY:ORAJ 2025 Deadline
DESCRIPTION:Operations Research and Applications: An International Journa
 l 
URL:http://www.wikicfp.com/cfp/servlet/event.showcfp?eventid=88913&copyow
 nerid=25502
UID:cfp819276-D@wikicfp.com
END:VEVENT
BEGIN:VEVENT
DTSTAMP:20260419T172335Z
DTSTART;VALUE=DATE:20251007
SUMMARY:ORAJ 2025 Notification Due
DESCRIPTION:Operations Research and Applications: An International Journa
 l 
URL:http://www.wikicfp.com/cfp/servlet/event.showcfp?eventid=88913&copyow
 nerid=25502
UID:cfp819276-N@wikicfp.com
END:VEVENT
BEGIN:VEVENT
DTSTAMP:20260419T172335Z
DTSTART;VALUE=DATE:20251013
SUMMARY:ORAJ 2025 Final Version Due
DESCRIPTION:Operations Research and Applications: An International Journa
 l 
URL:http://www.wikicfp.com/cfp/servlet/event.showcfp?eventid=88913&copyow
 nerid=25502
UID:cfp819276-N@wikicfp.com
END:VEVENT
BEGIN:VEVENT
DTSTAMP:20260419T172335Z
DTSTART;VALUE=DATE:20260418
SUMMARY:IJCSIT 2026 Deadline
DESCRIPTION: International Journal of Computer Science and Information Te
 chnology -h-index 60
URL:http://www.wikicfp.com/cfp/servlet/event.showcfp?eventid=85336&copyow
 nerid=25502
UID:cfp819275-D@wikicfp.com
END:VEVENT
BEGIN:VEVENT
DTSTAMP:20260419T172335Z
DTSTART;VALUE=DATE:20260518
SUMMARY:IJCSIT 2026 Notification Due
DESCRIPTION: International Journal of Computer Science and Information Te
 chnology -h-index 60
URL:http://www.wikicfp.com/cfp/servlet/event.showcfp?eventid=85336&copyow
 nerid=25502
UID:cfp819275-N@wikicfp.com
END:VEVENT
BEGIN:VEVENT
DTSTAMP:20260419T172335Z
DTSTART;VALUE=DATE:20260525
SUMMARY:IJCSIT 2026 Final Version Due
DESCRIPTION: International Journal of Computer Science and Information Te
 chnology -h-index 60
URL:http://www.wikicfp.com/cfp/servlet/event.showcfp?eventid=85336&copyow
 nerid=25502
UID:cfp819275-N@wikicfp.com
END:VEVENT
END:VCALENDAR
