BEGIN:VCALENDAR
PRODID:-//WikiCFP//zhmtechie 1.0//EN
VERSION:2.0
CALSCALE:GREGORIAN
BEGIN:VEVENT
DTSTAMP:20260422T125356Z
DTSTART;VALUE=DATE:20210825
DTEND;VALUE=DATE:20210828
SUMMARY:TASE 2021
DESCRIPTION:The 15th International Symposium on Theoretical Aspects of So
 ftware Engineering
URL:http://www.wikicfp.com/cfp/servlet/event.showcfp?eventid=120840&copyo
 wnerid=25469
UID:cfp866137-E@wikicfp.com
END:VEVENT
BEGIN:VEVENT
DTSTAMP:20260422T125356Z
DTSTART;VALUE=DATE:20210228
SUMMARY:TASE 2021 Abstract Due
DESCRIPTION:The 15th International Symposium on Theoretical Aspects of So
 ftware Engineering
URL:http://www.wikicfp.com/cfp/servlet/event.showcfp?eventid=120840&copyo
 wnerid=25469
UID:cfp866137-A@wikicfp.com
END:VEVENT
BEGIN:VEVENT
DTSTAMP:20260422T125356Z
DTSTART;VALUE=DATE:20210307
SUMMARY:TASE 2021 Deadline
DESCRIPTION:The 15th International Symposium on Theoretical Aspects of So
 ftware Engineering
URL:http://www.wikicfp.com/cfp/servlet/event.showcfp?eventid=120840&copyo
 wnerid=25469
UID:cfp866137-D@wikicfp.com
END:VEVENT
BEGIN:VEVENT
DTSTAMP:20260422T125356Z
DTSTART;VALUE=DATE:20210507
SUMMARY:TASE 2021 Notification Due
DESCRIPTION:The 15th International Symposium on Theoretical Aspects of So
 ftware Engineering
URL:http://www.wikicfp.com/cfp/servlet/event.showcfp?eventid=120840&copyo
 wnerid=25469
UID:cfp866137-N@wikicfp.com
END:VEVENT
BEGIN:VEVENT
DTSTAMP:20260422T125356Z
DTSTART;VALUE=DATE:20210531
SUMMARY:TASE 2021 Final Version Due
DESCRIPTION:The 15th International Symposium on Theoretical Aspects of So
 ftware Engineering
URL:http://www.wikicfp.com/cfp/servlet/event.showcfp?eventid=120840&copyo
 wnerid=25469
UID:cfp866137-N@wikicfp.com
END:VEVENT
BEGIN:VEVENT
DTSTAMP:20260422T125356Z
DTSTART;VALUE=DATE:20221024
DTEND;VALUE=DATE:20221028
SUMMARY:ICFEM 2022
DESCRIPTION:23th International Conference on Formal Engineering Methods
URL:http://www.wikicfp.com/cfp/servlet/event.showcfp?eventid=152609&copyo
 wnerid=25469
UID:cfp915429-E@wikicfp.com
END:VEVENT
BEGIN:VEVENT
DTSTAMP:20260422T125356Z
DTSTART;VALUE=DATE:20220410
SUMMARY:ICFEM 2022 Abstract Due
DESCRIPTION:23th International Conference on Formal Engineering Methods
URL:http://www.wikicfp.com/cfp/servlet/event.showcfp?eventid=152609&copyo
 wnerid=25469
UID:cfp915429-A@wikicfp.com
END:VEVENT
BEGIN:VEVENT
DTSTAMP:20260422T125356Z
DTSTART;VALUE=DATE:20220417
SUMMARY:ICFEM 2022 Deadline
DESCRIPTION:23th International Conference on Formal Engineering Methods
URL:http://www.wikicfp.com/cfp/servlet/event.showcfp?eventid=152609&copyo
 wnerid=25469
UID:cfp915429-D@wikicfp.com
END:VEVENT
BEGIN:VEVENT
DTSTAMP:20260422T125356Z
DTSTART;VALUE=DATE:20220626
SUMMARY:ICFEM 2022 Notification Due
DESCRIPTION:23th International Conference on Formal Engineering Methods
URL:http://www.wikicfp.com/cfp/servlet/event.showcfp?eventid=152609&copyo
 wnerid=25469
UID:cfp915429-N@wikicfp.com
END:VEVENT
BEGIN:VEVENT
DTSTAMP:20260422T125356Z
DTSTART;VALUE=DATE:20220710
SUMMARY:ICFEM 2022 Final Version Due
DESCRIPTION:23th International Conference on Formal Engineering Methods
URL:http://www.wikicfp.com/cfp/servlet/event.showcfp?eventid=152609&copyo
 wnerid=25469
UID:cfp915429-N@wikicfp.com
END:VEVENT
END:VCALENDAR
