BEGIN:VCALENDAR
PRODID:-//WikiCFP//Amoell 1.0//EN
VERSION:2.0
CALSCALE:GREGORIAN
BEGIN:VEVENT
DTSTAMP:20260421T224708Z
DTSTART;VALUE=DATE:20110620
DTEND;VALUE=DATE:20110622
SUMMARY:exploreWeb 2011
DESCRIPTION:First International Workshop on Search\, Exploration and Navi
 gation of Web Data Sources
URL:http://www.wikicfp.com/cfp/servlet/event.showcfp?eventid=15088&copyow
 nerid=23244
UID:cfp161769-E@wikicfp.com
END:VEVENT
BEGIN:VEVENT
DTSTAMP:20260421T224708Z
DTSTART;VALUE=DATE:20110419
SUMMARY:exploreWeb 2011 Abstract Due
DESCRIPTION:First International Workshop on Search\, Exploration and Navi
 gation of Web Data Sources
URL:http://www.wikicfp.com/cfp/servlet/event.showcfp?eventid=15088&copyow
 nerid=23244
UID:cfp161769-A@wikicfp.com
END:VEVENT
BEGIN:VEVENT
DTSTAMP:20260421T224708Z
DTSTART;VALUE=DATE:20110426
SUMMARY:exploreWeb 2011 Deadline
DESCRIPTION:First International Workshop on Search\, Exploration and Navi
 gation of Web Data Sources
URL:http://www.wikicfp.com/cfp/servlet/event.showcfp?eventid=15088&copyow
 nerid=23244
UID:cfp161769-D@wikicfp.com
END:VEVENT
BEGIN:VEVENT
DTSTAMP:20260421T224708Z
DTSTART;VALUE=DATE:20110526
SUMMARY:exploreWeb 2011 Notification Due
DESCRIPTION:First International Workshop on Search\, Exploration and Navi
 gation of Web Data Sources
URL:http://www.wikicfp.com/cfp/servlet/event.showcfp?eventid=15088&copyow
 nerid=23244
UID:cfp161769-N@wikicfp.com
END:VEVENT
BEGIN:VEVENT
DTSTAMP:20260421T224708Z
DTSTART;VALUE=DATE:20110610
SUMMARY:exploreWeb 2011 Final Version Due
DESCRIPTION:First International Workshop on Search\, Exploration and Navi
 gation of Web Data Sources
URL:http://www.wikicfp.com/cfp/servlet/event.showcfp?eventid=15088&copyow
 nerid=23244
UID:cfp161769-N@wikicfp.com
END:VEVENT
BEGIN:VEVENT
DTSTAMP:20260421T224708Z
DTSTART;VALUE=DATE:20111010
DTEND;VALUE=DATE:20111013
SUMMARY:SUM 2011
DESCRIPTION:Fifth International Conference on Scalable Uncertainty Manage
 ment
URL:http://www.wikicfp.com/cfp/servlet/event.showcfp?eventid=13794&copyow
 nerid=23244
UID:cfp161766-E@wikicfp.com
END:VEVENT
BEGIN:VEVENT
DTSTAMP:20260421T224708Z
DTSTART;VALUE=DATE:20110504
SUMMARY:SUM 2011 Deadline
DESCRIPTION:Fifth International Conference on Scalable Uncertainty Manage
 ment
URL:http://www.wikicfp.com/cfp/servlet/event.showcfp?eventid=13794&copyow
 nerid=23244
UID:cfp161766-D@wikicfp.com
END:VEVENT
BEGIN:VEVENT
DTSTAMP:20260421T224708Z
DTSTART;VALUE=DATE:20110601
SUMMARY:SUM 2011 Notification Due
DESCRIPTION:Fifth International Conference on Scalable Uncertainty Manage
 ment
URL:http://www.wikicfp.com/cfp/servlet/event.showcfp?eventid=13794&copyow
 nerid=23244
UID:cfp161766-N@wikicfp.com
END:VEVENT
BEGIN:VEVENT
DTSTAMP:20260421T224708Z
DTSTART;VALUE=DATE:20110630
SUMMARY:SUM 2011 Final Version Due
DESCRIPTION:Fifth International Conference on Scalable Uncertainty Manage
 ment
URL:http://www.wikicfp.com/cfp/servlet/event.showcfp?eventid=13794&copyow
 nerid=23244
UID:cfp161766-N@wikicfp.com
END:VEVENT
BEGIN:VEVENT
DTSTAMP:20260421T224708Z
DTSTART;VALUE=DATE:20110825
DTEND;VALUE=DATE:20110828
SUMMARY:EDB 2011
DESCRIPTION:The Third International Conference on Emerging Databases - Te
 chnologies\, Applications and Theory
URL:http://www.wikicfp.com/cfp/servlet/event.showcfp?eventid=14975&copyow
 nerid=23244
UID:cfp161768-E@wikicfp.com
END:VEVENT
BEGIN:VEVENT
DTSTAMP:20260421T224708Z
DTSTART;VALUE=DATE:20110531
SUMMARY:EDB 2011 Deadline
DESCRIPTION:The Third International Conference on Emerging Databases - Te
 chnologies\, Applications and Theory
URL:http://www.wikicfp.com/cfp/servlet/event.showcfp?eventid=14975&copyow
 nerid=23244
UID:cfp161768-D@wikicfp.com
END:VEVENT
BEGIN:VEVENT
DTSTAMP:20260421T224708Z
DTSTART;VALUE=DATE:20110715
SUMMARY:EDB 2011 Notification Due
DESCRIPTION:The Third International Conference on Emerging Databases - Te
 chnologies\, Applications and Theory
URL:http://www.wikicfp.com/cfp/servlet/event.showcfp?eventid=14975&copyow
 nerid=23244
UID:cfp161768-N@wikicfp.com
END:VEVENT
BEGIN:VEVENT
DTSTAMP:20260421T224708Z
DTSTART;VALUE=DATE:20110731
SUMMARY:EDB 2011 Final Version Due
DESCRIPTION:The Third International Conference on Emerging Databases - Te
 chnologies\, Applications and Theory
URL:http://www.wikicfp.com/cfp/servlet/event.showcfp?eventid=14975&copyow
 nerid=23244
UID:cfp161768-N@wikicfp.com
END:VEVENT
BEGIN:VEVENT
DTSTAMP:20260421T224708Z
DTSTART;VALUE=DATE:20111010
DTEND;VALUE=DATE:20111013
SUMMARY:QoS-Workshop 2011
DESCRIPTION:The 1st International Workshop on Service Oriented QoS Manage
 ment from Theory to Practice
URL:http://www.wikicfp.com/cfp/servlet/event.showcfp?eventid=15214&copyow
 nerid=23244
UID:cfp161770-E@wikicfp.com
END:VEVENT
BEGIN:VEVENT
DTSTAMP:20260421T224708Z
DTSTART;VALUE=DATE:20110625
SUMMARY:QoS-Workshop 2011 Deadline
DESCRIPTION:The 1st International Workshop on Service Oriented QoS Manage
 ment from Theory to Practice
URL:http://www.wikicfp.com/cfp/servlet/event.showcfp?eventid=15214&copyow
 nerid=23244
UID:cfp161770-D@wikicfp.com
END:VEVENT
BEGIN:VEVENT
DTSTAMP:20260421T224708Z
DTSTART;VALUE=DATE:20110710
SUMMARY:QoS-Workshop 2011 Notification Due
DESCRIPTION:The 1st International Workshop on Service Oriented QoS Manage
 ment from Theory to Practice
URL:http://www.wikicfp.com/cfp/servlet/event.showcfp?eventid=15214&copyow
 nerid=23244
UID:cfp161770-N@wikicfp.com
END:VEVENT
BEGIN:VEVENT
DTSTAMP:20260421T224708Z
DTSTART;VALUE=DATE:20110801
SUMMARY:QoS-Workshop 2011 Final Version Due
DESCRIPTION:The 1st International Workshop on Service Oriented QoS Manage
 ment from Theory to Practice
URL:http://www.wikicfp.com/cfp/servlet/event.showcfp?eventid=15214&copyow
 nerid=23244
UID:cfp161770-N@wikicfp.com
END:VEVENT
BEGIN:VEVENT
DTSTAMP:20260421T224708Z
DTSTART;VALUE=DATE:20111026
DTEND;VALUE=DATE:20111029
SUMMARY:Oriental COCOSDA 2011
DESCRIPTION: International Conference on Speech Database and Assessments
URL:http://www.wikicfp.com/cfp/servlet/event.showcfp?eventid=14665&copyow
 nerid=23244
UID:cfp161767-E@wikicfp.com
END:VEVENT
BEGIN:VEVENT
DTSTAMP:20260421T224708Z
DTSTART;VALUE=DATE:20110701
SUMMARY:Oriental COCOSDA 2011 Deadline
DESCRIPTION: International Conference on Speech Database and Assessments
URL:http://www.wikicfp.com/cfp/servlet/event.showcfp?eventid=14665&copyow
 nerid=23244
UID:cfp161767-D@wikicfp.com
END:VEVENT
BEGIN:VEVENT
DTSTAMP:20260421T224708Z
DTSTART;VALUE=DATE:20110805
SUMMARY:Oriental COCOSDA 2011 Notification Due
DESCRIPTION: International Conference on Speech Database and Assessments
URL:http://www.wikicfp.com/cfp/servlet/event.showcfp?eventid=14665&copyow
 nerid=23244
UID:cfp161767-N@wikicfp.com
END:VEVENT
BEGIN:VEVENT
DTSTAMP:20260421T224708Z
DTSTART;VALUE=DATE:20110826
SUMMARY:Oriental COCOSDA 2011 Final Version Due
DESCRIPTION: International Conference on Speech Database and Assessments
URL:http://www.wikicfp.com/cfp/servlet/event.showcfp?eventid=14665&copyow
 nerid=23244
UID:cfp161767-N@wikicfp.com
END:VEVENT
END:VCALENDAR
