BEGIN:VCALENDAR
PRODID:-//WikiCFP//zhangxin 1.0//EN
VERSION:2.0
CALSCALE:GREGORIAN
BEGIN:VEVENT
DTSTAMP:20260423T045652Z
DTSTART;VALUE=DATE:20110717
DTEND;VALUE=DATE:20110720
SUMMARY:ICEEI 2011
DESCRIPTION:International Conference on Electrical Engineering and Inform
 atics 
URL:http://www.wikicfp.com/cfp/servlet/event.showcfp?eventid=14377&copyow
 nerid=22748
UID:cfp160284-E@wikicfp.com
END:VEVENT
BEGIN:VEVENT
DTSTAMP:20260423T045652Z
DTSTART;VALUE=DATE:20110411
SUMMARY:ICEEI 2011 Deadline
DESCRIPTION:International Conference on Electrical Engineering and Inform
 atics 
URL:http://www.wikicfp.com/cfp/servlet/event.showcfp?eventid=14377&copyow
 nerid=22748
UID:cfp160284-D@wikicfp.com
END:VEVENT
BEGIN:VEVENT
DTSTAMP:20260423T045652Z
DTSTART;VALUE=DATE:20110509
SUMMARY:ICEEI 2011 Notification Due
DESCRIPTION:International Conference on Electrical Engineering and Inform
 atics 
URL:http://www.wikicfp.com/cfp/servlet/event.showcfp?eventid=14377&copyow
 nerid=22748
UID:cfp160284-N@wikicfp.com
END:VEVENT
BEGIN:VEVENT
DTSTAMP:20260423T045652Z
DTSTART;VALUE=DATE:20110523
SUMMARY:ICEEI 2011 Final Version Due
DESCRIPTION:International Conference on Electrical Engineering and Inform
 atics 
URL:http://www.wikicfp.com/cfp/servlet/event.showcfp?eventid=14377&copyow
 nerid=22748
UID:cfp160284-N@wikicfp.com
END:VEVENT
END:VCALENDAR
