BEGIN:VCALENDAR
PRODID:-//WikiCFP//kmenycht 1.0//EN
VERSION:2.0
CALSCALE:GREGORIAN
BEGIN:VEVENT
DTSTAMP:20260423T034744Z
DTSTART;VALUE=DATE:20110124
DTEND;VALUE=DATE:20110127
SUMMARY:HIPEAC 2011
DESCRIPTION:6th International Conference on High-Performance and Embedded
  Architectures and Compilers
URL:http://www.wikicfp.com/cfp/servlet/event.showcfp?eventid=9966&copyown
 erid=22427
UID:cfp155122-E@wikicfp.com
END:VEVENT
BEGIN:VEVENT
DTSTAMP:20260423T034744Z
DTSTART;VALUE=DATE:20100520
SUMMARY:HIPEAC 2011 Abstract Due
DESCRIPTION:6th International Conference on High-Performance and Embedded
  Architectures and Compilers
URL:http://www.wikicfp.com/cfp/servlet/event.showcfp?eventid=9966&copyown
 erid=22427
UID:cfp155122-A@wikicfp.com
END:VEVENT
BEGIN:VEVENT
DTSTAMP:20260423T034744Z
DTSTART;VALUE=DATE:20100527
SUMMARY:HIPEAC 2011 Deadline
DESCRIPTION:6th International Conference on High-Performance and Embedded
  Architectures and Compilers
URL:http://www.wikicfp.com/cfp/servlet/event.showcfp?eventid=9966&copyown
 erid=22427
UID:cfp155122-D@wikicfp.com
END:VEVENT
BEGIN:VEVENT
DTSTAMP:20260423T034744Z
DTSTART;VALUE=DATE:20100721
SUMMARY:HIPEAC 2011 Notification Due
DESCRIPTION:6th International Conference on High-Performance and Embedded
  Architectures and Compilers
URL:http://www.wikicfp.com/cfp/servlet/event.showcfp?eventid=9966&copyown
 erid=22427
UID:cfp155122-N@wikicfp.com
END:VEVENT
BEGIN:VEVENT
DTSTAMP:20260423T034744Z
DTSTART;VALUE=DATE:20100930
SUMMARY:HIPEAC 2011 Final Version Due
DESCRIPTION:6th International Conference on High-Performance and Embedded
  Architectures and Compilers
URL:http://www.wikicfp.com/cfp/servlet/event.showcfp?eventid=9966&copyown
 erid=22427
UID:cfp155122-N@wikicfp.com
END:VEVENT
BEGIN:VEVENT
DTSTAMP:20260423T034744Z
DTSTART;VALUE=DATE:20100712
DTEND;VALUE=DATE:20100713
SUMMARY:HPCS 2010
DESCRIPTION:2010 International Conference on High Performance Computing S
 ystems 
URL:http://www.wikicfp.com/cfp/servlet/event.showcfp?eventid=8441&copyown
 erid=22427
UID:cfp155098-E@wikicfp.com
END:VEVENT
BEGIN:VEVENT
DTSTAMP:20260423T034744Z
DTSTART;VALUE=DATE:20100531
SUMMARY:HPCS 2010 Deadline
DESCRIPTION:2010 International Conference on High Performance Computing S
 ystems 
URL:http://www.wikicfp.com/cfp/servlet/event.showcfp?eventid=8441&copyown
 erid=22427
UID:cfp155098-D@wikicfp.com
END:VEVENT
BEGIN:VEVENT
DTSTAMP:20260423T034744Z
DTSTART;VALUE=DATE:20110516
DTEND;VALUE=DATE:20110523
SUMMARY:IPDPS 2011
DESCRIPTION:IEEE International Symposium on Parallel & Distributed Proces
 sing
URL:http://www.wikicfp.com/cfp/servlet/event.showcfp?eventid=8125&copyown
 erid=22427
UID:cfp155097-E@wikicfp.com
END:VEVENT
BEGIN:VEVENT
DTSTAMP:20260423T034744Z
DTSTART;VALUE=DATE:20101001
SUMMARY:IPDPS 2011 Deadline
DESCRIPTION:IEEE International Symposium on Parallel & Distributed Proces
 sing
URL:http://www.wikicfp.com/cfp/servlet/event.showcfp?eventid=8125&copyown
 erid=22427
UID:cfp155097-D@wikicfp.com
END:VEVENT
BEGIN:VEVENT
DTSTAMP:20260423T034744Z
DTSTART;VALUE=DATE:20101217
SUMMARY:IPDPS 2011 Notification Due
DESCRIPTION:IEEE International Symposium on Parallel & Distributed Proces
 sing
URL:http://www.wikicfp.com/cfp/servlet/event.showcfp?eventid=8125&copyown
 erid=22427
UID:cfp155097-N@wikicfp.com
END:VEVENT
BEGIN:VEVENT
DTSTAMP:20260423T034744Z
DTSTART;VALUE=DATE:20110201
SUMMARY:IPDPS 2011 Final Version Due
DESCRIPTION:IEEE International Symposium on Parallel & Distributed Proces
 sing
URL:http://www.wikicfp.com/cfp/servlet/event.showcfp?eventid=8125&copyown
 erid=22427
UID:cfp155097-N@wikicfp.com
END:VEVENT
BEGIN:VEVENT
DTSTAMP:20260423T034744Z
DTSTART;VALUE=DATE:20110526
DTEND;VALUE=DATE:20110529
SUMMARY:ISPA 2011
DESCRIPTION:IEEE 9th International Symposium on Parallel and Distributed 
 Processing with Applications
URL:http://www.wikicfp.com/cfp/servlet/event.showcfp?eventid=12068&copyow
 nerid=22427
UID:cfp155100-E@wikicfp.com
END:VEVENT
BEGIN:VEVENT
DTSTAMP:20260423T034744Z
DTSTART;VALUE=DATE:20101201
SUMMARY:ISPA 2011 Deadline
DESCRIPTION:IEEE 9th International Symposium on Parallel and Distributed 
 Processing with Applications
URL:http://www.wikicfp.com/cfp/servlet/event.showcfp?eventid=12068&copyow
 nerid=22427
UID:cfp155100-D@wikicfp.com
END:VEVENT
BEGIN:VEVENT
DTSTAMP:20260423T034744Z
DTSTART;VALUE=DATE:20110201
SUMMARY:ISPA 2011 Notification Due
DESCRIPTION:IEEE 9th International Symposium on Parallel and Distributed 
 Processing with Applications
URL:http://www.wikicfp.com/cfp/servlet/event.showcfp?eventid=12068&copyow
 nerid=22427
UID:cfp155100-N@wikicfp.com
END:VEVENT
BEGIN:VEVENT
DTSTAMP:20260423T034744Z
DTSTART;VALUE=DATE:20110225
SUMMARY:ISPA 2011 Final Version Due
DESCRIPTION:IEEE 9th International Symposium on Parallel and Distributed 
 Processing with Applications
URL:http://www.wikicfp.com/cfp/servlet/event.showcfp?eventid=12068&copyow
 nerid=22427
UID:cfp155100-N@wikicfp.com
END:VEVENT
BEGIN:VEVENT
DTSTAMP:20260423T034744Z
DTSTART;VALUE=DATE:20110604
DTEND;VALUE=DATE:20110605
SUMMARY:SPAA 2011
DESCRIPTION:ACM Symposium on Parallelism in Algorithms and Architectures
URL:http://www.wikicfp.com/cfp/servlet/event.showcfp?eventid=11714&copyow
 nerid=22427
UID:cfp155099-E@wikicfp.com
END:VEVENT
BEGIN:VEVENT
DTSTAMP:20260423T034744Z
DTSTART;VALUE=DATE:20110112
SUMMARY:SPAA 2011 Deadline
DESCRIPTION:ACM Symposium on Parallelism in Algorithms and Architectures
URL:http://www.wikicfp.com/cfp/servlet/event.showcfp?eventid=11714&copyow
 nerid=22427
UID:cfp155099-D@wikicfp.com
END:VEVENT
BEGIN:VEVENT
DTSTAMP:20260423T034744Z
DTSTART;VALUE=DATE:20110312
SUMMARY:SPAA 2011 Final Version Due
DESCRIPTION:ACM Symposium on Parallelism in Algorithms and Architectures
URL:http://www.wikicfp.com/cfp/servlet/event.showcfp?eventid=11714&copyow
 nerid=22427
UID:cfp155099-N@wikicfp.com
END:VEVENT
BEGIN:VEVENT
DTSTAMP:20260423T034744Z
DTSTART;VALUE=DATE:20110913
DTEND;VALUE=DATE:20110917
SUMMARY:ICPP 2011
DESCRIPTION:International Conference on Parallel Processing
URL:http://www.wikicfp.com/cfp/servlet/event.showcfp?eventid=12263&copyow
 nerid=22427
UID:cfp155096-E@wikicfp.com
END:VEVENT
BEGIN:VEVENT
DTSTAMP:20260423T034744Z
DTSTART;VALUE=DATE:20110315
SUMMARY:ICPP 2011 Deadline
DESCRIPTION:International Conference on Parallel Processing
URL:http://www.wikicfp.com/cfp/servlet/event.showcfp?eventid=12263&copyow
 nerid=22427
UID:cfp155096-D@wikicfp.com
END:VEVENT
BEGIN:VEVENT
DTSTAMP:20260423T034744Z
DTSTART;VALUE=DATE:20110525
SUMMARY:ICPP 2011 Notification Due
DESCRIPTION:International Conference on Parallel Processing
URL:http://www.wikicfp.com/cfp/servlet/event.showcfp?eventid=12263&copyow
 nerid=22427
UID:cfp155096-N@wikicfp.com
END:VEVENT
BEGIN:VEVENT
DTSTAMP:20260423T034744Z
DTSTART;VALUE=DATE:20110628
SUMMARY:ICPP 2011 Final Version Due
DESCRIPTION:International Conference on Parallel Processing
URL:http://www.wikicfp.com/cfp/servlet/event.showcfp?eventid=12263&copyow
 nerid=22427
UID:cfp155096-N@wikicfp.com
END:VEVENT
BEGIN:VEVENT
DTSTAMP:20260423T034744Z
DTSTART;VALUE=DATE:20110911
DTEND;VALUE=DATE:20110915
SUMMARY:ASAP 2011
DESCRIPTION:IEEE International Conference on Application-specific Systems
 \, Architectures and Processors
URL:http://www.wikicfp.com/cfp/servlet/event.showcfp?eventid=12133&copyow
 nerid=22427
UID:cfp155123-E@wikicfp.com
END:VEVENT
BEGIN:VEVENT
DTSTAMP:20260423T034744Z
DTSTART;VALUE=DATE:20110318
SUMMARY:ASAP 2011 Deadline
DESCRIPTION:IEEE International Conference on Application-specific Systems
 \, Architectures and Processors
URL:http://www.wikicfp.com/cfp/servlet/event.showcfp?eventid=12133&copyow
 nerid=22427
UID:cfp155123-D@wikicfp.com
END:VEVENT
BEGIN:VEVENT
DTSTAMP:20260423T034744Z
DTSTART;VALUE=DATE:20110523
SUMMARY:ASAP 2011 Notification Due
DESCRIPTION:IEEE International Conference on Application-specific Systems
 \, Architectures and Processors
URL:http://www.wikicfp.com/cfp/servlet/event.showcfp?eventid=12133&copyow
 nerid=22427
UID:cfp155123-N@wikicfp.com
END:VEVENT
BEGIN:VEVENT
DTSTAMP:20260423T034744Z
DTSTART;VALUE=DATE:20110613
SUMMARY:ASAP 2011 Final Version Due
DESCRIPTION:IEEE International Conference on Application-specific Systems
 \, Architectures and Processors
URL:http://www.wikicfp.com/cfp/servlet/event.showcfp?eventid=12133&copyow
 nerid=22427
UID:cfp155123-N@wikicfp.com
END:VEVENT
BEGIN:VEVENT
DTSTAMP:20260423T034744Z
DTSTART;VALUE=DATE:20111010
DTEND;VALUE=DATE:20111015
SUMMARY:PACT 2011
DESCRIPTION:The Twentieth International Conference on Parallel Architectu
 res and Compilation Techniques
URL:http://www.wikicfp.com/cfp/servlet/event.showcfp?eventid=13403&copyow
 nerid=22427
UID:cfp160123-E@wikicfp.com
END:VEVENT
BEGIN:VEVENT
DTSTAMP:20260423T034744Z
DTSTART;VALUE=DATE:20110318
SUMMARY:PACT 2011 Abstract Due
DESCRIPTION:The Twentieth International Conference on Parallel Architectu
 res and Compilation Techniques
URL:http://www.wikicfp.com/cfp/servlet/event.showcfp?eventid=13403&copyow
 nerid=22427
UID:cfp160123-A@wikicfp.com
END:VEVENT
BEGIN:VEVENT
DTSTAMP:20260423T034744Z
DTSTART;VALUE=DATE:20110325
SUMMARY:PACT 2011 Deadline
DESCRIPTION:The Twentieth International Conference on Parallel Architectu
 res and Compilation Techniques
URL:http://www.wikicfp.com/cfp/servlet/event.showcfp?eventid=13403&copyow
 nerid=22427
UID:cfp160123-D@wikicfp.com
END:VEVENT
BEGIN:VEVENT
DTSTAMP:20260423T034744Z
DTSTART;VALUE=DATE:20110531
DTEND;VALUE=DATE:20110601
SUMMARY:ROSS 2011
DESCRIPTION:International Workshop on Runtime and Operating Systems for S
 upercomputers
URL:http://www.wikicfp.com/cfp/servlet/event.showcfp?eventid=14861&copyow
 nerid=22427
UID:cfp155105-E@wikicfp.com
END:VEVENT
BEGIN:VEVENT
DTSTAMP:20260423T034744Z
DTSTART;VALUE=DATE:20110328
SUMMARY:ROSS 2011 Deadline
DESCRIPTION:International Workshop on Runtime and Operating Systems for S
 upercomputers
URL:http://www.wikicfp.com/cfp/servlet/event.showcfp?eventid=14861&copyow
 nerid=22427
UID:cfp155105-D@wikicfp.com
END:VEVENT
BEGIN:VEVENT
DTSTAMP:20260423T034744Z
DTSTART;VALUE=DATE:20110418
SUMMARY:ROSS 2011 Notification Due
DESCRIPTION:International Workshop on Runtime and Operating Systems for S
 upercomputers
URL:http://www.wikicfp.com/cfp/servlet/event.showcfp?eventid=14861&copyow
 nerid=22427
UID:cfp155105-N@wikicfp.com
END:VEVENT
BEGIN:VEVENT
DTSTAMP:20260423T034744Z
DTSTART;VALUE=DATE:20110829
DTEND;VALUE=DATE:20110903
SUMMARY:ParCo 2011
DESCRIPTION:Parallel Computing
URL:http://www.wikicfp.com/cfp/servlet/event.showcfp?eventid=13551&copyow
 nerid=22427
UID:cfp155102-E@wikicfp.com
END:VEVENT
BEGIN:VEVENT
DTSTAMP:20260423T034744Z
DTSTART;VALUE=DATE:20110331
SUMMARY:ParCo 2011 Deadline
DESCRIPTION:Parallel Computing
URL:http://www.wikicfp.com/cfp/servlet/event.showcfp?eventid=13551&copyow
 nerid=22427
UID:cfp155102-D@wikicfp.com
END:VEVENT
BEGIN:VEVENT
DTSTAMP:20260423T034744Z
DTSTART;VALUE=DATE:20110601
SUMMARY:ParCo 2011 Notification Due
DESCRIPTION:Parallel Computing
URL:http://www.wikicfp.com/cfp/servlet/event.showcfp?eventid=13551&copyow
 nerid=22427
UID:cfp155102-N@wikicfp.com
END:VEVENT
BEGIN:VEVENT
DTSTAMP:20260423T034744Z
DTSTART;VALUE=DATE:20110731
SUMMARY:ParCo 2011 Final Version Due
DESCRIPTION:Parallel Computing
URL:http://www.wikicfp.com/cfp/servlet/event.showcfp?eventid=13551&copyow
 nerid=22427
UID:cfp155102-N@wikicfp.com
END:VEVENT
BEGIN:VEVENT
DTSTAMP:20260423T034744Z
DTSTART;VALUE=DATE:20110926
DTEND;VALUE=DATE:20111001
SUMMARY:Cluster 2011
DESCRIPTION:IEEE Cluster 2011
URL:http://www.wikicfp.com/cfp/servlet/event.showcfp?eventid=14259&copyow
 nerid=22427
UID:cfp155104-E@wikicfp.com
END:VEVENT
BEGIN:VEVENT
DTSTAMP:20260423T034744Z
DTSTART;VALUE=DATE:20110502
SUMMARY:Cluster 2011 Deadline
DESCRIPTION:IEEE Cluster 2011
URL:http://www.wikicfp.com/cfp/servlet/event.showcfp?eventid=14259&copyow
 nerid=22427
UID:cfp155104-D@wikicfp.com
END:VEVENT
BEGIN:VEVENT
DTSTAMP:20260423T034744Z
DTSTART;VALUE=DATE:20110620
SUMMARY:Cluster 2011 Notification Due
DESCRIPTION:IEEE Cluster 2011
URL:http://www.wikicfp.com/cfp/servlet/event.showcfp?eventid=14259&copyow
 nerid=22427
UID:cfp155104-N@wikicfp.com
END:VEVENT
BEGIN:VEVENT
DTSTAMP:20260423T034744Z
DTSTART;VALUE=DATE:20110715
SUMMARY:Cluster 2011 Final Version Due
DESCRIPTION:IEEE Cluster 2011
URL:http://www.wikicfp.com/cfp/servlet/event.showcfp?eventid=14259&copyow
 nerid=22427
UID:cfp155104-N@wikicfp.com
END:VEVENT
BEGIN:VEVENT
DTSTAMP:20260423T034744Z
DTSTART;VALUE=DATE:20111207
DTEND;VALUE=DATE:20111210
SUMMARY:ICPADS 2011
DESCRIPTION:IEEE 17th International Conference on Parallel and Distribute
 d Systems
URL:http://www.wikicfp.com/cfp/servlet/event.showcfp?eventid=14012&copyow
 nerid=22427
UID:cfp155103-E@wikicfp.com
END:VEVENT
BEGIN:VEVENT
DTSTAMP:20260423T034744Z
DTSTART;VALUE=DATE:20110624
SUMMARY:ICPADS 2011 Deadline
DESCRIPTION:IEEE 17th International Conference on Parallel and Distribute
 d Systems
URL:http://www.wikicfp.com/cfp/servlet/event.showcfp?eventid=14012&copyow
 nerid=22427
UID:cfp155103-D@wikicfp.com
END:VEVENT
BEGIN:VEVENT
DTSTAMP:20260423T034744Z
DTSTART;VALUE=DATE:20110905
SUMMARY:ICPADS 2011 Notification Due
DESCRIPTION:IEEE 17th International Conference on Parallel and Distribute
 d Systems
URL:http://www.wikicfp.com/cfp/servlet/event.showcfp?eventid=14012&copyow
 nerid=22427
UID:cfp155103-N@wikicfp.com
END:VEVENT
BEGIN:VEVENT
DTSTAMP:20260423T034744Z
DTSTART;VALUE=DATE:20111007
SUMMARY:ICPADS 2011 Final Version Due
DESCRIPTION:IEEE 17th International Conference on Parallel and Distribute
 d Systems
URL:http://www.wikicfp.com/cfp/servlet/event.showcfp?eventid=14012&copyow
 nerid=22427
UID:cfp155103-N@wikicfp.com
END:VEVENT
BEGIN:VEVENT
DTSTAMP:20260423T034744Z
DTSTART;VALUE=DATE:20111004
DTEND;VALUE=DATE:20111008
SUMMARY:PGAS 2011
DESCRIPTION:Partitioned Global Address Space Conference
URL:http://www.wikicfp.com/cfp/servlet/event.showcfp?eventid=12613&copyow
 nerid=22427
UID:cfp155101-E@wikicfp.com
END:VEVENT
BEGIN:VEVENT
DTSTAMP:20260423T034744Z
DTSTART;VALUE=DATE:20110701
SUMMARY:PGAS 2011 Abstract Due
DESCRIPTION:Partitioned Global Address Space Conference
URL:http://www.wikicfp.com/cfp/servlet/event.showcfp?eventid=12613&copyow
 nerid=22427
UID:cfp155101-A@wikicfp.com
END:VEVENT
BEGIN:VEVENT
DTSTAMP:20260423T034744Z
DTSTART;VALUE=DATE:20110708
SUMMARY:PGAS 2011 Deadline
DESCRIPTION:Partitioned Global Address Space Conference
URL:http://www.wikicfp.com/cfp/servlet/event.showcfp?eventid=12613&copyow
 nerid=22427
UID:cfp155101-D@wikicfp.com
END:VEVENT
BEGIN:VEVENT
DTSTAMP:20260423T034744Z
DTSTART;VALUE=DATE:20110829
SUMMARY:PGAS 2011 Notification Due
DESCRIPTION:Partitioned Global Address Space Conference
URL:http://www.wikicfp.com/cfp/servlet/event.showcfp?eventid=12613&copyow
 nerid=22427
UID:cfp155101-N@wikicfp.com
END:VEVENT
BEGIN:VEVENT
DTSTAMP:20260423T034744Z
DTSTART;VALUE=DATE:20110926
SUMMARY:PGAS 2011 Final Version Due
DESCRIPTION:Partitioned Global Address Space Conference
URL:http://www.wikicfp.com/cfp/servlet/event.showcfp?eventid=12613&copyow
 nerid=22427
UID:cfp155101-N@wikicfp.com
END:VEVENT
END:VCALENDAR
