BEGIN:VCALENDAR
PRODID:-//WikiCFP//anipui 1.0//EN
VERSION:2.0
CALSCALE:GREGORIAN
BEGIN:VEVENT
DTSTAMP:20260425T161532Z
DTSTART;VALUE=DATE:20100823
DTEND;VALUE=DATE:20100826
SUMMARY:IASTED-HCI 2010
DESCRIPTION:The Fifth IASTED International Conference on Human-Computer I
 nteraction
URL:http://www.wikicfp.com/cfp/servlet/event.showcfp?eventid=8377&copyown
 erid=22269
UID:cfp158102-E@wikicfp.com
END:VEVENT
BEGIN:VEVENT
DTSTAMP:20260425T161532Z
DTSTART;VALUE=DATE:20100630
SUMMARY:IASTED-HCI 2010 Abstract Due
DESCRIPTION:The Fifth IASTED International Conference on Human-Computer I
 nteraction
URL:http://www.wikicfp.com/cfp/servlet/event.showcfp?eventid=8377&copyown
 erid=22269
UID:cfp158102-A@wikicfp.com
END:VEVENT
BEGIN:VEVENT
DTSTAMP:20260425T161532Z
DTSTART;VALUE=DATE:20100401
SUMMARY:IASTED-HCI 2010 Deadline
DESCRIPTION:The Fifth IASTED International Conference on Human-Computer I
 nteraction
URL:http://www.wikicfp.com/cfp/servlet/event.showcfp?eventid=8377&copyown
 erid=22269
UID:cfp158102-D@wikicfp.com
END:VEVENT
BEGIN:VEVENT
DTSTAMP:20260425T161532Z
DTSTART;VALUE=DATE:20100515
SUMMARY:IASTED-HCI 2010 Notification Due
DESCRIPTION:The Fifth IASTED International Conference on Human-Computer I
 nteraction
URL:http://www.wikicfp.com/cfp/servlet/event.showcfp?eventid=8377&copyown
 erid=22269
UID:cfp158102-N@wikicfp.com
END:VEVENT
BEGIN:VEVENT
DTSTAMP:20260425T161532Z
DTSTART;VALUE=DATE:20100615
SUMMARY:IASTED-HCI 2010 Final Version Due
DESCRIPTION:The Fifth IASTED International Conference on Human-Computer I
 nteraction
URL:http://www.wikicfp.com/cfp/servlet/event.showcfp?eventid=8377&copyown
 erid=22269
UID:cfp158102-N@wikicfp.com
END:VEVENT
BEGIN:VEVENT
DTSTAMP:20260425T161532Z
DTSTART;VALUE=DATE:20110728
DTEND;VALUE=DATE:20110731
SUMMARY:Assessment in the Arts 2011
DESCRIPTION:Assessment in the Arts
URL:http://www.wikicfp.com/cfp/servlet/event.showcfp?eventid=13724&copyow
 nerid=22269
UID:cfp154284-E@wikicfp.com
END:VEVENT
BEGIN:VEVENT
DTSTAMP:20260425T161532Z
DTSTART;VALUE=DATE:20110228
SUMMARY:Assessment in the Arts 2011 Deadline
DESCRIPTION:Assessment in the Arts
URL:http://www.wikicfp.com/cfp/servlet/event.showcfp?eventid=13724&copyow
 nerid=22269
UID:cfp154284-D@wikicfp.com
END:VEVENT
BEGIN:VEVENT
DTSTAMP:20260425T161532Z
DTSTART;VALUE=DATE:20110829
DTEND;VALUE=DATE:20110901
SUMMARY:CollabTech  2011
DESCRIPTION:The 6th International Conference on Collaboration Technologie
 s
URL:http://www.wikicfp.com/cfp/servlet/event.showcfp?eventid=11249&copyow
 nerid=22269
UID:cfp159201-E@wikicfp.com
END:VEVENT
BEGIN:VEVENT
DTSTAMP:20260425T161532Z
DTSTART;VALUE=DATE:20110314
SUMMARY:CollabTech  2011 Deadline
DESCRIPTION:The 6th International Conference on Collaboration Technologie
 s
URL:http://www.wikicfp.com/cfp/servlet/event.showcfp?eventid=11249&copyow
 nerid=22269
UID:cfp159201-D@wikicfp.com
END:VEVENT
BEGIN:VEVENT
DTSTAMP:20260425T161532Z
DTSTART;VALUE=DATE:20110531
SUMMARY:CollabTech  2011 Notification Due
DESCRIPTION:The 6th International Conference on Collaboration Technologie
 s
URL:http://www.wikicfp.com/cfp/servlet/event.showcfp?eventid=11249&copyow
 nerid=22269
UID:cfp159201-N@wikicfp.com
END:VEVENT
BEGIN:VEVENT
DTSTAMP:20260425T161532Z
DTSTART;VALUE=DATE:20110615
DTEND;VALUE=DATE:20110618
SUMMARY:SPDECE  2011
DESCRIPTION:Multidisciplinary symposium on the design and evaluation of d
 igital content for education
URL:http://www.wikicfp.com/cfp/servlet/event.showcfp?eventid=11998&copyow
 nerid=22269
UID:cfp154286-E@wikicfp.com
END:VEVENT
BEGIN:VEVENT
DTSTAMP:20260425T161532Z
DTSTART;VALUE=DATE:20110318
SUMMARY:SPDECE  2011 Deadline
DESCRIPTION:Multidisciplinary symposium on the design and evaluation of d
 igital content for education
URL:http://www.wikicfp.com/cfp/servlet/event.showcfp?eventid=11998&copyow
 nerid=22269
UID:cfp154286-D@wikicfp.com
END:VEVENT
BEGIN:VEVENT
DTSTAMP:20260425T161532Z
DTSTART;VALUE=DATE:20110429
SUMMARY:SPDECE  2011 Notification Due
DESCRIPTION:Multidisciplinary symposium on the design and evaluation of d
 igital content for education
URL:http://www.wikicfp.com/cfp/servlet/event.showcfp?eventid=11998&copyow
 nerid=22269
UID:cfp154286-N@wikicfp.com
END:VEVENT
BEGIN:VEVENT
DTSTAMP:20260425T161532Z
DTSTART;VALUE=DATE:20110513
SUMMARY:SPDECE  2011 Final Version Due
DESCRIPTION:Multidisciplinary symposium on the design and evaluation of d
 igital content for education
URL:http://www.wikicfp.com/cfp/servlet/event.showcfp?eventid=11998&copyow
 nerid=22269
UID:cfp154286-N@wikicfp.com
END:VEVENT
BEGIN:VEVENT
DTSTAMP:20260425T161532Z
DTSTART;VALUE=DATE:20110725
DTEND;VALUE=DATE:20110727
SUMMARY:CS 2011
DESCRIPTION:2nd International Workshop on Creative Science - Science Fict
 ion Prototyping
URL:http://www.wikicfp.com/cfp/servlet/event.showcfp?eventid=14622&copyow
 nerid=22269
UID:cfp158099-E@wikicfp.com
END:VEVENT
BEGIN:VEVENT
DTSTAMP:20260425T161532Z
DTSTART;VALUE=DATE:20110328
SUMMARY:CS 2011 Deadline
DESCRIPTION:2nd International Workshop on Creative Science - Science Fict
 ion Prototyping
URL:http://www.wikicfp.com/cfp/servlet/event.showcfp?eventid=14622&copyow
 nerid=22269
UID:cfp158099-D@wikicfp.com
END:VEVENT
BEGIN:VEVENT
DTSTAMP:20260425T161532Z
DTSTART;VALUE=DATE:20110425
SUMMARY:CS 2011 Notification Due
DESCRIPTION:2nd International Workshop on Creative Science - Science Fict
 ion Prototyping
URL:http://www.wikicfp.com/cfp/servlet/event.showcfp?eventid=14622&copyow
 nerid=22269
UID:cfp158099-N@wikicfp.com
END:VEVENT
BEGIN:VEVENT
DTSTAMP:20260425T161532Z
DTSTART;VALUE=DATE:20110509
SUMMARY:CS 2011 Final Version Due
DESCRIPTION:2nd International Workshop on Creative Science - Science Fict
 ion Prototyping
URL:http://www.wikicfp.com/cfp/servlet/event.showcfp?eventid=14622&copyow
 nerid=22269
UID:cfp158099-N@wikicfp.com
END:VEVENT
BEGIN:VEVENT
DTSTAMP:20260425T161532Z
DTSTART;VALUE=DATE:20110725
DTEND;VALUE=DATE:20110727
SUMMARY:SciT 2011
DESCRIPTION:Scientific Theatre: Multidisciplinary Approach to Designing I
 ntelligent Environments
URL:http://www.wikicfp.com/cfp/servlet/event.showcfp?eventid=14839&copyow
 nerid=22269
UID:cfp154283-E@wikicfp.com
END:VEVENT
BEGIN:VEVENT
DTSTAMP:20260425T161532Z
DTSTART;VALUE=DATE:20110418
SUMMARY:SciT 2011 Deadline
DESCRIPTION:Scientific Theatre: Multidisciplinary Approach to Designing I
 ntelligent Environments
URL:http://www.wikicfp.com/cfp/servlet/event.showcfp?eventid=14839&copyow
 nerid=22269
UID:cfp154283-D@wikicfp.com
END:VEVENT
BEGIN:VEVENT
DTSTAMP:20260425T161532Z
DTSTART;VALUE=DATE:20110425
SUMMARY:SciT 2011 Notification Due
DESCRIPTION:Scientific Theatre: Multidisciplinary Approach to Designing I
 ntelligent Environments
URL:http://www.wikicfp.com/cfp/servlet/event.showcfp?eventid=14839&copyow
 nerid=22269
UID:cfp154283-N@wikicfp.com
END:VEVENT
BEGIN:VEVENT
DTSTAMP:20260425T161532Z
DTSTART;VALUE=DATE:20110509
SUMMARY:SciT 2011 Final Version Due
DESCRIPTION:Scientific Theatre: Multidisciplinary Approach to Designing I
 ntelligent Environments
URL:http://www.wikicfp.com/cfp/servlet/event.showcfp?eventid=14839&copyow
 nerid=22269
UID:cfp154283-N@wikicfp.com
END:VEVENT
BEGIN:VEVENT
DTSTAMP:20260425T161532Z
DTSTART;VALUE=DATE:20111103
DTEND;VALUE=DATE:20111107
SUMMARY:C&C 2011
DESCRIPTION:ACM Conference on Creativity and Cognition
URL:http://www.wikicfp.com/cfp/servlet/event.showcfp?eventid=13449&copyow
 nerid=22269
UID:cfp159199-E@wikicfp.com
END:VEVENT
BEGIN:VEVENT
DTSTAMP:20260425T161532Z
DTSTART;VALUE=DATE:20110425
SUMMARY:C&C 2011 Deadline
DESCRIPTION:ACM Conference on Creativity and Cognition
URL:http://www.wikicfp.com/cfp/servlet/event.showcfp?eventid=13449&copyow
 nerid=22269
UID:cfp159199-D@wikicfp.com
END:VEVENT
BEGIN:VEVENT
DTSTAMP:20260425T161532Z
DTSTART;VALUE=DATE:20110623
DTEND;VALUE=DATE:20110624
SUMMARY:Chi Sparks 2011
DESCRIPTION:HCI research\, innovation and implementation
URL:http://www.wikicfp.com/cfp/servlet/event.showcfp?eventid=14843&copyow
 nerid=22269
UID:cfp158100-E@wikicfp.com
END:VEVENT
BEGIN:VEVENT
DTSTAMP:20260425T161532Z
DTSTART;VALUE=DATE:20110426
SUMMARY:Chi Sparks 2011 Deadline
DESCRIPTION:HCI research\, innovation and implementation
URL:http://www.wikicfp.com/cfp/servlet/event.showcfp?eventid=14843&copyow
 nerid=22269
UID:cfp158100-D@wikicfp.com
END:VEVENT
BEGIN:VEVENT
DTSTAMP:20260425T161532Z
DTSTART;VALUE=DATE:20110530
SUMMARY:Chi Sparks 2011 Notification Due
DESCRIPTION:HCI research\, innovation and implementation
URL:http://www.wikicfp.com/cfp/servlet/event.showcfp?eventid=14843&copyow
 nerid=22269
UID:cfp158100-N@wikicfp.com
END:VEVENT
BEGIN:VEVENT
DTSTAMP:20260425T161532Z
DTSTART;VALUE=DATE:20110613
SUMMARY:Chi Sparks 2011 Final Version Due
DESCRIPTION:HCI research\, innovation and implementation
URL:http://www.wikicfp.com/cfp/servlet/event.showcfp?eventid=14843&copyow
 nerid=22269
UID:cfp158100-N@wikicfp.com
END:VEVENT
BEGIN:VEVENT
DTSTAMP:20260425T161532Z
DTSTART;VALUE=DATE:20110527
DTEND;VALUE=DATE:20110531
SUMMARY:ACAH 2011 2011
DESCRIPTION:The Asian Conference on Arts & Humanities 2011
URL:http://www.wikicfp.com/cfp/servlet/event.showcfp?eventid=12395&copyow
 nerid=22269
UID:cfp154285-E@wikicfp.com
END:VEVENT
BEGIN:VEVENT
DTSTAMP:20260425T161532Z
DTSTART;VALUE=DATE:20110401
SUMMARY:ACAH 2011 2011 Abstract Due
DESCRIPTION:The Asian Conference on Arts & Humanities 2011
URL:http://www.wikicfp.com/cfp/servlet/event.showcfp?eventid=12395&copyow
 nerid=22269
UID:cfp154285-A@wikicfp.com
END:VEVENT
BEGIN:VEVENT
DTSTAMP:20260425T161532Z
DTSTART;VALUE=DATE:20110501
SUMMARY:ACAH 2011 2011 Deadline
DESCRIPTION:The Asian Conference on Arts & Humanities 2011
URL:http://www.wikicfp.com/cfp/servlet/event.showcfp?eventid=12395&copyow
 nerid=22269
UID:cfp154285-D@wikicfp.com
END:VEVENT
BEGIN:VEVENT
DTSTAMP:20260425T161532Z
DTSTART;VALUE=DATE:20110501
SUMMARY:ACAH 2011 2011 Final Version Due
DESCRIPTION:The Asian Conference on Arts & Humanities 2011
URL:http://www.wikicfp.com/cfp/servlet/event.showcfp?eventid=12395&copyow
 nerid=22269
UID:cfp154285-N@wikicfp.com
END:VEVENT
BEGIN:VEVENT
DTSTAMP:20260425T161532Z
DTSTART;VALUE=DATE:20110515
SUMMARY:AoIS-Springer 2011 Deadline
DESCRIPTION:Virtual Communities\, Social Networks and Collaboration
URL:http://www.wikicfp.com/cfp/servlet/event.showcfp?eventid=15061&copyow
 nerid=22269
UID:cfp159202-D@wikicfp.com
END:VEVENT
BEGIN:VEVENT
DTSTAMP:20260425T161532Z
DTSTART;VALUE=DATE:20110615
SUMMARY:AoIS-Springer 2011 Notification Due
DESCRIPTION:Virtual Communities\, Social Networks and Collaboration
URL:http://www.wikicfp.com/cfp/servlet/event.showcfp?eventid=15061&copyow
 nerid=22269
UID:cfp159202-N@wikicfp.com
END:VEVENT
BEGIN:VEVENT
DTSTAMP:20260425T161532Z
DTSTART;VALUE=DATE:20110730
SUMMARY:AoIS-Springer 2011 Final Version Due
DESCRIPTION:Virtual Communities\, Social Networks and Collaboration
URL:http://www.wikicfp.com/cfp/servlet/event.showcfp?eventid=15061&copyow
 nerid=22269
UID:cfp159202-N@wikicfp.com
END:VEVENT
BEGIN:VEVENT
DTSTAMP:20260425T161532Z
DTSTART;VALUE=DATE:20111212
DTEND;VALUE=DATE:20111216
SUMMARY:SIGGRAPH ASIA 2011
DESCRIPTION:SIGGRAPH ASIA
URL:http://www.wikicfp.com/cfp/servlet/event.showcfp?eventid=14042&copyow
 nerid=22269
UID:cfp154261-E@wikicfp.com
END:VEVENT
BEGIN:VEVENT
DTSTAMP:20260425T161532Z
DTSTART;VALUE=DATE:20110517
SUMMARY:SIGGRAPH ASIA 2011 Deadline
DESCRIPTION:SIGGRAPH ASIA
URL:http://www.wikicfp.com/cfp/servlet/event.showcfp?eventid=14042&copyow
 nerid=22269
UID:cfp154261-D@wikicfp.com
END:VEVENT
BEGIN:VEVENT
DTSTAMP:20260425T161532Z
DTSTART;VALUE=DATE:20110830
DTEND;VALUE=DATE:20110831
SUMMARY:MERE 2011
DESCRIPTION:Fifth International Workshop on Multimedia and Enjoyable Requ
 irements Engineering - Beyond Mere Descriptions and with More Fun and Ga
 mes
URL:http://www.wikicfp.com/cfp/servlet/event.showcfp?eventid=16246&copyow
 nerid=22269
UID:cfp176307-E@wikicfp.com
END:VEVENT
BEGIN:VEVENT
DTSTAMP:20260425T161532Z
DTSTART;VALUE=DATE:20110526
SUMMARY:MERE 2011 Deadline
DESCRIPTION:Fifth International Workshop on Multimedia and Enjoyable Requ
 irements Engineering - Beyond Mere Descriptions and with More Fun and Ga
 mes
URL:http://www.wikicfp.com/cfp/servlet/event.showcfp?eventid=16246&copyow
 nerid=22269
UID:cfp176307-D@wikicfp.com
END:VEVENT
BEGIN:VEVENT
DTSTAMP:20260425T161532Z
DTSTART;VALUE=DATE:20110623
SUMMARY:MERE 2011 Notification Due
DESCRIPTION:Fifth International Workshop on Multimedia and Enjoyable Requ
 irements Engineering - Beyond Mere Descriptions and with More Fun and Ga
 mes
URL:http://www.wikicfp.com/cfp/servlet/event.showcfp?eventid=16246&copyow
 nerid=22269
UID:cfp176307-N@wikicfp.com
END:VEVENT
BEGIN:VEVENT
DTSTAMP:20260425T161532Z
DTSTART;VALUE=DATE:20110721
SUMMARY:MERE 2011 Final Version Due
DESCRIPTION:Fifth International Workshop on Multimedia and Enjoyable Requ
 irements Engineering - Beyond Mere Descriptions and with More Fun and Ga
 mes
URL:http://www.wikicfp.com/cfp/servlet/event.showcfp?eventid=16246&copyow
 nerid=22269
UID:cfp176307-N@wikicfp.com
END:VEVENT
BEGIN:VEVENT
DTSTAMP:20260425T161532Z
DTSTART;VALUE=DATE:20111010
DTEND;VALUE=DATE:20111013
SUMMARY:Cognitive-Workshop 2011
DESCRIPTION:The 1st International Workshop on Cognitive-inspired Networks
 \, Systems and Applications
URL:http://www.wikicfp.com/cfp/servlet/event.showcfp?eventid=15058&copyow
 nerid=22269
UID:cfp154574-E@wikicfp.com
END:VEVENT
BEGIN:VEVENT
DTSTAMP:20260425T161532Z
DTSTART;VALUE=DATE:20110625
SUMMARY:Cognitive-Workshop 2011 Deadline
DESCRIPTION:The 1st International Workshop on Cognitive-inspired Networks
 \, Systems and Applications
URL:http://www.wikicfp.com/cfp/servlet/event.showcfp?eventid=15058&copyow
 nerid=22269
UID:cfp154574-D@wikicfp.com
END:VEVENT
BEGIN:VEVENT
DTSTAMP:20260425T161532Z
DTSTART;VALUE=DATE:20110710
SUMMARY:Cognitive-Workshop 2011 Notification Due
DESCRIPTION:The 1st International Workshop on Cognitive-inspired Networks
 \, Systems and Applications
URL:http://www.wikicfp.com/cfp/servlet/event.showcfp?eventid=15058&copyow
 nerid=22269
UID:cfp154574-N@wikicfp.com
END:VEVENT
BEGIN:VEVENT
DTSTAMP:20260425T161532Z
DTSTART;VALUE=DATE:20110801
SUMMARY:Cognitive-Workshop 2011 Final Version Due
DESCRIPTION:The 1st International Workshop on Cognitive-inspired Networks
 \, Systems and Applications
URL:http://www.wikicfp.com/cfp/servlet/event.showcfp?eventid=15058&copyow
 nerid=22269
UID:cfp154574-N@wikicfp.com
END:VEVENT
BEGIN:VEVENT
DTSTAMP:20260425T161532Z
DTSTART;VALUE=DATE:20111205
DTEND;VALUE=DATE:20111208
SUMMARY:ISM 2011
DESCRIPTION:IEEE International Symposium on Multimedia
URL:http://www.wikicfp.com/cfp/servlet/event.showcfp?eventid=15266&copyow
 nerid=22269
UID:cfp158101-E@wikicfp.com
END:VEVENT
BEGIN:VEVENT
DTSTAMP:20260425T161532Z
DTSTART;VALUE=DATE:20110706
SUMMARY:ISM 2011 Deadline
DESCRIPTION:IEEE International Symposium on Multimedia
URL:http://www.wikicfp.com/cfp/servlet/event.showcfp?eventid=15266&copyow
 nerid=22269
UID:cfp158101-D@wikicfp.com
END:VEVENT
END:VCALENDAR
