BEGIN:VCALENDAR
PRODID:-//WikiCFP//garbage 1.0//EN
VERSION:2.0
CALSCALE:GREGORIAN
BEGIN:VEVENT
DTSTAMP:20260424T024507Z
DTSTART;VALUE=DATE:20111101
DTEND;VALUE=DATE:20111105
SUMMARY:SenSys Demo 2011
DESCRIPTION:ACM SenSys 2011 - Call for Demos
URL:http://www.wikicfp.com/cfp/servlet/event.showcfp?eventid=16523&copyow
 nerid=22102
UID:cfp234647-E@wikicfp.com
END:VEVENT
BEGIN:VEVENT
DTSTAMP:20260424T024507Z
DTSTART;VALUE=DATE:20110722
SUMMARY:SenSys Demo 2011 Deadline
DESCRIPTION:ACM SenSys 2011 - Call for Demos
URL:http://www.wikicfp.com/cfp/servlet/event.showcfp?eventid=16523&copyow
 nerid=22102
UID:cfp234647-D@wikicfp.com
END:VEVENT
BEGIN:VEVENT
DTSTAMP:20260424T024507Z
DTSTART;VALUE=DATE:20110805
SUMMARY:SenSys Demo 2011 Notification Due
DESCRIPTION:ACM SenSys 2011 - Call for Demos
URL:http://www.wikicfp.com/cfp/servlet/event.showcfp?eventid=16523&copyow
 nerid=22102
UID:cfp234647-N@wikicfp.com
END:VEVENT
BEGIN:VEVENT
DTSTAMP:20260424T024507Z
DTSTART;VALUE=DATE:20110819
SUMMARY:SenSys Demo 2011 Final Version Due
DESCRIPTION:ACM SenSys 2011 - Call for Demos
URL:http://www.wikicfp.com/cfp/servlet/event.showcfp?eventid=16523&copyow
 nerid=22102
UID:cfp234647-N@wikicfp.com
END:VEVENT
BEGIN:VEVENT
DTSTAMP:20260424T024507Z
DTSTART;VALUE=DATE:20120319
DTEND;VALUE=DATE:20120324
SUMMARY:PerCom 2012
DESCRIPTION:IEEE 10th International Conference on Pervasive Computing and
  Communications
URL:http://www.wikicfp.com/cfp/servlet/event.showcfp?eventid=17056&copyow
 nerid=22102
UID:cfp234616-E@wikicfp.com
END:VEVENT
BEGIN:VEVENT
DTSTAMP:20260424T024507Z
DTSTART;VALUE=DATE:20110923
SUMMARY:PerCom 2012 Abstract Due
DESCRIPTION:IEEE 10th International Conference on Pervasive Computing and
  Communications
URL:http://www.wikicfp.com/cfp/servlet/event.showcfp?eventid=17056&copyow
 nerid=22102
UID:cfp234616-A@wikicfp.com
END:VEVENT
BEGIN:VEVENT
DTSTAMP:20260424T024507Z
DTSTART;VALUE=DATE:20110926
SUMMARY:PerCom 2012 Deadline
DESCRIPTION:IEEE 10th International Conference on Pervasive Computing and
  Communications
URL:http://www.wikicfp.com/cfp/servlet/event.showcfp?eventid=17056&copyow
 nerid=22102
UID:cfp234616-D@wikicfp.com
END:VEVENT
BEGIN:VEVENT
DTSTAMP:20260424T024507Z
DTSTART;VALUE=DATE:20111220
SUMMARY:PerCom 2012 Notification Due
DESCRIPTION:IEEE 10th International Conference on Pervasive Computing and
  Communications
URL:http://www.wikicfp.com/cfp/servlet/event.showcfp?eventid=17056&copyow
 nerid=22102
UID:cfp234616-N@wikicfp.com
END:VEVENT
BEGIN:VEVENT
DTSTAMP:20260424T024507Z
DTSTART;VALUE=DATE:20120127
SUMMARY:PerCom 2012 Final Version Due
DESCRIPTION:IEEE 10th International Conference on Pervasive Computing and
  Communications
URL:http://www.wikicfp.com/cfp/servlet/event.showcfp?eventid=17056&copyow
 nerid=22102
UID:cfp234616-N@wikicfp.com
END:VEVENT
BEGIN:VEVENT
DTSTAMP:20260424T024507Z
DTSTART;VALUE=DATE:20120411
DTEND;VALUE=DATE:20120414
SUMMARY:EuroSys 2012
DESCRIPTION:12th European Conference on Computer Systems
URL:http://www.wikicfp.com/cfp/servlet/event.showcfp?eventid=16876&copyow
 nerid=22102
UID:cfp234615-E@wikicfp.com
END:VEVENT
BEGIN:VEVENT
DTSTAMP:20260424T024507Z
DTSTART;VALUE=DATE:20111014
SUMMARY:EuroSys 2012 Abstract Due
DESCRIPTION:12th European Conference on Computer Systems
URL:http://www.wikicfp.com/cfp/servlet/event.showcfp?eventid=16876&copyow
 nerid=22102
UID:cfp234615-A@wikicfp.com
END:VEVENT
BEGIN:VEVENT
DTSTAMP:20260424T024507Z
DTSTART;VALUE=DATE:20111020
SUMMARY:EuroSys 2012 Deadline
DESCRIPTION:12th European Conference on Computer Systems
URL:http://www.wikicfp.com/cfp/servlet/event.showcfp?eventid=16876&copyow
 nerid=22102
UID:cfp234615-D@wikicfp.com
END:VEVENT
BEGIN:VEVENT
DTSTAMP:20260424T024507Z
DTSTART;VALUE=DATE:20120108
SUMMARY:EuroSys 2012 Notification Due
DESCRIPTION:12th European Conference on Computer Systems
URL:http://www.wikicfp.com/cfp/servlet/event.showcfp?eventid=16876&copyow
 nerid=22102
UID:cfp234615-N@wikicfp.com
END:VEVENT
BEGIN:VEVENT
DTSTAMP:20260424T024507Z
DTSTART;VALUE=DATE:20120110
SUMMARY:EuroSys 2012 Final Version Due
DESCRIPTION:12th European Conference on Computer Systems
URL:http://www.wikicfp.com/cfp/servlet/event.showcfp?eventid=16876&copyow
 nerid=22102
UID:cfp234615-N@wikicfp.com
END:VEVENT
BEGIN:VEVENT
DTSTAMP:20260424T024507Z
DTSTART;VALUE=DATE:20120618
DTEND;VALUE=DATE:20120623
SUMMARY:Pervasive 2012
DESCRIPTION:The 10th International Conference on Pervasive Computing
URL:http://www.wikicfp.com/cfp/servlet/event.showcfp?eventid=18134&copyow
 nerid=22102
UID:cfp234617-E@wikicfp.com
END:VEVENT
BEGIN:VEVENT
DTSTAMP:20260424T024507Z
DTSTART;VALUE=DATE:20111114
SUMMARY:Pervasive 2012 Deadline
DESCRIPTION:The 10th International Conference on Pervasive Computing
URL:http://www.wikicfp.com/cfp/servlet/event.showcfp?eventid=18134&copyow
 nerid=22102
UID:cfp234617-D@wikicfp.com
END:VEVENT
BEGIN:VEVENT
DTSTAMP:20260424T024507Z
DTSTART;VALUE=DATE:20120214
SUMMARY:Pervasive 2012 Notification Due
DESCRIPTION:The 10th International Conference on Pervasive Computing
URL:http://www.wikicfp.com/cfp/servlet/event.showcfp?eventid=18134&copyow
 nerid=22102
UID:cfp234617-N@wikicfp.com
END:VEVENT
BEGIN:VEVENT
DTSTAMP:20260424T024507Z
DTSTART;VALUE=DATE:20120228
SUMMARY:Pervasive 2012 Final Version Due
DESCRIPTION:The 10th International Conference on Pervasive Computing
URL:http://www.wikicfp.com/cfp/servlet/event.showcfp?eventid=18134&copyow
 nerid=22102
UID:cfp234617-N@wikicfp.com
END:VEVENT
BEGIN:VEVENT
DTSTAMP:20260424T024507Z
DTSTART;VALUE=DATE:20120618
DTEND;VALUE=DATE:20120622
SUMMARY:SECON 2012
DESCRIPTION:IEEE Communications Society Conference on Sensor\, Mesh and A
 d Hoc Communications and Networks
URL:http://www.wikicfp.com/cfp/servlet/event.showcfp?eventid=17935&copyow
 nerid=22102
UID:cfp234618-E@wikicfp.com
END:VEVENT
BEGIN:VEVENT
DTSTAMP:20260424T024507Z
DTSTART;VALUE=DATE:20111201
SUMMARY:SECON 2012 Abstract Due
DESCRIPTION:IEEE Communications Society Conference on Sensor\, Mesh and A
 d Hoc Communications and Networks
URL:http://www.wikicfp.com/cfp/servlet/event.showcfp?eventid=17935&copyow
 nerid=22102
UID:cfp234618-A@wikicfp.com
END:VEVENT
BEGIN:VEVENT
DTSTAMP:20260424T024507Z
DTSTART;VALUE=DATE:20111208
SUMMARY:SECON 2012 Deadline
DESCRIPTION:IEEE Communications Society Conference on Sensor\, Mesh and A
 d Hoc Communications and Networks
URL:http://www.wikicfp.com/cfp/servlet/event.showcfp?eventid=17935&copyow
 nerid=22102
UID:cfp234618-D@wikicfp.com
END:VEVENT
BEGIN:VEVENT
DTSTAMP:20260424T024507Z
DTSTART;VALUE=DATE:20120319
SUMMARY:SECON 2012 Notification Due
DESCRIPTION:IEEE Communications Society Conference on Sensor\, Mesh and A
 d Hoc Communications and Networks
URL:http://www.wikicfp.com/cfp/servlet/event.showcfp?eventid=17935&copyow
 nerid=22102
UID:cfp234618-N@wikicfp.com
END:VEVENT
BEGIN:VEVENT
DTSTAMP:20260424T024507Z
DTSTART;VALUE=DATE:20120416
SUMMARY:SECON 2012 Final Version Due
DESCRIPTION:IEEE Communications Society Conference on Sensor\, Mesh and A
 d Hoc Communications and Networks
URL:http://www.wikicfp.com/cfp/servlet/event.showcfp?eventid=17935&copyow
 nerid=22102
UID:cfp234618-N@wikicfp.com
END:VEVENT
BEGIN:VEVENT
DTSTAMP:20260424T024507Z
DTSTART;VALUE=DATE:20120626
DTEND;VALUE=DATE:20120630
SUMMARY:MobiSys 2012
DESCRIPTION:The 10th Annual International Conference on Mobile Systems\, 
 Applications\, and Services
URL:http://www.wikicfp.com/cfp/servlet/event.showcfp?eventid=18529&copyow
 nerid=22102
UID:cfp234614-E@wikicfp.com
END:VEVENT
BEGIN:VEVENT
DTSTAMP:20260424T024507Z
DTSTART;VALUE=DATE:20111209
SUMMARY:MobiSys 2012 Abstract Due
DESCRIPTION:The 10th Annual International Conference on Mobile Systems\, 
 Applications\, and Services
URL:http://www.wikicfp.com/cfp/servlet/event.showcfp?eventid=18529&copyow
 nerid=22102
UID:cfp234614-A@wikicfp.com
END:VEVENT
BEGIN:VEVENT
DTSTAMP:20260424T024507Z
DTSTART;VALUE=DATE:20111216
SUMMARY:MobiSys 2012 Deadline
DESCRIPTION:The 10th Annual International Conference on Mobile Systems\, 
 Applications\, and Services
URL:http://www.wikicfp.com/cfp/servlet/event.showcfp?eventid=18529&copyow
 nerid=22102
UID:cfp234614-D@wikicfp.com
END:VEVENT
BEGIN:VEVENT
DTSTAMP:20260424T024507Z
DTSTART;VALUE=DATE:20120305
SUMMARY:MobiSys 2012 Notification Due
DESCRIPTION:The 10th Annual International Conference on Mobile Systems\, 
 Applications\, and Services
URL:http://www.wikicfp.com/cfp/servlet/event.showcfp?eventid=18529&copyow
 nerid=22102
UID:cfp234614-N@wikicfp.com
END:VEVENT
BEGIN:VEVENT
DTSTAMP:20260424T024507Z
DTSTART;VALUE=DATE:20121105
DTEND;VALUE=DATE:20121109
SUMMARY:SmartGridComm 2012
DESCRIPTION:IEEE Third International Conference on Smart Grid Communicati
 ons
URL:http://www.wikicfp.com/cfp/servlet/event.showcfp?eventid=19527&copyow
 nerid=22102
UID:cfp234619-E@wikicfp.com
END:VEVENT
BEGIN:VEVENT
DTSTAMP:20260424T024507Z
DTSTART;VALUE=DATE:20120506
SUMMARY:SmartGridComm 2012 Deadline
DESCRIPTION:IEEE Third International Conference on Smart Grid Communicati
 ons
URL:http://www.wikicfp.com/cfp/servlet/event.showcfp?eventid=19527&copyow
 nerid=22102
UID:cfp234619-D@wikicfp.com
END:VEVENT
BEGIN:VEVENT
DTSTAMP:20260424T024507Z
DTSTART;VALUE=DATE:20120718
SUMMARY:SmartGridComm 2012 Notification Due
DESCRIPTION:IEEE Third International Conference on Smart Grid Communicati
 ons
URL:http://www.wikicfp.com/cfp/servlet/event.showcfp?eventid=19527&copyow
 nerid=22102
UID:cfp234619-N@wikicfp.com
END:VEVENT
BEGIN:VEVENT
DTSTAMP:20260424T024507Z
DTSTART;VALUE=DATE:20120801
SUMMARY:SmartGridComm 2012 Final Version Due
DESCRIPTION:IEEE Third International Conference on Smart Grid Communicati
 ons
URL:http://www.wikicfp.com/cfp/servlet/event.showcfp?eventid=19527&copyow
 nerid=22102
UID:cfp234619-N@wikicfp.com
END:VEVENT
END:VCALENDAR
