BEGIN:VCALENDAR
PRODID:-//WikiCFP//chrisargenta 1.0//EN
VERSION:2.0
CALSCALE:GREGORIAN
BEGIN:VEVENT
DTSTAMP:20260421T165908Z
DTSTART;VALUE=DATE:20110717
DTEND;VALUE=DATE:20110719
SUMMARY:CLIMA XII 2011
DESCRIPTION:12th International Workshop on Computational Logic in Multi-A
 gent Systems 
URL:http://www.wikicfp.com/cfp/servlet/event.showcfp?eventid=13838&copyow
 nerid=22043
UID:cfp152380-E@wikicfp.com
END:VEVENT
BEGIN:VEVENT
DTSTAMP:20260421T165908Z
DTSTART;VALUE=DATE:20110404
SUMMARY:CLIMA XII 2011 Abstract Due
DESCRIPTION:12th International Workshop on Computational Logic in Multi-A
 gent Systems 
URL:http://www.wikicfp.com/cfp/servlet/event.showcfp?eventid=13838&copyow
 nerid=22043
UID:cfp152380-A@wikicfp.com
END:VEVENT
BEGIN:VEVENT
DTSTAMP:20260421T165908Z
DTSTART;VALUE=DATE:20110408
SUMMARY:CLIMA XII 2011 Deadline
DESCRIPTION:12th International Workshop on Computational Logic in Multi-A
 gent Systems 
URL:http://www.wikicfp.com/cfp/servlet/event.showcfp?eventid=13838&copyow
 nerid=22043
UID:cfp152380-D@wikicfp.com
END:VEVENT
BEGIN:VEVENT
DTSTAMP:20260421T165908Z
DTSTART;VALUE=DATE:20110504
SUMMARY:CLIMA XII 2011 Notification Due
DESCRIPTION:12th International Workshop on Computational Logic in Multi-A
 gent Systems 
URL:http://www.wikicfp.com/cfp/servlet/event.showcfp?eventid=13838&copyow
 nerid=22043
UID:cfp152380-N@wikicfp.com
END:VEVENT
BEGIN:VEVENT
DTSTAMP:20260421T165908Z
DTSTART;VALUE=DATE:20110516
SUMMARY:CLIMA XII 2011 Final Version Due
DESCRIPTION:12th International Workshop on Computational Logic in Multi-A
 gent Systems 
URL:http://www.wikicfp.com/cfp/servlet/event.showcfp?eventid=13838&copyow
 nerid=22043
UID:cfp152380-N@wikicfp.com
END:VEVENT
BEGIN:VEVENT
DTSTAMP:20260421T165908Z
DTSTART;VALUE=DATE:20110807
DTEND;VALUE=DATE:20110809
SUMMARY:PAIR 2011
DESCRIPTION:AAAI Workshop on Plan\, Activity\, and Intent Recognition
URL:http://www.wikicfp.com/cfp/servlet/event.showcfp?eventid=15189&copyow
 nerid=22043
UID:cfp164740-E@wikicfp.com
END:VEVENT
BEGIN:VEVENT
DTSTAMP:20260421T165908Z
DTSTART;VALUE=DATE:20110422
SUMMARY:PAIR 2011 Deadline
DESCRIPTION:AAAI Workshop on Plan\, Activity\, and Intent Recognition
URL:http://www.wikicfp.com/cfp/servlet/event.showcfp?eventid=15189&copyow
 nerid=22043
UID:cfp164740-D@wikicfp.com
END:VEVENT
BEGIN:VEVENT
DTSTAMP:20260421T165908Z
DTSTART;VALUE=DATE:20110513
SUMMARY:PAIR 2011 Notification Due
DESCRIPTION:AAAI Workshop on Plan\, Activity\, and Intent Recognition
URL:http://www.wikicfp.com/cfp/servlet/event.showcfp?eventid=15189&copyow
 nerid=22043
UID:cfp164740-N@wikicfp.com
END:VEVENT
BEGIN:VEVENT
DTSTAMP:20260421T165908Z
DTSTART;VALUE=DATE:20110527
SUMMARY:PAIR 2011 Final Version Due
DESCRIPTION:AAAI Workshop on Plan\, Activity\, and Intent Recognition
URL:http://www.wikicfp.com/cfp/servlet/event.showcfp?eventid=15189&copyow
 nerid=22043
UID:cfp164740-N@wikicfp.com
END:VEVENT
BEGIN:VEVENT
DTSTAMP:20260421T165908Z
DTSTART;VALUE=DATE:20110901
DTEND;VALUE=DATE:20110903
SUMMARY:REACTS 2011
DESCRIPTION:Workshop on Recognition and Action for Scene understanding
URL:http://www.wikicfp.com/cfp/servlet/event.showcfp?eventid=12428&copyow
 nerid=22043
UID:cfp152381-E@wikicfp.com
END:VEVENT
BEGIN:VEVENT
DTSTAMP:20260421T165908Z
DTSTART;VALUE=DATE:20110515
SUMMARY:REACTS 2011 Deadline
DESCRIPTION:Workshop on Recognition and Action for Scene understanding
URL:http://www.wikicfp.com/cfp/servlet/event.showcfp?eventid=12428&copyow
 nerid=22043
UID:cfp152381-D@wikicfp.com
END:VEVENT
BEGIN:VEVENT
DTSTAMP:20260421T165908Z
DTSTART;VALUE=DATE:20110615
SUMMARY:REACTS 2011 Notification Due
DESCRIPTION:Workshop on Recognition and Action for Scene understanding
URL:http://www.wikicfp.com/cfp/servlet/event.showcfp?eventid=12428&copyow
 nerid=22043
UID:cfp152381-N@wikicfp.com
END:VEVENT
BEGIN:VEVENT
DTSTAMP:20260421T165908Z
DTSTART;VALUE=DATE:20110630
SUMMARY:REACTS 2011 Final Version Due
DESCRIPTION:Workshop on Recognition and Action for Scene understanding
URL:http://www.wikicfp.com/cfp/servlet/event.showcfp?eventid=12428&copyow
 nerid=22043
UID:cfp152381-N@wikicfp.com
END:VEVENT
BEGIN:VEVENT
DTSTAMP:20260421T165908Z
DTSTART;VALUE=DATE:20110415
DTEND;VALUE=DATE:20110816
SUMMARY:IJAI special issue on metaheuristics 2011
DESCRIPTION:Special issue of Int. J. Artificial Intelligence (IJAI) on  M
 etaheuristics in Artificial Intelligence
URL:http://www.wikicfp.com/cfp/servlet/event.showcfp?eventid=13925&copyow
 nerid=22043
UID:cfp152378-E@wikicfp.com
END:VEVENT
BEGIN:VEVENT
DTSTAMP:20260421T165908Z
DTSTART;VALUE=DATE:20110415
SUMMARY:IJAI special issue on metaheuristics 2011 Abstract Due
DESCRIPTION:Special issue of Int. J. Artificial Intelligence (IJAI) on  M
 etaheuristics in Artificial Intelligence
URL:http://www.wikicfp.com/cfp/servlet/event.showcfp?eventid=13925&copyow
 nerid=22043
UID:cfp152378-A@wikicfp.com
END:VEVENT
BEGIN:VEVENT
DTSTAMP:20260421T165908Z
DTSTART;VALUE=DATE:20110615
SUMMARY:IJAI special issue on metaheuristics 2011 Deadline
DESCRIPTION:Special issue of Int. J. Artificial Intelligence (IJAI) on  M
 etaheuristics in Artificial Intelligence
URL:http://www.wikicfp.com/cfp/servlet/event.showcfp?eventid=13925&copyow
 nerid=22043
UID:cfp152378-D@wikicfp.com
END:VEVENT
BEGIN:VEVENT
DTSTAMP:20260421T165908Z
DTSTART;VALUE=DATE:20110715
SUMMARY:IJAI special issue on metaheuristics 2011 Notification Due
DESCRIPTION:Special issue of Int. J. Artificial Intelligence (IJAI) on  M
 etaheuristics in Artificial Intelligence
URL:http://www.wikicfp.com/cfp/servlet/event.showcfp?eventid=13925&copyow
 nerid=22043
UID:cfp152378-N@wikicfp.com
END:VEVENT
BEGIN:VEVENT
DTSTAMP:20260421T165908Z
DTSTART;VALUE=DATE:20110815
SUMMARY:IJAI special issue on metaheuristics 2011 Final Version Due
DESCRIPTION:Special issue of Int. J. Artificial Intelligence (IJAI) on  M
 etaheuristics in Artificial Intelligence
URL:http://www.wikicfp.com/cfp/servlet/event.showcfp?eventid=13925&copyow
 nerid=22043
UID:cfp152378-N@wikicfp.com
END:VEVENT
BEGIN:VEVENT
DTSTAMP:20260421T165908Z
DTSTART;VALUE=DATE:20111107
DTEND;VALUE=DATE:20111110
SUMMARY:ICTAI 2011
DESCRIPTION:23rd IEEE International Conference on Tools with Artificial I
 ntelligence
URL:http://www.wikicfp.com/cfp/servlet/event.showcfp?eventid=13709&copyow
 nerid=22043
UID:cfp152379-E@wikicfp.com
END:VEVENT
BEGIN:VEVENT
DTSTAMP:20260421T165908Z
DTSTART;VALUE=DATE:20110701
SUMMARY:ICTAI 2011 Deadline
DESCRIPTION:23rd IEEE International Conference on Tools with Artificial I
 ntelligence
URL:http://www.wikicfp.com/cfp/servlet/event.showcfp?eventid=13709&copyow
 nerid=22043
UID:cfp152379-D@wikicfp.com
END:VEVENT
BEGIN:VEVENT
DTSTAMP:20260421T165908Z
DTSTART;VALUE=DATE:20110815
SUMMARY:ICTAI 2011 Notification Due
DESCRIPTION:23rd IEEE International Conference on Tools with Artificial I
 ntelligence
URL:http://www.wikicfp.com/cfp/servlet/event.showcfp?eventid=13709&copyow
 nerid=22043
UID:cfp152379-N@wikicfp.com
END:VEVENT
BEGIN:VEVENT
DTSTAMP:20260421T165908Z
DTSTART;VALUE=DATE:20110831
SUMMARY:ICTAI 2011 Final Version Due
DESCRIPTION:23rd IEEE International Conference on Tools with Artificial I
 ntelligence
URL:http://www.wikicfp.com/cfp/servlet/event.showcfp?eventid=13709&copyow
 nerid=22043
UID:cfp152379-N@wikicfp.com
END:VEVENT
END:VCALENDAR
