BEGIN:VCALENDAR
PRODID:-//WikiCFP//blovesj 1.0//EN
VERSION:2.0
CALSCALE:GREGORIAN
BEGIN:VEVENT
DTSTAMP:20260421T153029Z
DTSTART;VALUE=DATE:20090306
DTEND;VALUE=DATE:20090307
SUMMARY:GSN 2009
DESCRIPTION:First Workshop on Global Sensor Networks
URL:http://www.wikicfp.com/cfp/servlet/event.showcfp?eventid=3607&copyown
 erid=2183
UID:cfp17179-E@wikicfp.com
END:VEVENT
BEGIN:VEVENT
DTSTAMP:20260421T153029Z
DTSTART;VALUE=DATE:20081031
SUMMARY:GSN 2009 Deadline
DESCRIPTION:First Workshop on Global Sensor Networks
URL:http://www.wikicfp.com/cfp/servlet/event.showcfp?eventid=3607&copyown
 erid=2183
UID:cfp17179-D@wikicfp.com
END:VEVENT
BEGIN:VEVENT
DTSTAMP:20260421T153029Z
DTSTART;VALUE=DATE:20081130
SUMMARY:GSN 2009 Notification Due
DESCRIPTION:First Workshop on Global Sensor Networks
URL:http://www.wikicfp.com/cfp/servlet/event.showcfp?eventid=3607&copyown
 erid=2183
UID:cfp17179-N@wikicfp.com
END:VEVENT
BEGIN:VEVENT
DTSTAMP:20260421T153029Z
DTSTART;VALUE=DATE:20081227
SUMMARY:GSN 2009 Final Version Due
DESCRIPTION:First Workshop on Global Sensor Networks
URL:http://www.wikicfp.com/cfp/servlet/event.showcfp?eventid=3607&copyown
 erid=2183
UID:cfp17179-N@wikicfp.com
END:VEVENT
BEGIN:VEVENT
DTSTAMP:20260421T153029Z
DTSTART;VALUE=DATE:20090615
DTEND;VALUE=DATE:20090620
SUMMARY:WoWMoM 2009
DESCRIPTION:10th IEEE International Symposium on a World of Wireless\, Mo
 bile and Multimedia Networks
URL:http://www.wikicfp.com/cfp/servlet/event.showcfp?eventid=3852&copyown
 erid=2183
UID:cfp17178-E@wikicfp.com
END:VEVENT
BEGIN:VEVENT
DTSTAMP:20260421T153029Z
DTSTART;VALUE=DATE:20081208
SUMMARY:WoWMoM 2009 Deadline
DESCRIPTION:10th IEEE International Symposium on a World of Wireless\, Mo
 bile and Multimedia Networks
URL:http://www.wikicfp.com/cfp/servlet/event.showcfp?eventid=3852&copyown
 erid=2183
UID:cfp17178-D@wikicfp.com
END:VEVENT
BEGIN:VEVENT
DTSTAMP:20260421T153029Z
DTSTART;VALUE=DATE:20090221
SUMMARY:WoWMoM 2009 Notification Due
DESCRIPTION:10th IEEE International Symposium on a World of Wireless\, Mo
 bile and Multimedia Networks
URL:http://www.wikicfp.com/cfp/servlet/event.showcfp?eventid=3852&copyown
 erid=2183
UID:cfp17178-N@wikicfp.com
END:VEVENT
BEGIN:VEVENT
DTSTAMP:20260421T153029Z
DTSTART;VALUE=DATE:20090512
DTEND;VALUE=DATE:20090515
SUMMARY:CQR 2009
DESCRIPTION:IEEE International Workshop Technical Committee on Communicat
 ions Quality and Reliabi lity
URL:http://www.wikicfp.com/cfp/servlet/event.showcfp?eventid=3691&copyown
 erid=2183
UID:cfp17173-E@wikicfp.com
END:VEVENT
BEGIN:VEVENT
DTSTAMP:20260421T153029Z
DTSTART;VALUE=DATE:20081215
SUMMARY:CQR 2009 Deadline
DESCRIPTION:IEEE International Workshop Technical Committee on Communicat
 ions Quality and Reliabi lity
URL:http://www.wikicfp.com/cfp/servlet/event.showcfp?eventid=3691&copyown
 erid=2183
UID:cfp17173-D@wikicfp.com
END:VEVENT
BEGIN:VEVENT
DTSTAMP:20260421T153029Z
DTSTART;VALUE=DATE:20090216
SUMMARY:CQR 2009 Notification Due
DESCRIPTION:IEEE International Workshop Technical Committee on Communicat
 ions Quality and Reliabi lity
URL:http://www.wikicfp.com/cfp/servlet/event.showcfp?eventid=3691&copyown
 erid=2183
UID:cfp17173-N@wikicfp.com
END:VEVENT
BEGIN:VEVENT
DTSTAMP:20260421T153029Z
DTSTART;VALUE=DATE:20090316
SUMMARY:CQR 2009 Final Version Due
DESCRIPTION:IEEE International Workshop Technical Committee on Communicat
 ions Quality and Reliabi lity
URL:http://www.wikicfp.com/cfp/servlet/event.showcfp?eventid=3691&copyown
 erid=2183
UID:cfp17173-N@wikicfp.com
END:VEVENT
BEGIN:VEVENT
DTSTAMP:20260421T153029Z
DTSTART;VALUE=DATE:20090511
DTEND;VALUE=DATE:20090514
SUMMARY:CNSR 2009
DESCRIPTION:Communications Networks and Services Research Conference
URL:http://www.wikicfp.com/cfp/servlet/event.showcfp?eventid=3523&copyown
 erid=2183
UID:cfp17172-E@wikicfp.com
END:VEVENT
BEGIN:VEVENT
DTSTAMP:20260421T153029Z
DTSTART;VALUE=DATE:20081219
SUMMARY:CNSR 2009 Deadline
DESCRIPTION:Communications Networks and Services Research Conference
URL:http://www.wikicfp.com/cfp/servlet/event.showcfp?eventid=3523&copyown
 erid=2183
UID:cfp17172-D@wikicfp.com
END:VEVENT
BEGIN:VEVENT
DTSTAMP:20260421T153029Z
DTSTART;VALUE=DATE:20090209
SUMMARY:CNSR 2009 Notification Due
DESCRIPTION:Communications Networks and Services Research Conference
URL:http://www.wikicfp.com/cfp/servlet/event.showcfp?eventid=3523&copyown
 erid=2183
UID:cfp17172-N@wikicfp.com
END:VEVENT
BEGIN:VEVENT
DTSTAMP:20260421T153029Z
DTSTART;VALUE=DATE:20090306
SUMMARY:CNSR 2009 Final Version Due
DESCRIPTION:Communications Networks and Services Research Conference
URL:http://www.wikicfp.com/cfp/servlet/event.showcfp?eventid=3523&copyown
 erid=2183
UID:cfp17172-N@wikicfp.com
END:VEVENT
BEGIN:VEVENT
DTSTAMP:20260421T153029Z
DTSTART;VALUE=DATE:20090611
DTEND;VALUE=DATE:20090613
SUMMARY:IWCLD 2009
DESCRIPTION:Second International Workshop on Cross Layer Design
URL:http://www.wikicfp.com/cfp/servlet/event.showcfp?eventid=3808&copyown
 erid=2183
UID:cfp17174-E@wikicfp.com
END:VEVENT
BEGIN:VEVENT
DTSTAMP:20260421T153029Z
DTSTART;VALUE=DATE:20090202
SUMMARY:IWCLD 2009 Deadline
DESCRIPTION:Second International Workshop on Cross Layer Design
URL:http://www.wikicfp.com/cfp/servlet/event.showcfp?eventid=3808&copyown
 erid=2183
UID:cfp17174-D@wikicfp.com
END:VEVENT
BEGIN:VEVENT
DTSTAMP:20260421T153029Z
DTSTART;VALUE=DATE:20090330
SUMMARY:IWCLD 2009 Notification Due
DESCRIPTION:Second International Workshop on Cross Layer Design
URL:http://www.wikicfp.com/cfp/servlet/event.showcfp?eventid=3808&copyown
 erid=2183
UID:cfp17174-N@wikicfp.com
END:VEVENT
BEGIN:VEVENT
DTSTAMP:20260421T153029Z
DTSTART;VALUE=DATE:20090420
SUMMARY:IWCLD 2009 Final Version Due
DESCRIPTION:Second International Workshop on Cross Layer Design
URL:http://www.wikicfp.com/cfp/servlet/event.showcfp?eventid=3808&copyown
 erid=2183
UID:cfp17174-N@wikicfp.com
END:VEVENT
BEGIN:VEVENT
DTSTAMP:20260421T153029Z
DTSTART;VALUE=DATE:20090706
DTEND;VALUE=DATE:20090709
SUMMARY:WOC 2009
DESCRIPTION:The Ninth IASTED International Conference on Wireless and Opt
 ical Communications
URL:http://www.wikicfp.com/cfp/servlet/event.showcfp?eventid=3886&copyown
 erid=2183
UID:cfp17175-E@wikicfp.com
END:VEVENT
BEGIN:VEVENT
DTSTAMP:20260421T153029Z
DTSTART;VALUE=DATE:20090216
SUMMARY:WOC 2009 Deadline
DESCRIPTION:The Ninth IASTED International Conference on Wireless and Opt
 ical Communications
URL:http://www.wikicfp.com/cfp/servlet/event.showcfp?eventid=3886&copyown
 erid=2183
UID:cfp17175-D@wikicfp.com
END:VEVENT
BEGIN:VEVENT
DTSTAMP:20260421T153029Z
DTSTART;VALUE=DATE:20090316
SUMMARY:WOC 2009 Notification Due
DESCRIPTION:The Ninth IASTED International Conference on Wireless and Opt
 ical Communications
URL:http://www.wikicfp.com/cfp/servlet/event.showcfp?eventid=3886&copyown
 erid=2183
UID:cfp17175-N@wikicfp.com
END:VEVENT
BEGIN:VEVENT
DTSTAMP:20260421T153029Z
DTSTART;VALUE=DATE:20090501
SUMMARY:WOC 2009 Final Version Due
DESCRIPTION:The Ninth IASTED International Conference on Wireless and Opt
 ical Communications
URL:http://www.wikicfp.com/cfp/servlet/event.showcfp?eventid=3886&copyown
 erid=2183
UID:cfp17175-N@wikicfp.com
END:VEVENT
BEGIN:VEVENT
DTSTAMP:20260421T153029Z
DTSTART;VALUE=DATE:20090802
DTEND;VALUE=DATE:20090807
SUMMARY:ICCCN 2009
DESCRIPTION:18th International Conference on Computer Communications and 
 Networks
URL:http://www.wikicfp.com/cfp/servlet/event.showcfp?eventid=3774&copyown
 erid=2183
UID:cfp17177-E@wikicfp.com
END:VEVENT
BEGIN:VEVENT
DTSTAMP:20260421T153029Z
DTSTART;VALUE=DATE:20090220
SUMMARY:ICCCN 2009 Abstract Due
DESCRIPTION:18th International Conference on Computer Communications and 
 Networks
URL:http://www.wikicfp.com/cfp/servlet/event.showcfp?eventid=3774&copyown
 erid=2183
UID:cfp17177-A@wikicfp.com
END:VEVENT
BEGIN:VEVENT
DTSTAMP:20260421T153029Z
DTSTART;VALUE=DATE:20090227
SUMMARY:ICCCN 2009 Deadline
DESCRIPTION:18th International Conference on Computer Communications and 
 Networks
URL:http://www.wikicfp.com/cfp/servlet/event.showcfp?eventid=3774&copyown
 erid=2183
UID:cfp17177-D@wikicfp.com
END:VEVENT
BEGIN:VEVENT
DTSTAMP:20260421T153029Z
DTSTART;VALUE=DATE:20090501
SUMMARY:ICCCN 2009 Notification Due
DESCRIPTION:18th International Conference on Computer Communications and 
 Networks
URL:http://www.wikicfp.com/cfp/servlet/event.showcfp?eventid=3774&copyown
 erid=2183
UID:cfp17177-N@wikicfp.com
END:VEVENT
BEGIN:VEVENT
DTSTAMP:20260421T153029Z
DTSTART;VALUE=DATE:20090515
SUMMARY:ICCCN 2009 Final Version Due
DESCRIPTION:18th International Conference on Computer Communications and 
 Networks
URL:http://www.wikicfp.com/cfp/servlet/event.showcfp?eventid=3774&copyown
 erid=2183
UID:cfp17177-N@wikicfp.com
END:VEVENT
BEGIN:VEVENT
DTSTAMP:20260421T153029Z
DTSTART;VALUE=DATE:20091001
DTEND;VALUE=DATE:20091002
SUMMARY:MobiCom 2009
DESCRIPTION:The 15th Annual International Conference on Mobile Computing 
 and Networking
URL:http://www.wikicfp.com/cfp/servlet/event.showcfp?eventid=3759&copyown
 erid=2183
UID:cfp17176-E@wikicfp.com
END:VEVENT
BEGIN:VEVENT
DTSTAMP:20260421T153029Z
DTSTART;VALUE=DATE:20090305
SUMMARY:MobiCom 2009 Abstract Due
DESCRIPTION:The 15th Annual International Conference on Mobile Computing 
 and Networking
URL:http://www.wikicfp.com/cfp/servlet/event.showcfp?eventid=3759&copyown
 erid=2183
UID:cfp17176-A@wikicfp.com
END:VEVENT
BEGIN:VEVENT
DTSTAMP:20260421T153029Z
DTSTART;VALUE=DATE:20090312
SUMMARY:MobiCom 2009 Deadline
DESCRIPTION:The 15th Annual International Conference on Mobile Computing 
 and Networking
URL:http://www.wikicfp.com/cfp/servlet/event.showcfp?eventid=3759&copyown
 erid=2183
UID:cfp17176-D@wikicfp.com
END:VEVENT
BEGIN:VEVENT
DTSTAMP:20260421T153029Z
DTSTART;VALUE=DATE:20090619
SUMMARY:MobiCom 2009 Notification Due
DESCRIPTION:The 15th Annual International Conference on Mobile Computing 
 and Networking
URL:http://www.wikicfp.com/cfp/servlet/event.showcfp?eventid=3759&copyown
 erid=2183
UID:cfp17176-N@wikicfp.com
END:VEVENT
BEGIN:VEVENT
DTSTAMP:20260421T153029Z
DTSTART;VALUE=DATE:20090715
SUMMARY:MobiCom 2009 Final Version Due
DESCRIPTION:The 15th Annual International Conference on Mobile Computing 
 and Networking
URL:http://www.wikicfp.com/cfp/servlet/event.showcfp?eventid=3759&copyown
 erid=2183
UID:cfp17176-N@wikicfp.com
END:VEVENT
END:VCALENDAR
