BEGIN:VCALENDAR
PRODID:-//WikiCFP//jeon 1.0//EN
VERSION:2.0
CALSCALE:GREGORIAN
BEGIN:VEVENT
DTSTAMP:20260423T030253Z
DTSTART;VALUE=DATE:20110925
DTEND;VALUE=DATE:20111001
SUMMARY:IROS 2011
DESCRIPTION:IEEE/RSJ International Conference on Intelligent Robots and S
 ystems
URL:http://www.wikicfp.com/cfp/servlet/event.showcfp?eventid=11319&copyow
 nerid=21499
UID:cfp148078-E@wikicfp.com
END:VEVENT
BEGIN:VEVENT
DTSTAMP:20260423T030253Z
DTSTART;VALUE=DATE:20110328
SUMMARY:IROS 2011 Deadline
DESCRIPTION:IEEE/RSJ International Conference on Intelligent Robots and S
 ystems
URL:http://www.wikicfp.com/cfp/servlet/event.showcfp?eventid=11319&copyow
 nerid=21499
UID:cfp148078-D@wikicfp.com
END:VEVENT
BEGIN:VEVENT
DTSTAMP:20260423T030253Z
DTSTART;VALUE=DATE:20110606
SUMMARY:IROS 2011 Notification Due
DESCRIPTION:IEEE/RSJ International Conference on Intelligent Robots and S
 ystems
URL:http://www.wikicfp.com/cfp/servlet/event.showcfp?eventid=11319&copyow
 nerid=21499
UID:cfp148078-N@wikicfp.com
END:VEVENT
BEGIN:VEVENT
DTSTAMP:20260423T030253Z
DTSTART;VALUE=DATE:20110701
SUMMARY:IROS 2011 Final Version Due
DESCRIPTION:IEEE/RSJ International Conference on Intelligent Robots and S
 ystems
URL:http://www.wikicfp.com/cfp/servlet/event.showcfp?eventid=11319&copyow
 nerid=21499
UID:cfp148078-N@wikicfp.com
END:VEVENT
BEGIN:VEVENT
DTSTAMP:20260423T030253Z
DTSTART;VALUE=DATE:20111207
DTEND;VALUE=DATE:20111212
SUMMARY:ROBIO 2011
DESCRIPTION:IEEE International Conference on Robotics and Biomimetics
URL:http://www.wikicfp.com/cfp/servlet/event.showcfp?eventid=14234&copyow
 nerid=21499
UID:cfp148076-E@wikicfp.com
END:VEVENT
BEGIN:VEVENT
DTSTAMP:20260423T030253Z
DTSTART;VALUE=DATE:20110810
SUMMARY:ROBIO 2011 Deadline
DESCRIPTION:IEEE International Conference on Robotics and Biomimetics
URL:http://www.wikicfp.com/cfp/servlet/event.showcfp?eventid=14234&copyow
 nerid=21499
UID:cfp148076-D@wikicfp.com
END:VEVENT
BEGIN:VEVENT
DTSTAMP:20260423T030253Z
DTSTART;VALUE=DATE:20111001
SUMMARY:ROBIO 2011 Notification Due
DESCRIPTION:IEEE International Conference on Robotics and Biomimetics
URL:http://www.wikicfp.com/cfp/servlet/event.showcfp?eventid=14234&copyow
 nerid=21499
UID:cfp148076-N@wikicfp.com
END:VEVENT
BEGIN:VEVENT
DTSTAMP:20260423T030253Z
DTSTART;VALUE=DATE:20111020
SUMMARY:ROBIO 2011 Final Version Due
DESCRIPTION:IEEE International Conference on Robotics and Biomimetics
URL:http://www.wikicfp.com/cfp/servlet/event.showcfp?eventid=14234&copyow
 nerid=21499
UID:cfp148076-N@wikicfp.com
END:VEVENT
BEGIN:VEVENT
DTSTAMP:20260423T030253Z
DTSTART;VALUE=DATE:20111206
DTEND;VALUE=DATE:20111209
SUMMARY:ICARA 2011
DESCRIPTION:The 5th IEEE International Conference on Automation\, Robotic
 s and Applications
URL:http://www.wikicfp.com/cfp/servlet/event.showcfp?eventid=14636&copyow
 nerid=21499
UID:cfp148077-E@wikicfp.com
END:VEVENT
BEGIN:VEVENT
DTSTAMP:20260423T030253Z
DTSTART;VALUE=DATE:20110812
SUMMARY:ICARA 2011 Deadline
DESCRIPTION:The 5th IEEE International Conference on Automation\, Robotic
 s and Applications
URL:http://www.wikicfp.com/cfp/servlet/event.showcfp?eventid=14636&copyow
 nerid=21499
UID:cfp148077-D@wikicfp.com
END:VEVENT
BEGIN:VEVENT
DTSTAMP:20260423T030253Z
DTSTART;VALUE=DATE:20110909
SUMMARY:ICARA 2011 Notification Due
DESCRIPTION:The 5th IEEE International Conference on Automation\, Robotic
 s and Applications
URL:http://www.wikicfp.com/cfp/servlet/event.showcfp?eventid=14636&copyow
 nerid=21499
UID:cfp148077-N@wikicfp.com
END:VEVENT
BEGIN:VEVENT
DTSTAMP:20260423T030253Z
DTSTART;VALUE=DATE:20110923
SUMMARY:ICARA 2011 Final Version Due
DESCRIPTION:The 5th IEEE International Conference on Automation\, Robotic
 s and Applications
URL:http://www.wikicfp.com/cfp/servlet/event.showcfp?eventid=14636&copyow
 nerid=21499
UID:cfp148077-N@wikicfp.com
END:VEVENT
END:VCALENDAR
