BEGIN:VCALENDAR
PRODID:-//WikiCFP//kim2hia 1.0//EN
VERSION:2.0
CALSCALE:GREGORIAN
BEGIN:VEVENT
DTSTAMP:20260425T223257Z
DTSTART;VALUE=DATE:20110718
DTEND;VALUE=DATE:20110719
SUMMARY:SecArt 2011
DESCRIPTION:Third Workshop on Intelligent Security (Security and Artifici
 al Intelligence)
URL:http://www.wikicfp.com/cfp/servlet/event.showcfp?eventid=14659&copyow
 nerid=21415
UID:cfp164457-E@wikicfp.com
END:VEVENT
BEGIN:VEVENT
DTSTAMP:20260425T223257Z
DTSTART;VALUE=DATE:20110404
SUMMARY:SecArt 2011 Deadline
DESCRIPTION:Third Workshop on Intelligent Security (Security and Artifici
 al Intelligence)
URL:http://www.wikicfp.com/cfp/servlet/event.showcfp?eventid=14659&copyow
 nerid=21415
UID:cfp164457-D@wikicfp.com
END:VEVENT
BEGIN:VEVENT
DTSTAMP:20260425T223257Z
DTSTART;VALUE=DATE:20110509
SUMMARY:SecArt 2011 Notification Due
DESCRIPTION:Third Workshop on Intelligent Security (Security and Artifici
 al Intelligence)
URL:http://www.wikicfp.com/cfp/servlet/event.showcfp?eventid=14659&copyow
 nerid=21415
UID:cfp164457-N@wikicfp.com
END:VEVENT
BEGIN:VEVENT
DTSTAMP:20260425T223257Z
DTSTART;VALUE=DATE:20110523
SUMMARY:SecArt 2011 Final Version Due
DESCRIPTION:Third Workshop on Intelligent Security (Security and Artifici
 al Intelligence)
URL:http://www.wikicfp.com/cfp/servlet/event.showcfp?eventid=14659&copyow
 nerid=21415
UID:cfp164457-N@wikicfp.com
END:VEVENT
BEGIN:VEVENT
DTSTAMP:20260425T223257Z
DTSTART;VALUE=DATE:20110706
DTEND;VALUE=DATE:20110707
SUMMARY:SYSSEC 2011
DESCRIPTION:1st SysSec Workshop
URL:http://www.wikicfp.com/cfp/servlet/event.showcfp?eventid=14363&copyow
 nerid=21415
UID:cfp164455-E@wikicfp.com
END:VEVENT
BEGIN:VEVENT
DTSTAMP:20260425T223257Z
DTSTART;VALUE=DATE:20110407
SUMMARY:SYSSEC 2011 Deadline
DESCRIPTION:1st SysSec Workshop
URL:http://www.wikicfp.com/cfp/servlet/event.showcfp?eventid=14363&copyow
 nerid=21415
UID:cfp164455-D@wikicfp.com
END:VEVENT
BEGIN:VEVENT
DTSTAMP:20260425T223257Z
DTSTART;VALUE=DATE:20110504
SUMMARY:SYSSEC 2011 Notification Due
DESCRIPTION:1st SysSec Workshop
URL:http://www.wikicfp.com/cfp/servlet/event.showcfp?eventid=14363&copyow
 nerid=21415
UID:cfp164455-N@wikicfp.com
END:VEVENT
BEGIN:VEVENT
DTSTAMP:20260425T223257Z
DTSTART;VALUE=DATE:20110520
SUMMARY:SYSSEC 2011 Final Version Due
DESCRIPTION:1st SysSec Workshop
URL:http://www.wikicfp.com/cfp/servlet/event.showcfp?eventid=14363&copyow
 nerid=21415
UID:cfp164455-N@wikicfp.com
END:VEVENT
BEGIN:VEVENT
DTSTAMP:20260425T223257Z
DTSTART;VALUE=DATE:20110809
DTEND;VALUE=DATE:20110810
SUMMARY:HealthSec 2011
DESCRIPTION:2nd USENIX Workshop on Health Security and Privacy
URL:http://www.wikicfp.com/cfp/servlet/event.showcfp?eventid=14490&copyow
 nerid=21415
UID:cfp164456-E@wikicfp.com
END:VEVENT
BEGIN:VEVENT
DTSTAMP:20260425T223257Z
DTSTART;VALUE=DATE:20110412
SUMMARY:HealthSec 2011 Deadline
DESCRIPTION:2nd USENIX Workshop on Health Security and Privacy
URL:http://www.wikicfp.com/cfp/servlet/event.showcfp?eventid=14490&copyow
 nerid=21415
UID:cfp164456-D@wikicfp.com
END:VEVENT
BEGIN:VEVENT
DTSTAMP:20260425T223257Z
DTSTART;VALUE=DATE:20110524
SUMMARY:HealthSec 2011 Notification Due
DESCRIPTION:2nd USENIX Workshop on Health Security and Privacy
URL:http://www.wikicfp.com/cfp/servlet/event.showcfp?eventid=14490&copyow
 nerid=21415
UID:cfp164456-N@wikicfp.com
END:VEVENT
BEGIN:VEVENT
DTSTAMP:20260425T223257Z
DTSTART;VALUE=DATE:20110620
SUMMARY:HealthSec 2011 Final Version Due
DESCRIPTION:2nd USENIX Workshop on Health Security and Privacy
URL:http://www.wikicfp.com/cfp/servlet/event.showcfp?eventid=14490&copyow
 nerid=21415
UID:cfp164456-N@wikicfp.com
END:VEVENT
BEGIN:VEVENT
DTSTAMP:20260425T223257Z
DTSTART;VALUE=DATE:20110628
DTEND;VALUE=DATE:20110629
SUMMARY:NODES 2011
DESCRIPTION:5th Nordic Workshop on Dependability and Security
URL:http://www.wikicfp.com/cfp/servlet/event.showcfp?eventid=15703&copyow
 nerid=21415
UID:cfp164458-E@wikicfp.com
END:VEVENT
BEGIN:VEVENT
DTSTAMP:20260425T223257Z
DTSTART;VALUE=DATE:20110418
SUMMARY:NODES 2011 Deadline
DESCRIPTION:5th Nordic Workshop on Dependability and Security
URL:http://www.wikicfp.com/cfp/servlet/event.showcfp?eventid=15703&copyow
 nerid=21415
UID:cfp164458-D@wikicfp.com
END:VEVENT
BEGIN:VEVENT
DTSTAMP:20260425T223257Z
DTSTART;VALUE=DATE:20110615
DTEND;VALUE=DATE:20110619
SUMMARY:CryptArchi 2011
DESCRIPTION:CryptArchi 2011
URL:http://www.wikicfp.com/cfp/servlet/event.showcfp?eventid=15256&copyow
 nerid=21415
UID:cfp164459-E@wikicfp.com
END:VEVENT
BEGIN:VEVENT
DTSTAMP:20260425T223257Z
DTSTART;VALUE=DATE:20110429
SUMMARY:CryptArchi 2011 Deadline
DESCRIPTION:CryptArchi 2011
URL:http://www.wikicfp.com/cfp/servlet/event.showcfp?eventid=15256&copyow
 nerid=21415
UID:cfp164459-D@wikicfp.com
END:VEVENT
BEGIN:VEVENT
DTSTAMP:20260425T223257Z
DTSTART;VALUE=DATE:20110513
SUMMARY:CryptArchi 2011 Notification Due
DESCRIPTION:CryptArchi 2011
URL:http://www.wikicfp.com/cfp/servlet/event.showcfp?eventid=15256&copyow
 nerid=21415
UID:cfp164459-N@wikicfp.com
END:VEVENT
BEGIN:VEVENT
DTSTAMP:20260425T223257Z
DTSTART;VALUE=DATE:20110606
SUMMARY:CryptArchi 2011 Final Version Due
DESCRIPTION:CryptArchi 2011
URL:http://www.wikicfp.com/cfp/servlet/event.showcfp?eventid=15256&copyow
 nerid=21415
UID:cfp164459-N@wikicfp.com
END:VEVENT
BEGIN:VEVENT
DTSTAMP:20260425T223257Z
DTSTART;VALUE=DATE:20110725
DTEND;VALUE=DATE:20110728
SUMMARY:CCSIE 2011
DESCRIPTION:IAENG/IEEE First Global Conference on Communication\, Science
  & Information Engineering
URL:http://www.wikicfp.com/cfp/servlet/event.showcfp?eventid=14846&copyow
 nerid=21415
UID:cfp164454-E@wikicfp.com
END:VEVENT
BEGIN:VEVENT
DTSTAMP:20260425T223257Z
DTSTART;VALUE=DATE:20110610
SUMMARY:CCSIE 2011 Deadline
DESCRIPTION:IAENG/IEEE First Global Conference on Communication\, Science
  & Information Engineering
URL:http://www.wikicfp.com/cfp/servlet/event.showcfp?eventid=14846&copyow
 nerid=21415
UID:cfp164454-D@wikicfp.com
END:VEVENT
BEGIN:VEVENT
DTSTAMP:20260425T223257Z
DTSTART;VALUE=DATE:20110617
SUMMARY:CCSIE 2011 Notification Due
DESCRIPTION:IAENG/IEEE First Global Conference on Communication\, Science
  & Information Engineering
URL:http://www.wikicfp.com/cfp/servlet/event.showcfp?eventid=14846&copyow
 nerid=21415
UID:cfp164454-N@wikicfp.com
END:VEVENT
BEGIN:VEVENT
DTSTAMP:20260425T223257Z
DTSTART;VALUE=DATE:20110624
SUMMARY:CCSIE 2011 Final Version Due
DESCRIPTION:IAENG/IEEE First Global Conference on Communication\, Science
  & Information Engineering
URL:http://www.wikicfp.com/cfp/servlet/event.showcfp?eventid=14846&copyow
 nerid=21415
UID:cfp164454-N@wikicfp.com
END:VEVENT
BEGIN:VEVENT
DTSTAMP:20260425T223257Z
DTSTART;VALUE=DATE:20111009
DTEND;VALUE=DATE:20111012
SUMMARY:PASSAT 2011
DESCRIPTION:The Third IEEE International Conference on Privacy\, Security
 \, Risk and Trust
URL:http://www.wikicfp.com/cfp/servlet/event.showcfp?eventid=14514&copyow
 nerid=21415
UID:cfp147562-E@wikicfp.com
END:VEVENT
BEGIN:VEVENT
DTSTAMP:20260425T223257Z
DTSTART;VALUE=DATE:20110615
SUMMARY:PASSAT 2011 Deadline
DESCRIPTION:The Third IEEE International Conference on Privacy\, Security
 \, Risk and Trust
URL:http://www.wikicfp.com/cfp/servlet/event.showcfp?eventid=14514&copyow
 nerid=21415
UID:cfp147562-D@wikicfp.com
END:VEVENT
BEGIN:VEVENT
DTSTAMP:20260425T223257Z
DTSTART;VALUE=DATE:20110801
SUMMARY:PASSAT 2011 Notification Due
DESCRIPTION:The Third IEEE International Conference on Privacy\, Security
 \, Risk and Trust
URL:http://www.wikicfp.com/cfp/servlet/event.showcfp?eventid=14514&copyow
 nerid=21415
UID:cfp147562-N@wikicfp.com
END:VEVENT
BEGIN:VEVENT
DTSTAMP:20260425T223257Z
DTSTART;VALUE=DATE:20110815
SUMMARY:PASSAT 2011 Final Version Due
DESCRIPTION:The Third IEEE International Conference on Privacy\, Security
 \, Risk and Trust
URL:http://www.wikicfp.com/cfp/servlet/event.showcfp?eventid=14514&copyow
 nerid=21415
UID:cfp147562-N@wikicfp.com
END:VEVENT
END:VCALENDAR
