BEGIN:VCALENDAR
PRODID:-//WikiCFP//leitner 1.0//EN
VERSION:2.0
CALSCALE:GREGORIAN
BEGIN:VEVENT
DTSTAMP:20260423T020807Z
DTSTART;VALUE=DATE:20090204
DTEND;VALUE=DATE:20090210
SUMMARY:ICIVC 2009
DESCRIPTION:International Conference on Image and Vision Computing 
URL:http://www.wikicfp.com/cfp/servlet/event.showcfp?eventid=3812&copyown
 erid=2104
UID:cfp16623-E@wikicfp.com
END:VEVENT
BEGIN:VEVENT
DTSTAMP:20260423T020807Z
DTSTART;VALUE=DATE:20081027
SUMMARY:ICIVC 2009 Deadline
DESCRIPTION:International Conference on Image and Vision Computing 
URL:http://www.wikicfp.com/cfp/servlet/event.showcfp?eventid=3812&copyown
 erid=2104
UID:cfp16623-D@wikicfp.com
END:VEVENT
BEGIN:VEVENT
DTSTAMP:20260423T020807Z
DTSTART;VALUE=DATE:20090615
DTEND;VALUE=DATE:20090619
SUMMARY:SCIA 2009
DESCRIPTION:16th Scandinavian Conference on Image Analysis
URL:http://www.wikicfp.com/cfp/servlet/event.showcfp?eventid=3843&copyown
 erid=2104
UID:cfp16622-E@wikicfp.com
END:VEVENT
BEGIN:VEVENT
DTSTAMP:20260423T020807Z
DTSTART;VALUE=DATE:20081214
SUMMARY:SCIA 2009 Deadline
DESCRIPTION:16th Scandinavian Conference on Image Analysis
URL:http://www.wikicfp.com/cfp/servlet/event.showcfp?eventid=3843&copyown
 erid=2104
UID:cfp16622-D@wikicfp.com
END:VEVENT
BEGIN:VEVENT
DTSTAMP:20260423T020807Z
DTSTART;VALUE=DATE:20090222
SUMMARY:SCIA 2009 Notification Due
DESCRIPTION:16th Scandinavian Conference on Image Analysis
URL:http://www.wikicfp.com/cfp/servlet/event.showcfp?eventid=3843&copyown
 erid=2104
UID:cfp16622-N@wikicfp.com
END:VEVENT
BEGIN:VEVENT
DTSTAMP:20260423T020807Z
DTSTART;VALUE=DATE:20090308
SUMMARY:SCIA 2009 Final Version Due
DESCRIPTION:16th Scandinavian Conference on Image Analysis
URL:http://www.wikicfp.com/cfp/servlet/event.showcfp?eventid=3843&copyown
 erid=2104
UID:cfp16622-N@wikicfp.com
END:VEVENT
BEGIN:VEVENT
DTSTAMP:20260423T020807Z
DTSTART;VALUE=DATE:20090614
DTEND;VALUE=DATE:20090619
SUMMARY:ICML 2009
DESCRIPTION: The 26th International Conference On Machine Learning
URL:http://www.wikicfp.com/cfp/servlet/event.showcfp?eventid=3826&copyown
 erid=2104
UID:cfp16625-E@wikicfp.com
END:VEVENT
BEGIN:VEVENT
DTSTAMP:20260423T020807Z
DTSTART;VALUE=DATE:20090126
SUMMARY:ICML 2009 Deadline
DESCRIPTION: The 26th International Conference On Machine Learning
URL:http://www.wikicfp.com/cfp/servlet/event.showcfp?eventid=3826&copyown
 erid=2104
UID:cfp16625-D@wikicfp.com
END:VEVENT
BEGIN:VEVENT
DTSTAMP:20260423T020807Z
DTSTART;VALUE=DATE:20090420
SUMMARY:ICML 2009 Final Version Due
DESCRIPTION: The 26th International Conference On Machine Learning
URL:http://www.wikicfp.com/cfp/servlet/event.showcfp?eventid=3826&copyown
 erid=2104
UID:cfp16625-N@wikicfp.com
END:VEVENT
BEGIN:VEVENT
DTSTAMP:20260423T020807Z
DTSTART;VALUE=DATE:20090826
DTEND;VALUE=DATE:20090829
SUMMARY:ICISVC 2009
DESCRIPTION:International Conference on Image\, Signal and Vision Computi
 ng
URL:http://www.wikicfp.com/cfp/servlet/event.showcfp?eventid=3813&copyown
 erid=2104
UID:cfp16624-E@wikicfp.com
END:VEVENT
BEGIN:VEVENT
DTSTAMP:20260423T020807Z
DTSTART;VALUE=DATE:20090430
SUMMARY:ICISVC 2009 Deadline
DESCRIPTION:International Conference on Image\, Signal and Vision Computi
 ng
URL:http://www.wikicfp.com/cfp/servlet/event.showcfp?eventid=3813&copyown
 erid=2104
UID:cfp16624-D@wikicfp.com
END:VEVENT
END:VCALENDAR
