BEGIN:VCALENDAR
PRODID:-//WikiCFP//8742110115 1.0//EN
VERSION:2.0
CALSCALE:GREGORIAN
BEGIN:VEVENT
DTSTAMP:20260422T172732Z
DTSTART;VALUE=DATE:20101204
DTEND;VALUE=DATE:20101207
SUMMARY:IST 2010
DESCRIPTION:5th International Symposium on Telecommunications
URL:http://www.wikicfp.com/cfp/servlet/event.showcfp?eventid=10258&copyow
 nerid=20403
UID:cfp140207-E@wikicfp.com
END:VEVENT
BEGIN:VEVENT
DTSTAMP:20260422T172732Z
DTSTART;VALUE=DATE:20100920
SUMMARY:IST 2010 Deadline
DESCRIPTION:5th International Symposium on Telecommunications
URL:http://www.wikicfp.com/cfp/servlet/event.showcfp?eventid=10258&copyow
 nerid=20403
UID:cfp140207-D@wikicfp.com
END:VEVENT
BEGIN:VEVENT
DTSTAMP:20260422T172732Z
DTSTART;VALUE=DATE:20101106
SUMMARY:IST 2010 Notification Due
DESCRIPTION:5th International Symposium on Telecommunications
URL:http://www.wikicfp.com/cfp/servlet/event.showcfp?eventid=10258&copyow
 nerid=20403
UID:cfp140207-N@wikicfp.com
END:VEVENT
BEGIN:VEVENT
DTSTAMP:20260422T172732Z
DTSTART;VALUE=DATE:20101120
SUMMARY:IST 2010 Final Version Due
DESCRIPTION:5th International Symposium on Telecommunications
URL:http://www.wikicfp.com/cfp/servlet/event.showcfp?eventid=10258&copyow
 nerid=20403
UID:cfp140207-N@wikicfp.com
END:VEVENT
BEGIN:VEVENT
DTSTAMP:20260422T172732Z
DTSTART;VALUE=DATE:20110608
DTEND;VALUE=DATE:20110611
SUMMARY:SPS 2011
DESCRIPTION:Signal Processing Symposium
URL:http://www.wikicfp.com/cfp/servlet/event.showcfp?eventid=13051&copyow
 nerid=20403
UID:cfp169211-E@wikicfp.com
END:VEVENT
BEGIN:VEVENT
DTSTAMP:20260422T172732Z
DTSTART;VALUE=DATE:20110215
SUMMARY:SPS 2011 Deadline
DESCRIPTION:Signal Processing Symposium
URL:http://www.wikicfp.com/cfp/servlet/event.showcfp?eventid=13051&copyow
 nerid=20403
UID:cfp169211-D@wikicfp.com
END:VEVENT
BEGIN:VEVENT
DTSTAMP:20260422T172732Z
DTSTART;VALUE=DATE:20110315
SUMMARY:SPS 2011 Notification Due
DESCRIPTION:Signal Processing Symposium
URL:http://www.wikicfp.com/cfp/servlet/event.showcfp?eventid=13051&copyow
 nerid=20403
UID:cfp169211-N@wikicfp.com
END:VEVENT
BEGIN:VEVENT
DTSTAMP:20260422T172732Z
DTSTART;VALUE=DATE:20110424
SUMMARY:SPS 2011 Final Version Due
DESCRIPTION:Signal Processing Symposium
URL:http://www.wikicfp.com/cfp/servlet/event.showcfp?eventid=13051&copyow
 nerid=20403
UID:cfp169211-N@wikicfp.com
END:VEVENT
BEGIN:VEVENT
DTSTAMP:20260422T172732Z
DTSTART;VALUE=DATE:20110829
DTEND;VALUE=DATE:20110904
SUMMARY:EUSIPCO 2011
DESCRIPTION:European Signal Processing Conference
URL:http://www.wikicfp.com/cfp/servlet/event.showcfp?eventid=10580&copyow
 nerid=20403
UID:cfp169210-E@wikicfp.com
END:VEVENT
BEGIN:VEVENT
DTSTAMP:20260422T172732Z
DTSTART;VALUE=DATE:20110221
SUMMARY:EUSIPCO 2011 Deadline
DESCRIPTION:European Signal Processing Conference
URL:http://www.wikicfp.com/cfp/servlet/event.showcfp?eventid=10580&copyow
 nerid=20403
UID:cfp169210-D@wikicfp.com
END:VEVENT
BEGIN:VEVENT
DTSTAMP:20260422T172732Z
DTSTART;VALUE=DATE:20110523
SUMMARY:EUSIPCO 2011 Notification Due
DESCRIPTION:European Signal Processing Conference
URL:http://www.wikicfp.com/cfp/servlet/event.showcfp?eventid=10580&copyow
 nerid=20403
UID:cfp169210-N@wikicfp.com
END:VEVENT
BEGIN:VEVENT
DTSTAMP:20260422T172732Z
DTSTART;VALUE=DATE:20110606
SUMMARY:EUSIPCO 2011 Final Version Due
DESCRIPTION:European Signal Processing Conference
URL:http://www.wikicfp.com/cfp/servlet/event.showcfp?eventid=10580&copyow
 nerid=20403
UID:cfp169210-N@wikicfp.com
END:VEVENT
BEGIN:VEVENT
DTSTAMP:20260422T172732Z
DTSTART;VALUE=DATE:20110622
DTEND;VALUE=DATE:20110625
SUMMARY:SIPA 2011
DESCRIPTION:The  International Conference on Signal and Image Processing 
 and Applications
URL:http://www.wikicfp.com/cfp/servlet/event.showcfp?eventid=12516&copyow
 nerid=20403
UID:cfp169208-E@wikicfp.com
END:VEVENT
BEGIN:VEVENT
DTSTAMP:20260422T172732Z
DTSTART;VALUE=DATE:20110301
SUMMARY:SIPA 2011 Deadline
DESCRIPTION:The  International Conference on Signal and Image Processing 
 and Applications
URL:http://www.wikicfp.com/cfp/servlet/event.showcfp?eventid=12516&copyow
 nerid=20403
UID:cfp169208-D@wikicfp.com
END:VEVENT
BEGIN:VEVENT
DTSTAMP:20260422T172732Z
DTSTART;VALUE=DATE:20110401
SUMMARY:SIPA 2011 Notification Due
DESCRIPTION:The  International Conference on Signal and Image Processing 
 and Applications
URL:http://www.wikicfp.com/cfp/servlet/event.showcfp?eventid=12516&copyow
 nerid=20403
UID:cfp169208-N@wikicfp.com
END:VEVENT
BEGIN:VEVENT
DTSTAMP:20260422T172732Z
DTSTART;VALUE=DATE:20110415
SUMMARY:SIPA 2011 Final Version Due
DESCRIPTION:The  International Conference on Signal and Image Processing 
 and Applications
URL:http://www.wikicfp.com/cfp/servlet/event.showcfp?eventid=12516&copyow
 nerid=20403
UID:cfp169208-N@wikicfp.com
END:VEVENT
BEGIN:VEVENT
DTSTAMP:20260422T172732Z
DTSTART;VALUE=DATE:20110616
DTEND;VALUE=DATE:20110619
SUMMARY:IWSSIP 2011
DESCRIPTION:18th International Conference on Systems\, Signals and Image 
 Processing
URL:http://www.wikicfp.com/cfp/servlet/event.showcfp?eventid=12250&copyow
 nerid=20403
UID:cfp169207-E@wikicfp.com
END:VEVENT
BEGIN:VEVENT
DTSTAMP:20260422T172732Z
DTSTART;VALUE=DATE:20110307
SUMMARY:IWSSIP 2011 Deadline
DESCRIPTION:18th International Conference on Systems\, Signals and Image 
 Processing
URL:http://www.wikicfp.com/cfp/servlet/event.showcfp?eventid=12250&copyow
 nerid=20403
UID:cfp169207-D@wikicfp.com
END:VEVENT
BEGIN:VEVENT
DTSTAMP:20260422T172732Z
DTSTART;VALUE=DATE:20110401
SUMMARY:IWSSIP 2011 Notification Due
DESCRIPTION:18th International Conference on Systems\, Signals and Image 
 Processing
URL:http://www.wikicfp.com/cfp/servlet/event.showcfp?eventid=12250&copyow
 nerid=20403
UID:cfp169207-N@wikicfp.com
END:VEVENT
BEGIN:VEVENT
DTSTAMP:20260422T172732Z
DTSTART;VALUE=DATE:20110418
SUMMARY:IWSSIP 2011 Final Version Due
DESCRIPTION:18th International Conference on Systems\, Signals and Image 
 Processing
URL:http://www.wikicfp.com/cfp/servlet/event.showcfp?eventid=12250&copyow
 nerid=20403
UID:cfp169207-N@wikicfp.com
END:VEVENT
BEGIN:VEVENT
DTSTAMP:20260422T172732Z
DTSTART;VALUE=DATE:20110722
DTEND;VALUE=DATE:20110725
SUMMARY:I-WASP 2011
DESCRIPTION:International Workshop on Applications of Signal Processing
URL:http://www.wikicfp.com/cfp/servlet/event.showcfp?eventid=15621&copyow
 nerid=20403
UID:cfp169209-E@wikicfp.com
END:VEVENT
BEGIN:VEVENT
DTSTAMP:20260422T172732Z
DTSTART;VALUE=DATE:20110325
SUMMARY:I-WASP 2011 Deadline
DESCRIPTION:International Workshop on Applications of Signal Processing
URL:http://www.wikicfp.com/cfp/servlet/event.showcfp?eventid=15621&copyow
 nerid=20403
UID:cfp169209-D@wikicfp.com
END:VEVENT
BEGIN:VEVENT
DTSTAMP:20260422T172732Z
DTSTART;VALUE=DATE:20110415
SUMMARY:I-WASP 2011 Notification Due
DESCRIPTION:International Workshop on Applications of Signal Processing
URL:http://www.wikicfp.com/cfp/servlet/event.showcfp?eventid=15621&copyow
 nerid=20403
UID:cfp169209-N@wikicfp.com
END:VEVENT
BEGIN:VEVENT
DTSTAMP:20260422T172732Z
DTSTART;VALUE=DATE:20110501
SUMMARY:I-WASP 2011 Final Version Due
DESCRIPTION:International Workshop on Applications of Signal Processing
URL:http://www.wikicfp.com/cfp/servlet/event.showcfp?eventid=15621&copyow
 nerid=20403
UID:cfp169209-N@wikicfp.com
END:VEVENT
BEGIN:VEVENT
DTSTAMP:20260422T172732Z
DTSTART;VALUE=DATE:20111212
DTEND;VALUE=DATE:20111215
SUMMARY:ICSPCS 2011
DESCRIPTION:5th International Conference on Signal Processing and Communi
 cation Systems (ICSPCS 2011)
URL:http://www.wikicfp.com/cfp/servlet/event.showcfp?eventid=16106&copyow
 nerid=20403
UID:cfp169206-E@wikicfp.com
END:VEVENT
BEGIN:VEVENT
DTSTAMP:20260422T172732Z
DTSTART;VALUE=DATE:20110630
SUMMARY:ICSPCS 2011 Deadline
DESCRIPTION:5th International Conference on Signal Processing and Communi
 cation Systems (ICSPCS 2011)
URL:http://www.wikicfp.com/cfp/servlet/event.showcfp?eventid=16106&copyow
 nerid=20403
UID:cfp169206-D@wikicfp.com
END:VEVENT
BEGIN:VEVENT
DTSTAMP:20260422T172732Z
DTSTART;VALUE=DATE:20110915
SUMMARY:ICSPCS 2011 Notification Due
DESCRIPTION:5th International Conference on Signal Processing and Communi
 cation Systems (ICSPCS 2011)
URL:http://www.wikicfp.com/cfp/servlet/event.showcfp?eventid=16106&copyow
 nerid=20403
UID:cfp169206-N@wikicfp.com
END:VEVENT
BEGIN:VEVENT
DTSTAMP:20260422T172732Z
DTSTART;VALUE=DATE:20111015
SUMMARY:ICSPCS 2011 Final Version Due
DESCRIPTION:5th International Conference on Signal Processing and Communi
 cation Systems (ICSPCS 2011)
URL:http://www.wikicfp.com/cfp/servlet/event.showcfp?eventid=16106&copyow
 nerid=20403
UID:cfp169206-N@wikicfp.com
END:VEVENT
BEGIN:VEVENT
DTSTAMP:20260422T172732Z
DTSTART;VALUE=DATE:20120112
DTEND;VALUE=DATE:20120115
SUMMARY:DSPTech 2012
DESCRIPTION:IEEE Digital Signal Processing Technology Conference
URL:http://www.wikicfp.com/cfp/servlet/event.showcfp?eventid=12556&copyow
 nerid=20403
UID:cfp169203-E@wikicfp.com
END:VEVENT
BEGIN:VEVENT
DTSTAMP:20260422T172732Z
DTSTART;VALUE=DATE:20110731
SUMMARY:DSPTech 2012 Deadline
DESCRIPTION:IEEE Digital Signal Processing Technology Conference
URL:http://www.wikicfp.com/cfp/servlet/event.showcfp?eventid=12556&copyow
 nerid=20403
UID:cfp169203-D@wikicfp.com
END:VEVENT
BEGIN:VEVENT
DTSTAMP:20260422T172732Z
DTSTART;VALUE=DATE:20110911
SUMMARY:DSPTech 2012 Notification Due
DESCRIPTION:IEEE Digital Signal Processing Technology Conference
URL:http://www.wikicfp.com/cfp/servlet/event.showcfp?eventid=12556&copyow
 nerid=20403
UID:cfp169203-N@wikicfp.com
END:VEVENT
BEGIN:VEVENT
DTSTAMP:20260422T172732Z
DTSTART;VALUE=DATE:20111008
SUMMARY:DSPTech 2012 Final Version Due
DESCRIPTION:IEEE Digital Signal Processing Technology Conference
URL:http://www.wikicfp.com/cfp/servlet/event.showcfp?eventid=12556&copyow
 nerid=20403
UID:cfp169203-N@wikicfp.com
END:VEVENT
BEGIN:VEVENT
DTSTAMP:20260422T172732Z
DTSTART;VALUE=DATE:20111214
DTEND;VALUE=DATE:20111218
SUMMARY:ISSPIT 2011
DESCRIPTION:IEEE International Symposium on Signal Processing and Informa
 tion Technology
URL:http://www.wikicfp.com/cfp/servlet/event.showcfp?eventid=15354&copyow
 nerid=20403
UID:cfp169205-E@wikicfp.com
END:VEVENT
BEGIN:VEVENT
DTSTAMP:20260422T172732Z
DTSTART;VALUE=DATE:20110731
SUMMARY:ISSPIT 2011 Deadline
DESCRIPTION:IEEE International Symposium on Signal Processing and Informa
 tion Technology
URL:http://www.wikicfp.com/cfp/servlet/event.showcfp?eventid=15354&copyow
 nerid=20403
UID:cfp169205-D@wikicfp.com
END:VEVENT
BEGIN:VEVENT
DTSTAMP:20260422T172732Z
DTSTART;VALUE=DATE:20111001
SUMMARY:ISSPIT 2011 Notification Due
DESCRIPTION:IEEE International Symposium on Signal Processing and Informa
 tion Technology
URL:http://www.wikicfp.com/cfp/servlet/event.showcfp?eventid=15354&copyow
 nerid=20403
UID:cfp169205-N@wikicfp.com
END:VEVENT
BEGIN:VEVENT
DTSTAMP:20260422T172732Z
DTSTART;VALUE=DATE:20111015
SUMMARY:ISSPIT 2011 Final Version Due
DESCRIPTION:IEEE International Symposium on Signal Processing and Informa
 tion Technology
URL:http://www.wikicfp.com/cfp/servlet/event.showcfp?eventid=15354&copyow
 nerid=20403
UID:cfp169205-N@wikicfp.com
END:VEVENT
BEGIN:VEVENT
DTSTAMP:20260422T172732Z
DTSTART;VALUE=DATE:20110831
SUMMARY:CSE & IT  2011 Deadline
DESCRIPTION:International Journals on Computer Science\, Engineering and 
 Information Technology 
URL:http://www.wikicfp.com/cfp/servlet/event.showcfp?eventid=15243&copyow
 nerid=20403
UID:cfp169212-D@wikicfp.com
END:VEVENT
BEGIN:VEVENT
DTSTAMP:20260422T172732Z
DTSTART;VALUE=DATE:20120325
DTEND;VALUE=DATE:20120331
SUMMARY:ICASSP 2012
DESCRIPTION:International Conference on Acoustics\, Speech\, and Signal P
 rocessing (ICASSP) 2012
URL:http://www.wikicfp.com/cfp/servlet/event.showcfp?eventid=12498&copyow
 nerid=20403
UID:cfp169202-E@wikicfp.com
END:VEVENT
BEGIN:VEVENT
DTSTAMP:20260422T172732Z
DTSTART;VALUE=DATE:20110927
SUMMARY:ICASSP 2012 Deadline
DESCRIPTION:International Conference on Acoustics\, Speech\, and Signal P
 rocessing (ICASSP) 2012
URL:http://www.wikicfp.com/cfp/servlet/event.showcfp?eventid=12498&copyow
 nerid=20403
UID:cfp169202-D@wikicfp.com
END:VEVENT
BEGIN:VEVENT
DTSTAMP:20260422T172732Z
DTSTART;VALUE=DATE:20111222
SUMMARY:ICASSP 2012 Notification Due
DESCRIPTION:International Conference on Acoustics\, Speech\, and Signal P
 rocessing (ICASSP) 2012
URL:http://www.wikicfp.com/cfp/servlet/event.showcfp?eventid=12498&copyow
 nerid=20403
UID:cfp169202-N@wikicfp.com
END:VEVENT
BEGIN:VEVENT
DTSTAMP:20260422T172732Z
DTSTART;VALUE=DATE:20120119
SUMMARY:ICASSP 2012 Final Version Due
DESCRIPTION:International Conference on Acoustics\, Speech\, and Signal P
 rocessing (ICASSP) 2012
URL:http://www.wikicfp.com/cfp/servlet/event.showcfp?eventid=12498&copyow
 nerid=20403
UID:cfp169202-N@wikicfp.com
END:VEVENT
BEGIN:VEVENT
DTSTAMP:20260422T172732Z
DTSTART;VALUE=DATE:20120621
DTEND;VALUE=DATE:20120624
SUMMARY:COMM 2012
DESCRIPTION:9th International Conference on Communications
URL:http://www.wikicfp.com/cfp/servlet/event.showcfp?eventid=14527&copyow
 nerid=20403
UID:cfp169204-E@wikicfp.com
END:VEVENT
BEGIN:VEVENT
DTSTAMP:20260422T172732Z
DTSTART;VALUE=DATE:20120118
SUMMARY:COMM 2012 Deadline
DESCRIPTION:9th International Conference on Communications
URL:http://www.wikicfp.com/cfp/servlet/event.showcfp?eventid=14527&copyow
 nerid=20403
UID:cfp169204-D@wikicfp.com
END:VEVENT
BEGIN:VEVENT
DTSTAMP:20260422T172732Z
DTSTART;VALUE=DATE:20120301
SUMMARY:COMM 2012 Notification Due
DESCRIPTION:9th International Conference on Communications
URL:http://www.wikicfp.com/cfp/servlet/event.showcfp?eventid=14527&copyow
 nerid=20403
UID:cfp169204-N@wikicfp.com
END:VEVENT
BEGIN:VEVENT
DTSTAMP:20260422T172732Z
DTSTART;VALUE=DATE:20120401
SUMMARY:COMM 2012 Final Version Due
DESCRIPTION:9th International Conference on Communications
URL:http://www.wikicfp.com/cfp/servlet/event.showcfp?eventid=14527&copyow
 nerid=20403
UID:cfp169204-N@wikicfp.com
END:VEVENT
END:VCALENDAR
