BEGIN:VCALENDAR
PRODID:-//WikiCFP//weingaertner 1.0//EN
VERSION:2.0
CALSCALE:GREGORIAN
BEGIN:VEVENT
DTSTAMP:20260420T194410Z
DTSTART;VALUE=DATE:20090615
DTEND;VALUE=DATE:20090620
SUMMARY:SIGMETRICS 2009
DESCRIPTION:the 11th ACM SIGMETRICS International Conference on Measureme
 nt and Modeling of Computer Systems
URL:http://www.wikicfp.com/cfp/servlet/event.showcfp?eventid=3694&copyown
 erid=2038
UID:cfp16164-E@wikicfp.com
END:VEVENT
BEGIN:VEVENT
DTSTAMP:20260420T194410Z
DTSTART;VALUE=DATE:20081117
SUMMARY:SIGMETRICS 2009 Deadline
DESCRIPTION:the 11th ACM SIGMETRICS International Conference on Measureme
 nt and Modeling of Computer Systems
URL:http://www.wikicfp.com/cfp/servlet/event.showcfp?eventid=3694&copyown
 erid=2038
UID:cfp16164-D@wikicfp.com
END:VEVENT
BEGIN:VEVENT
DTSTAMP:20260420T194410Z
DTSTART;VALUE=DATE:20090209
SUMMARY:SIGMETRICS 2009 Notification Due
DESCRIPTION:the 11th ACM SIGMETRICS International Conference on Measureme
 nt and Modeling of Computer Systems
URL:http://www.wikicfp.com/cfp/servlet/event.showcfp?eventid=3694&copyown
 erid=2038
UID:cfp16164-N@wikicfp.com
END:VEVENT
END:VCALENDAR
