BEGIN:VCALENDAR
PRODID:-//WikiCFP//sima87 1.0//EN
VERSION:2.0
CALSCALE:GREGORIAN
BEGIN:VEVENT
DTSTAMP:20260425T172618Z
DTSTART;VALUE=DATE:20110226
DTEND;VALUE=DATE:20110301
SUMMARY:ICEFR 2011
DESCRIPTION:International Conference on Economics and Finance Research
URL:http://www.wikicfp.com/cfp/servlet/event.showcfp?eventid=11515&copyow
 nerid=19986
UID:cfp137416-E@wikicfp.com
END:VEVENT
BEGIN:VEVENT
DTSTAMP:20260425T172618Z
DTSTART;VALUE=DATE:20101025
SUMMARY:ICEFR 2011 Deadline
DESCRIPTION:International Conference on Economics and Finance Research
URL:http://www.wikicfp.com/cfp/servlet/event.showcfp?eventid=11515&copyow
 nerid=19986
UID:cfp137416-D@wikicfp.com
END:VEVENT
BEGIN:VEVENT
DTSTAMP:20260425T172618Z
DTSTART;VALUE=DATE:20101120
SUMMARY:ICEFR 2011 Notification Due
DESCRIPTION:International Conference on Economics and Finance Research
URL:http://www.wikicfp.com/cfp/servlet/event.showcfp?eventid=11515&copyow
 nerid=19986
UID:cfp137416-N@wikicfp.com
END:VEVENT
BEGIN:VEVENT
DTSTAMP:20260425T172618Z
DTSTART;VALUE=DATE:20101205
SUMMARY:ICEFR 2011 Final Version Due
DESCRIPTION:International Conference on Economics and Finance Research
URL:http://www.wikicfp.com/cfp/servlet/event.showcfp?eventid=11515&copyow
 nerid=19986
UID:cfp137416-N@wikicfp.com
END:VEVENT
BEGIN:VEVENT
DTSTAMP:20260425T172618Z
DTSTART;VALUE=DATE:20110706
DTEND;VALUE=DATE:20110709
SUMMARY:ICMFE 2011
DESCRIPTION:INTERNATIONAL CONFERENCE ON MATHEMATICAL FINANCE AND ECONOMIC
 S 
URL:http://www.wikicfp.com/cfp/servlet/event.showcfp?eventid=13722&copyow
 nerid=19986
UID:cfp137418-E@wikicfp.com
END:VEVENT
BEGIN:VEVENT
DTSTAMP:20260425T172618Z
DTSTART;VALUE=DATE:20110415
SUMMARY:ICMFE 2011 Deadline
DESCRIPTION:INTERNATIONAL CONFERENCE ON MATHEMATICAL FINANCE AND ECONOMIC
 S 
URL:http://www.wikicfp.com/cfp/servlet/event.showcfp?eventid=13722&copyow
 nerid=19986
UID:cfp137418-D@wikicfp.com
END:VEVENT
BEGIN:VEVENT
DTSTAMP:20260425T172618Z
DTSTART;VALUE=DATE:20110502
SUMMARY:ICMFE 2011 Notification Due
DESCRIPTION:INTERNATIONAL CONFERENCE ON MATHEMATICAL FINANCE AND ECONOMIC
 S 
URL:http://www.wikicfp.com/cfp/servlet/event.showcfp?eventid=13722&copyow
 nerid=19986
UID:cfp137418-N@wikicfp.com
END:VEVENT
BEGIN:VEVENT
DTSTAMP:20260425T172618Z
DTSTART;VALUE=DATE:20110610
SUMMARY:ICMFE 2011 Final Version Due
DESCRIPTION:INTERNATIONAL CONFERENCE ON MATHEMATICAL FINANCE AND ECONOMIC
 S 
URL:http://www.wikicfp.com/cfp/servlet/event.showcfp?eventid=13722&copyow
 nerid=19986
UID:cfp137418-N@wikicfp.com
END:VEVENT
BEGIN:VEVENT
DTSTAMP:20260425T172618Z
DTSTART;VALUE=DATE:20111017
DTEND;VALUE=DATE:20111020
SUMMARY:MSR 2011
DESCRIPTION:International Conference on Advances in Management Science an
 d Risk 
URL:http://www.wikicfp.com/cfp/servlet/event.showcfp?eventid=13554&copyow
 nerid=19986
UID:cfp137417-E@wikicfp.com
END:VEVENT
BEGIN:VEVENT
DTSTAMP:20260425T172618Z
DTSTART;VALUE=DATE:20110516
SUMMARY:MSR 2011 Deadline
DESCRIPTION:International Conference on Advances in Management Science an
 d Risk 
URL:http://www.wikicfp.com/cfp/servlet/event.showcfp?eventid=13554&copyow
 nerid=19986
UID:cfp137417-D@wikicfp.com
END:VEVENT
BEGIN:VEVENT
DTSTAMP:20260425T172618Z
DTSTART;VALUE=DATE:20110615
SUMMARY:MSR 2011 Notification Due
DESCRIPTION:International Conference on Advances in Management Science an
 d Risk 
URL:http://www.wikicfp.com/cfp/servlet/event.showcfp?eventid=13554&copyow
 nerid=19986
UID:cfp137417-N@wikicfp.com
END:VEVENT
BEGIN:VEVENT
DTSTAMP:20260425T172618Z
DTSTART;VALUE=DATE:20110619
SUMMARY:MSR 2011 Final Version Due
DESCRIPTION:International Conference on Advances in Management Science an
 d Risk 
URL:http://www.wikicfp.com/cfp/servlet/event.showcfp?eventid=13554&copyow
 nerid=19986
UID:cfp137417-N@wikicfp.com
END:VEVENT
END:VCALENDAR
