BEGIN:VCALENDAR
PRODID:-//WikiCFP//marmundo 1.0//EN
VERSION:2.0
CALSCALE:GREGORIAN
BEGIN:VEVENT
DTSTAMP:20260422T234455Z
DTSTART;VALUE=DATE:20110606
DTEND;VALUE=DATE:20110612
SUMMARY:ICAIL 2011
DESCRIPTION:The Thirteenth International Conference on Artificial Intelli
 gence and Law
URL:http://www.wikicfp.com/cfp/servlet/event.showcfp?eventid=11925&copyow
 nerid=19662
UID:cfp135070-E@wikicfp.com
END:VEVENT
BEGIN:VEVENT
DTSTAMP:20260422T234455Z
DTSTART;VALUE=DATE:20110103
SUMMARY:ICAIL 2011 Abstract Due
DESCRIPTION:The Thirteenth International Conference on Artificial Intelli
 gence and Law
URL:http://www.wikicfp.com/cfp/servlet/event.showcfp?eventid=11925&copyow
 nerid=19662
UID:cfp135070-A@wikicfp.com
END:VEVENT
BEGIN:VEVENT
DTSTAMP:20260422T234455Z
DTSTART;VALUE=DATE:20110110
SUMMARY:ICAIL 2011 Deadline
DESCRIPTION:The Thirteenth International Conference on Artificial Intelli
 gence and Law
URL:http://www.wikicfp.com/cfp/servlet/event.showcfp?eventid=11925&copyow
 nerid=19662
UID:cfp135070-D@wikicfp.com
END:VEVENT
BEGIN:VEVENT
DTSTAMP:20260422T234455Z
DTSTART;VALUE=DATE:20110821
DTEND;VALUE=DATE:20110825
SUMMARY:KDD 2011
DESCRIPTION:The 17th ACM SIGKDD Conference on Knowledge Discovery and Dat
 a Mining
URL:http://www.wikicfp.com/cfp/servlet/event.showcfp?eventid=11325&copyow
 nerid=19662
UID:cfp135071-E@wikicfp.com
END:VEVENT
BEGIN:VEVENT
DTSTAMP:20260422T234455Z
DTSTART;VALUE=DATE:20110211
SUMMARY:KDD 2011 Abstract Due
DESCRIPTION:The 17th ACM SIGKDD Conference on Knowledge Discovery and Dat
 a Mining
URL:http://www.wikicfp.com/cfp/servlet/event.showcfp?eventid=11325&copyow
 nerid=19662
UID:cfp135071-A@wikicfp.com
END:VEVENT
BEGIN:VEVENT
DTSTAMP:20260422T234455Z
DTSTART;VALUE=DATE:20110218
SUMMARY:KDD 2011 Deadline
DESCRIPTION:The 17th ACM SIGKDD Conference on Knowledge Discovery and Dat
 a Mining
URL:http://www.wikicfp.com/cfp/servlet/event.showcfp?eventid=11325&copyow
 nerid=19662
UID:cfp135071-D@wikicfp.com
END:VEVENT
BEGIN:VEVENT
DTSTAMP:20260422T234455Z
DTSTART;VALUE=DATE:20110501
SUMMARY:KDD 2011 Notification Due
DESCRIPTION:The 17th ACM SIGKDD Conference on Knowledge Discovery and Dat
 a Mining
URL:http://www.wikicfp.com/cfp/servlet/event.showcfp?eventid=11325&copyow
 nerid=19662
UID:cfp135071-N@wikicfp.com
END:VEVENT
BEGIN:VEVENT
DTSTAMP:20260422T234455Z
DTSTART;VALUE=DATE:20110824
DTEND;VALUE=DATE:20110827
SUMMARY:ICGS 2011
DESCRIPTION:7th Internatioal Conference on Global Security\, Safety and S
 ustainability
URL:http://www.wikicfp.com/cfp/servlet/event.showcfp?eventid=14955&copyow
 nerid=19662
UID:cfp163913-E@wikicfp.com
END:VEVENT
BEGIN:VEVENT
DTSTAMP:20260422T234455Z
DTSTART;VALUE=DATE:20110429
SUMMARY:ICGS 2011 Deadline
DESCRIPTION:7th Internatioal Conference on Global Security\, Safety and S
 ustainability
URL:http://www.wikicfp.com/cfp/servlet/event.showcfp?eventid=14955&copyow
 nerid=19662
UID:cfp163913-D@wikicfp.com
END:VEVENT
BEGIN:VEVENT
DTSTAMP:20260422T234455Z
DTSTART;VALUE=DATE:20111029
DTEND;VALUE=DATE:20111101
SUMMARY:IDA 2011
DESCRIPTION:The 10th International Symposium on Intelligent Data Analysis
 
URL:http://www.wikicfp.com/cfp/servlet/event.showcfp?eventid=12443&copyow
 nerid=19662
UID:cfp171251-E@wikicfp.com
END:VEVENT
BEGIN:VEVENT
DTSTAMP:20260422T234455Z
DTSTART;VALUE=DATE:20110514
SUMMARY:IDA 2011 Deadline
DESCRIPTION:The 10th International Symposium on Intelligent Data Analysis
 
URL:http://www.wikicfp.com/cfp/servlet/event.showcfp?eventid=12443&copyow
 nerid=19662
UID:cfp171251-D@wikicfp.com
END:VEVENT
BEGIN:VEVENT
DTSTAMP:20260422T234455Z
DTSTART;VALUE=DATE:20110713
SUMMARY:IDA 2011 Notification Due
DESCRIPTION:The 10th International Symposium on Intelligent Data Analysis
 
URL:http://www.wikicfp.com/cfp/servlet/event.showcfp?eventid=12443&copyow
 nerid=19662
UID:cfp171251-N@wikicfp.com
END:VEVENT
BEGIN:VEVENT
DTSTAMP:20260422T234455Z
DTSTART;VALUE=DATE:20110813
SUMMARY:IDA 2011 Final Version Due
DESCRIPTION:The 10th International Symposium on Intelligent Data Analysis
 
URL:http://www.wikicfp.com/cfp/servlet/event.showcfp?eventid=12443&copyow
 nerid=19662
UID:cfp171251-N@wikicfp.com
END:VEVENT
BEGIN:VEVENT
DTSTAMP:20260422T234455Z
DTSTART;VALUE=DATE:20130604
DTEND;VALUE=DATE:20130608
SUMMARY:ICB 2013
DESCRIPTION:6th International Conference on Biometrics
URL:http://www.wikicfp.com/cfp/servlet/event.showcfp?eventid=26480&copyow
 nerid=19662
UID:cfp377101-E@wikicfp.com
END:VEVENT
BEGIN:VEVENT
DTSTAMP:20260422T234455Z
DTSTART;VALUE=DATE:20121215
SUMMARY:ICB 2013 Deadline
DESCRIPTION:6th International Conference on Biometrics
URL:http://www.wikicfp.com/cfp/servlet/event.showcfp?eventid=26480&copyow
 nerid=19662
UID:cfp377101-D@wikicfp.com
END:VEVENT
BEGIN:VEVENT
DTSTAMP:20260422T234455Z
DTSTART;VALUE=DATE:20130803
DTEND;VALUE=DATE:20130810
SUMMARY:IJCAI 2013
DESCRIPTION:The 2013 International Joint Conference on Artificial Intelli
 gence 
URL:http://www.wikicfp.com/cfp/servlet/event.showcfp?eventid=17455&copyow
 nerid=19662
UID:cfp377105-E@wikicfp.com
END:VEVENT
BEGIN:VEVENT
DTSTAMP:20260422T234455Z
DTSTART;VALUE=DATE:20130126
SUMMARY:IJCAI 2013 Abstract Due
DESCRIPTION:The 2013 International Joint Conference on Artificial Intelli
 gence 
URL:http://www.wikicfp.com/cfp/servlet/event.showcfp?eventid=17455&copyow
 nerid=19662
UID:cfp377105-A@wikicfp.com
END:VEVENT
BEGIN:VEVENT
DTSTAMP:20260422T234455Z
DTSTART;VALUE=DATE:20130131
SUMMARY:IJCAI 2013 Deadline
DESCRIPTION:The 2013 International Joint Conference on Artificial Intelli
 gence 
URL:http://www.wikicfp.com/cfp/servlet/event.showcfp?eventid=17455&copyow
 nerid=19662
UID:cfp377105-D@wikicfp.com
END:VEVENT
BEGIN:VEVENT
DTSTAMP:20260422T234455Z
DTSTART;VALUE=DATE:20130402
SUMMARY:IJCAI 2013 Notification Due
DESCRIPTION:The 2013 International Joint Conference on Artificial Intelli
 gence 
URL:http://www.wikicfp.com/cfp/servlet/event.showcfp?eventid=17455&copyow
 nerid=19662
UID:cfp377105-N@wikicfp.com
END:VEVENT
BEGIN:VEVENT
DTSTAMP:20260422T234455Z
DTSTART;VALUE=DATE:20130423
SUMMARY:IJCAI 2013 Final Version Due
DESCRIPTION:The 2013 International Joint Conference on Artificial Intelli
 gence 
URL:http://www.wikicfp.com/cfp/servlet/event.showcfp?eventid=17455&copyow
 nerid=19662
UID:cfp377105-N@wikicfp.com
END:VEVENT
BEGIN:VEVENT
DTSTAMP:20260422T234455Z
DTSTART;VALUE=DATE:20130616
DTEND;VALUE=DATE:20130622
SUMMARY:ICML 2013
DESCRIPTION:The 30th International Conference on Machine Learning
URL:http://www.wikicfp.com/cfp/servlet/event.showcfp?eventid=25075&copyow
 nerid=19662
UID:cfp336853-E@wikicfp.com
END:VEVENT
BEGIN:VEVENT
DTSTAMP:20260422T234455Z
DTSTART;VALUE=DATE:20130215
SUMMARY:ICML 2013 Deadline
DESCRIPTION:The 30th International Conference on Machine Learning
URL:http://www.wikicfp.com/cfp/servlet/event.showcfp?eventid=25075&copyow
 nerid=19662
UID:cfp336853-D@wikicfp.com
END:VEVENT
BEGIN:VEVENT
DTSTAMP:20260422T234455Z
DTSTART;VALUE=DATE:20130415
SUMMARY:ICML 2013 Notification Due
DESCRIPTION:The 30th International Conference on Machine Learning
URL:http://www.wikicfp.com/cfp/servlet/event.showcfp?eventid=25075&copyow
 nerid=19662
UID:cfp336853-N@wikicfp.com
END:VEVENT
BEGIN:VEVENT
DTSTAMP:20260422T234455Z
DTSTART;VALUE=DATE:20130508
SUMMARY:ICML 2013 Final Version Due
DESCRIPTION:The 30th International Conference on Machine Learning
URL:http://www.wikicfp.com/cfp/servlet/event.showcfp?eventid=25075&copyow
 nerid=19662
UID:cfp336853-N@wikicfp.com
END:VEVENT
BEGIN:VEVENT
DTSTAMP:20260422T234455Z
DTSTART;VALUE=DATE:20130811
DTEND;VALUE=DATE:20130815
SUMMARY:KDD 2013
DESCRIPTION:ACM SIGKDD Conference on Knowledge Discovery and Data Mining
URL:http://www.wikicfp.com/cfp/servlet/event.showcfp?eventid=25406&copyow
 nerid=19662
UID:cfp377107-E@wikicfp.com
END:VEVENT
BEGIN:VEVENT
DTSTAMP:20260422T234455Z
DTSTART;VALUE=DATE:20130215
SUMMARY:KDD 2013 Abstract Due
DESCRIPTION:ACM SIGKDD Conference on Knowledge Discovery and Data Mining
URL:http://www.wikicfp.com/cfp/servlet/event.showcfp?eventid=25406&copyow
 nerid=19662
UID:cfp377107-A@wikicfp.com
END:VEVENT
BEGIN:VEVENT
DTSTAMP:20260422T234455Z
DTSTART;VALUE=DATE:20130222
SUMMARY:KDD 2013 Deadline
DESCRIPTION:ACM SIGKDD Conference on Knowledge Discovery and Data Mining
URL:http://www.wikicfp.com/cfp/servlet/event.showcfp?eventid=25406&copyow
 nerid=19662
UID:cfp377107-D@wikicfp.com
END:VEVENT
BEGIN:VEVENT
DTSTAMP:20260422T234455Z
DTSTART;VALUE=DATE:20130503
SUMMARY:KDD 2013 Notification Due
DESCRIPTION:ACM SIGKDD Conference on Knowledge Discovery and Data Mining
URL:http://www.wikicfp.com/cfp/servlet/event.showcfp?eventid=25406&copyow
 nerid=19662
UID:cfp377107-N@wikicfp.com
END:VEVENT
BEGIN:VEVENT
DTSTAMP:20260422T234455Z
DTSTART;VALUE=DATE:20130607
SUMMARY:KDD 2013 Final Version Due
DESCRIPTION:ACM SIGKDD Conference on Knowledge Discovery and Data Mining
URL:http://www.wikicfp.com/cfp/servlet/event.showcfp?eventid=25406&copyow
 nerid=19662
UID:cfp377107-N@wikicfp.com
END:VEVENT
BEGIN:VEVENT
DTSTAMP:20260422T234455Z
DTSTART;VALUE=DATE:20130722
DTEND;VALUE=DATE:20130726
SUMMARY:ICAI 2013
DESCRIPTION:The 2013 International Conference on Artificial Intelligence
URL:http://www.wikicfp.com/cfp/servlet/event.showcfp?eventid=28299&copyow
 nerid=19662
UID:cfp359975-E@wikicfp.com
END:VEVENT
BEGIN:VEVENT
DTSTAMP:20260422T234455Z
DTSTART;VALUE=DATE:20130318
SUMMARY:ICAI 2013 Deadline
DESCRIPTION:The 2013 International Conference on Artificial Intelligence
URL:http://www.wikicfp.com/cfp/servlet/event.showcfp?eventid=28299&copyow
 nerid=19662
UID:cfp359975-D@wikicfp.com
END:VEVENT
BEGIN:VEVENT
DTSTAMP:20260422T234455Z
DTSTART;VALUE=DATE:20130418
SUMMARY:ICAI 2013 Notification Due
DESCRIPTION:The 2013 International Conference on Artificial Intelligence
URL:http://www.wikicfp.com/cfp/servlet/event.showcfp?eventid=28299&copyow
 nerid=19662
UID:cfp359975-N@wikicfp.com
END:VEVENT
BEGIN:VEVENT
DTSTAMP:20260422T234455Z
DTSTART;VALUE=DATE:20130505
SUMMARY:ICAI 2013 Final Version Due
DESCRIPTION:The 2013 International Conference on Artificial Intelligence
URL:http://www.wikicfp.com/cfp/servlet/event.showcfp?eventid=28299&copyow
 nerid=19662
UID:cfp359975-N@wikicfp.com
END:VEVENT
BEGIN:VEVENT
DTSTAMP:20260422T234455Z
DTSTART;VALUE=DATE:20131104
DTEND;VALUE=DATE:20131109
SUMMARY:CCS 2013
DESCRIPTION:ACM Conference on Computer and Communications Security
URL:http://www.wikicfp.com/cfp/servlet/event.showcfp?eventid=24374&copyow
 nerid=19662
UID:cfp377103-E@wikicfp.com
END:VEVENT
BEGIN:VEVENT
DTSTAMP:20260422T234455Z
DTSTART;VALUE=DATE:20130508
SUMMARY:CCS 2013 Deadline
DESCRIPTION:ACM Conference on Computer and Communications Security
URL:http://www.wikicfp.com/cfp/servlet/event.showcfp?eventid=24374&copyow
 nerid=19662
UID:cfp377103-D@wikicfp.com
END:VEVENT
BEGIN:VEVENT
DTSTAMP:20260422T234455Z
DTSTART;VALUE=DATE:20130719
SUMMARY:CCS 2013 Notification Due
DESCRIPTION:ACM Conference on Computer and Communications Security
URL:http://www.wikicfp.com/cfp/servlet/event.showcfp?eventid=24374&copyow
 nerid=19662
UID:cfp377103-N@wikicfp.com
END:VEVENT
BEGIN:VEVENT
DTSTAMP:20260422T234455Z
DTSTART;VALUE=DATE:20130815
SUMMARY:CCS 2013 Final Version Due
DESCRIPTION:ACM Conference on Computer and Communications Security
URL:http://www.wikicfp.com/cfp/servlet/event.showcfp?eventid=24374&copyow
 nerid=19662
UID:cfp377103-N@wikicfp.com
END:VEVENT
BEGIN:VEVENT
DTSTAMP:20260422T234455Z
DTSTART;VALUE=DATE:20130905
DTEND;VALUE=DATE:20130907
SUMMARY:BIOSIG 2013
DESCRIPTION:IEEE International Conference of the Biometrics Special Inter
 est Group
URL:http://www.wikicfp.com/cfp/servlet/event.showcfp?eventid=26868&copyow
 nerid=19662
UID:cfp377102-E@wikicfp.com
END:VEVENT
BEGIN:VEVENT
DTSTAMP:20260422T234455Z
DTSTART;VALUE=DATE:20130530
SUMMARY:BIOSIG 2013 Deadline
DESCRIPTION:IEEE International Conference of the Biometrics Special Inter
 est Group
URL:http://www.wikicfp.com/cfp/servlet/event.showcfp?eventid=26868&copyow
 nerid=19662
UID:cfp377102-D@wikicfp.com
END:VEVENT
BEGIN:VEVENT
DTSTAMP:20260422T234455Z
DTSTART;VALUE=DATE:20130630
SUMMARY:BIOSIG 2013 Notification Due
DESCRIPTION:IEEE International Conference of the Biometrics Special Inter
 est Group
URL:http://www.wikicfp.com/cfp/servlet/event.showcfp?eventid=26868&copyow
 nerid=19662
UID:cfp377102-N@wikicfp.com
END:VEVENT
BEGIN:VEVENT
DTSTAMP:20260422T234455Z
DTSTART;VALUE=DATE:20130731
SUMMARY:BIOSIG 2013 Final Version Due
DESCRIPTION:IEEE International Conference of the Biometrics Special Inter
 est Group
URL:http://www.wikicfp.com/cfp/servlet/event.showcfp?eventid=26868&copyow
 nerid=19662
UID:cfp377102-N@wikicfp.com
END:VEVENT
BEGIN:VEVENT
DTSTAMP:20260422T234455Z
DTSTART;VALUE=DATE:20131208
DTEND;VALUE=DATE:20131212
SUMMARY:ICDM 2013
DESCRIPTION:IEEE International Conference on Data Mining 
URL:http://www.wikicfp.com/cfp/servlet/event.showcfp?eventid=28503&copyow
 nerid=19662
UID:cfp336852-E@wikicfp.com
END:VEVENT
BEGIN:VEVENT
DTSTAMP:20260422T234455Z
DTSTART;VALUE=DATE:20130621
SUMMARY:ICDM 2013 Deadline
DESCRIPTION:IEEE International Conference on Data Mining 
URL:http://www.wikicfp.com/cfp/servlet/event.showcfp?eventid=28503&copyow
 nerid=19662
UID:cfp336852-D@wikicfp.com
END:VEVENT
BEGIN:VEVENT
DTSTAMP:20260422T234455Z
DTSTART;VALUE=DATE:20130920
SUMMARY:ICDM 2013 Notification Due
DESCRIPTION:IEEE International Conference on Data Mining 
URL:http://www.wikicfp.com/cfp/servlet/event.showcfp?eventid=28503&copyow
 nerid=19662
UID:cfp336852-N@wikicfp.com
END:VEVENT
BEGIN:VEVENT
DTSTAMP:20260422T234455Z
DTSTART;VALUE=DATE:20140331
DTEND;VALUE=DATE:20140405
SUMMARY:ICDE 2014
DESCRIPTION:IEEE International Conference on Data Engineering 
URL:http://www.wikicfp.com/cfp/servlet/event.showcfp?eventid=26120&copyow
 nerid=19662
UID:cfp377104-E@wikicfp.com
END:VEVENT
BEGIN:VEVENT
DTSTAMP:20260422T234455Z
DTSTART;VALUE=DATE:20130715
SUMMARY:ICDE 2014 Abstract Due
DESCRIPTION:IEEE International Conference on Data Engineering 
URL:http://www.wikicfp.com/cfp/servlet/event.showcfp?eventid=26120&copyow
 nerid=19662
UID:cfp377104-A@wikicfp.com
END:VEVENT
BEGIN:VEVENT
DTSTAMP:20260422T234455Z
DTSTART;VALUE=DATE:20130722
SUMMARY:ICDE 2014 Deadline
DESCRIPTION:IEEE International Conference on Data Engineering 
URL:http://www.wikicfp.com/cfp/servlet/event.showcfp?eventid=26120&copyow
 nerid=19662
UID:cfp377104-D@wikicfp.com
END:VEVENT
BEGIN:VEVENT
DTSTAMP:20260422T234455Z
DTSTART;VALUE=DATE:20131015
SUMMARY:ICDE 2014 Notification Due
DESCRIPTION:IEEE International Conference on Data Engineering 
URL:http://www.wikicfp.com/cfp/servlet/event.showcfp?eventid=26120&copyow
 nerid=19662
UID:cfp377104-N@wikicfp.com
END:VEVENT
BEGIN:VEVENT
DTSTAMP:20260422T234455Z
DTSTART;VALUE=DATE:20131129
SUMMARY:ICDE 2014 Final Version Due
DESCRIPTION:IEEE International Conference on Data Engineering 
URL:http://www.wikicfp.com/cfp/servlet/event.showcfp?eventid=26120&copyow
 nerid=19662
UID:cfp377104-N@wikicfp.com
END:VEVENT
BEGIN:VEVENT
DTSTAMP:20260422T234455Z
DTSTART;VALUE=DATE:20140324
DTEND;VALUE=DATE:20140329
SUMMARY:SAC 2014
DESCRIPTION:29th Symposium On Applied Computing
URL:http://www.wikicfp.com/cfp/servlet/event.showcfp?eventid=31063&copyow
 nerid=19662
UID:cfp377099-E@wikicfp.com
END:VEVENT
BEGIN:VEVENT
DTSTAMP:20260422T234455Z
DTSTART;VALUE=DATE:20130913
SUMMARY:SAC 2014 Deadline
DESCRIPTION:29th Symposium On Applied Computing
URL:http://www.wikicfp.com/cfp/servlet/event.showcfp?eventid=31063&copyow
 nerid=19662
UID:cfp377099-D@wikicfp.com
END:VEVENT
BEGIN:VEVENT
DTSTAMP:20260422T234455Z
DTSTART;VALUE=DATE:20131115
SUMMARY:SAC 2014 Notification Due
DESCRIPTION:29th Symposium On Applied Computing
URL:http://www.wikicfp.com/cfp/servlet/event.showcfp?eventid=31063&copyow
 nerid=19662
UID:cfp377099-N@wikicfp.com
END:VEVENT
BEGIN:VEVENT
DTSTAMP:20260422T234455Z
DTSTART;VALUE=DATE:20131206
SUMMARY:SAC 2014 Final Version Due
DESCRIPTION:29th Symposium On Applied Computing
URL:http://www.wikicfp.com/cfp/servlet/event.showcfp?eventid=31063&copyow
 nerid=19662
UID:cfp377099-N@wikicfp.com
END:VEVENT
BEGIN:VEVENT
DTSTAMP:20260422T234455Z
DTSTART;VALUE=DATE:20131230
SUMMARY:CCS 2013 Deadline
DESCRIPTION:Communications and Computer Security Journal
URL:http://www.wikicfp.com/cfp/servlet/event.showcfp?eventid=15941&copyow
 nerid=19662
UID:cfp384979-D@wikicfp.com
END:VEVENT
BEGIN:VEVENT
DTSTAMP:20260422T234455Z
DTSTART;VALUE=DATE:20140621
DTEND;VALUE=DATE:20140627
SUMMARY:ICML 2014
DESCRIPTION:31st International Conference on Machine Learning 
URL:http://www.wikicfp.com/cfp/servlet/event.showcfp?eventid=31811&copyow
 nerid=19662
UID:cfp372598-E@wikicfp.com
END:VEVENT
BEGIN:VEVENT
DTSTAMP:20260422T234455Z
DTSTART;VALUE=DATE:20140131
SUMMARY:ICML 2014 Deadline
DESCRIPTION:31st International Conference on Machine Learning 
URL:http://www.wikicfp.com/cfp/servlet/event.showcfp?eventid=31811&copyow
 nerid=19662
UID:cfp372598-D@wikicfp.com
END:VEVENT
BEGIN:VEVENT
DTSTAMP:20260422T234455Z
DTSTART;VALUE=DATE:20140409
SUMMARY:ICML 2014 Notification Due
DESCRIPTION:31st International Conference on Machine Learning 
URL:http://www.wikicfp.com/cfp/servlet/event.showcfp?eventid=31811&copyow
 nerid=19662
UID:cfp372598-N@wikicfp.com
END:VEVENT
BEGIN:VEVENT
DTSTAMP:20260422T234455Z
DTSTART;VALUE=DATE:20140727
DTEND;VALUE=DATE:20140801
SUMMARY:AAAI 2014
DESCRIPTION:28th AAAI Conference on Artificial Intelligence
URL:http://www.wikicfp.com/cfp/servlet/event.showcfp?eventid=31244&copyow
 nerid=19662
UID:cfp377100-E@wikicfp.com
END:VEVENT
BEGIN:VEVENT
DTSTAMP:20260422T234455Z
DTSTART;VALUE=DATE:20140131
SUMMARY:AAAI 2014 Abstract Due
DESCRIPTION:28th AAAI Conference on Artificial Intelligence
URL:http://www.wikicfp.com/cfp/servlet/event.showcfp?eventid=31244&copyow
 nerid=19662
UID:cfp377100-A@wikicfp.com
END:VEVENT
BEGIN:VEVENT
DTSTAMP:20260422T234455Z
DTSTART;VALUE=DATE:20140204
SUMMARY:AAAI 2014 Deadline
DESCRIPTION:28th AAAI Conference on Artificial Intelligence
URL:http://www.wikicfp.com/cfp/servlet/event.showcfp?eventid=31244&copyow
 nerid=19662
UID:cfp377100-D@wikicfp.com
END:VEVENT
BEGIN:VEVENT
DTSTAMP:20260422T234455Z
DTSTART;VALUE=DATE:20140407
SUMMARY:AAAI 2014 Notification Due
DESCRIPTION:28th AAAI Conference on Artificial Intelligence
URL:http://www.wikicfp.com/cfp/servlet/event.showcfp?eventid=31244&copyow
 nerid=19662
UID:cfp377100-N@wikicfp.com
END:VEVENT
BEGIN:VEVENT
DTSTAMP:20260422T234455Z
DTSTART;VALUE=DATE:20140422
SUMMARY:AAAI 2014 Final Version Due
DESCRIPTION:28th AAAI Conference on Artificial Intelligence
URL:http://www.wikicfp.com/cfp/servlet/event.showcfp?eventid=31244&copyow
 nerid=19662
UID:cfp377100-N@wikicfp.com
END:VEVENT
BEGIN:VEVENT
DTSTAMP:20260422T234455Z
DTSTART;VALUE=DATE:20140915
DTEND;VALUE=DATE:20140920
SUMMARY:ICANN 2014
DESCRIPTION:The 24th International Conference on Artificial Neural Networ
 ks
URL:http://www.wikicfp.com/cfp/servlet/event.showcfp?eventid=34173&copyow
 nerid=19662
UID:cfp426512-E@wikicfp.com
END:VEVENT
BEGIN:VEVENT
DTSTAMP:20260422T234455Z
DTSTART;VALUE=DATE:20140227
SUMMARY:ICANN 2014 Deadline
DESCRIPTION:The 24th International Conference on Artificial Neural Networ
 ks
URL:http://www.wikicfp.com/cfp/servlet/event.showcfp?eventid=34173&copyow
 nerid=19662
UID:cfp426512-D@wikicfp.com
END:VEVENT
BEGIN:VEVENT
DTSTAMP:20260422T234455Z
DTSTART;VALUE=DATE:20140407
SUMMARY:ICANN 2014 Notification Due
DESCRIPTION:The 24th International Conference on Artificial Neural Networ
 ks
URL:http://www.wikicfp.com/cfp/servlet/event.showcfp?eventid=34173&copyow
 nerid=19662
UID:cfp426512-N@wikicfp.com
END:VEVENT
BEGIN:VEVENT
DTSTAMP:20260422T234455Z
DTSTART;VALUE=DATE:20140505
SUMMARY:ICANN 2014 Final Version Due
DESCRIPTION:The 24th International Conference on Artificial Neural Networ
 ks
URL:http://www.wikicfp.com/cfp/servlet/event.showcfp?eventid=34173&copyow
 nerid=19662
UID:cfp426512-N@wikicfp.com
END:VEVENT
BEGIN:VEVENT
DTSTAMP:20260422T234455Z
DTSTART;VALUE=DATE:20140929
DTEND;VALUE=DATE:20141003
SUMMARY: IJCB 2014
DESCRIPTION:International Joint Conference on Biometrics
URL:http://www.wikicfp.com/cfp/servlet/event.showcfp?eventid=33298&copyow
 nerid=19662
UID:cfp391038-E@wikicfp.com
END:VEVENT
BEGIN:VEVENT
DTSTAMP:20260422T234455Z
DTSTART;VALUE=DATE:20140410
SUMMARY: IJCB 2014 Deadline
DESCRIPTION:International Joint Conference on Biometrics
URL:http://www.wikicfp.com/cfp/servlet/event.showcfp?eventid=33298&copyow
 nerid=19662
UID:cfp391038-D@wikicfp.com
END:VEVENT
BEGIN:VEVENT
DTSTAMP:20260422T234455Z
DTSTART;VALUE=DATE:20140620
SUMMARY: IJCB 2014 Notification Due
DESCRIPTION:International Joint Conference on Biometrics
URL:http://www.wikicfp.com/cfp/servlet/event.showcfp?eventid=33298&copyow
 nerid=19662
UID:cfp391038-N@wikicfp.com
END:VEVENT
BEGIN:VEVENT
DTSTAMP:20260422T234455Z
DTSTART;VALUE=DATE:20140715
SUMMARY: IJCB 2014 Final Version Due
DESCRIPTION:International Joint Conference on Biometrics
URL:http://www.wikicfp.com/cfp/servlet/event.showcfp?eventid=33298&copyow
 nerid=19662
UID:cfp391038-N@wikicfp.com
END:VEVENT
BEGIN:VEVENT
DTSTAMP:20260422T234455Z
DTSTART;VALUE=DATE:20141005
DTEND;VALUE=DATE:20141009
SUMMARY:SMC 2014
DESCRIPTION:2014 IEEE International Conference on Systems\, Man and Cyber
 netics - SMC
URL:http://www.wikicfp.com/cfp/servlet/event.showcfp?eventid=32852&copyow
 nerid=19662
UID:cfp426511-E@wikicfp.com
END:VEVENT
BEGIN:VEVENT
DTSTAMP:20260422T234455Z
DTSTART;VALUE=DATE:20140428
SUMMARY:SMC 2014 Deadline
DESCRIPTION:2014 IEEE International Conference on Systems\, Man and Cyber
 netics - SMC
URL:http://www.wikicfp.com/cfp/servlet/event.showcfp?eventid=32852&copyow
 nerid=19662
UID:cfp426511-D@wikicfp.com
END:VEVENT
BEGIN:VEVENT
DTSTAMP:20260422T234455Z
DTSTART;VALUE=DATE:20140525
SUMMARY:SMC 2014 Notification Due
DESCRIPTION:2014 IEEE International Conference on Systems\, Man and Cyber
 netics - SMC
URL:http://www.wikicfp.com/cfp/servlet/event.showcfp?eventid=32852&copyow
 nerid=19662
UID:cfp426511-N@wikicfp.com
END:VEVENT
BEGIN:VEVENT
DTSTAMP:20260422T234455Z
DTSTART;VALUE=DATE:20140709
SUMMARY:SMC 2014 Final Version Due
DESCRIPTION:2014 IEEE International Conference on Systems\, Man and Cyber
 netics - SMC
URL:http://www.wikicfp.com/cfp/servlet/event.showcfp?eventid=32852&copyow
 nerid=19662
UID:cfp426511-N@wikicfp.com
END:VEVENT
BEGIN:VEVENT
DTSTAMP:20260422T234455Z
DTSTART;VALUE=DATE:20140924
DTEND;VALUE=DATE:20140927
SUMMARY:TrustCom 2014
DESCRIPTION:The 13th IEEE International Conference on Trust\, Security an
 d Privacy in Computing and Communications (IEEE TrustCom-14)
URL:http://www.wikicfp.com/cfp/servlet/event.showcfp?eventid=32084&copyow
 nerid=19662
UID:cfp384980-E@wikicfp.com
END:VEVENT
BEGIN:VEVENT
DTSTAMP:20260422T234455Z
DTSTART;VALUE=DATE:20140530
SUMMARY:TrustCom 2014 Deadline
DESCRIPTION:The 13th IEEE International Conference on Trust\, Security an
 d Privacy in Computing and Communications (IEEE TrustCom-14)
URL:http://www.wikicfp.com/cfp/servlet/event.showcfp?eventid=32084&copyow
 nerid=19662
UID:cfp384980-D@wikicfp.com
END:VEVENT
BEGIN:VEVENT
DTSTAMP:20260422T234455Z
DTSTART;VALUE=DATE:20140703
SUMMARY:TrustCom 2014 Notification Due
DESCRIPTION:The 13th IEEE International Conference on Trust\, Security an
 d Privacy in Computing and Communications (IEEE TrustCom-14)
URL:http://www.wikicfp.com/cfp/servlet/event.showcfp?eventid=32084&copyow
 nerid=19662
UID:cfp384980-N@wikicfp.com
END:VEVENT
BEGIN:VEVENT
DTSTAMP:20260422T234455Z
DTSTART;VALUE=DATE:20140725
SUMMARY:TrustCom 2014 Final Version Due
DESCRIPTION:The 13th IEEE International Conference on Trust\, Security an
 d Privacy in Computing and Communications (IEEE TrustCom-14)
URL:http://www.wikicfp.com/cfp/servlet/event.showcfp?eventid=32084&copyow
 nerid=19662
UID:cfp384980-N@wikicfp.com
END:VEVENT
BEGIN:VEVENT
DTSTAMP:20260422T234455Z
DTSTART;VALUE=DATE:20150728
DTEND;VALUE=DATE:20150802
SUMMARY:IJCAI 2015
DESCRIPTION:International Joint Conference on Artificial Intelligence
URL:http://www.wikicfp.com/cfp/servlet/event.showcfp?eventid=31845&copyow
 nerid=19662
UID:cfp377106-E@wikicfp.com
END:VEVENT
BEGIN:VEVENT
DTSTAMP:20260422T234455Z
DTSTART;VALUE=DATE:20150208
SUMMARY:IJCAI 2015 Abstract Due
DESCRIPTION:International Joint Conference on Artificial Intelligence
URL:http://www.wikicfp.com/cfp/servlet/event.showcfp?eventid=31845&copyow
 nerid=19662
UID:cfp377106-A@wikicfp.com
END:VEVENT
BEGIN:VEVENT
DTSTAMP:20260422T234455Z
DTSTART;VALUE=DATE:20150212
SUMMARY:IJCAI 2015 Deadline
DESCRIPTION:International Joint Conference on Artificial Intelligence
URL:http://www.wikicfp.com/cfp/servlet/event.showcfp?eventid=31845&copyow
 nerid=19662
UID:cfp377106-D@wikicfp.com
END:VEVENT
END:VCALENDAR
