BEGIN:VCALENDAR
PRODID:-//WikiCFP//GuidoGovernatori 1.0//EN
VERSION:2.0
CALSCALE:GREGORIAN
BEGIN:VEVENT
DTSTAMP:20260423T170755Z
DTSTART;VALUE=DATE:20110719
DTEND;VALUE=DATE:20110722
SUMMARY:RuleML @ IJCAI 2011
DESCRIPTION:The 5th International Symposium on Rules
URL:http://www.wikicfp.com/cfp/servlet/event.showcfp?eventid=13667&copyow
 nerid=19443
UID:cfp133538-E@wikicfp.com
END:VEVENT
BEGIN:VEVENT
DTSTAMP:20260423T170755Z
DTSTART;VALUE=DATE:20110225
SUMMARY:RuleML @ IJCAI 2011 Abstract Due
DESCRIPTION:The 5th International Symposium on Rules
URL:http://www.wikicfp.com/cfp/servlet/event.showcfp?eventid=13667&copyow
 nerid=19443
UID:cfp133538-A@wikicfp.com
END:VEVENT
BEGIN:VEVENT
DTSTAMP:20260423T170755Z
DTSTART;VALUE=DATE:20110304
SUMMARY:RuleML @ IJCAI 2011 Deadline
DESCRIPTION:The 5th International Symposium on Rules
URL:http://www.wikicfp.com/cfp/servlet/event.showcfp?eventid=13667&copyow
 nerid=19443
UID:cfp133538-D@wikicfp.com
END:VEVENT
BEGIN:VEVENT
DTSTAMP:20260423T170755Z
DTSTART;VALUE=DATE:20110331
SUMMARY:RuleML @ IJCAI 2011 Notification Due
DESCRIPTION:The 5th International Symposium on Rules
URL:http://www.wikicfp.com/cfp/servlet/event.showcfp?eventid=13667&copyow
 nerid=19443
UID:cfp133538-N@wikicfp.com
END:VEVENT
BEGIN:VEVENT
DTSTAMP:20260423T170755Z
DTSTART;VALUE=DATE:20110415
SUMMARY:RuleML @ IJCAI 2011 Final Version Due
DESCRIPTION:The 5th International Symposium on Rules
URL:http://www.wikicfp.com/cfp/servlet/event.showcfp?eventid=13667&copyow
 nerid=19443
UID:cfp133538-N@wikicfp.com
END:VEVENT
END:VCALENDAR
