BEGIN:VCALENDAR
PRODID:-//WikiCFP//treiners 1.0//EN
VERSION:2.0
CALSCALE:GREGORIAN
BEGIN:VEVENT
DTSTAMP:20260419T192752Z
DTSTART;VALUE=DATE:20110613
DTEND;VALUE=DATE:20110617
SUMMARY:INOC 2011
DESCRIPTION:International Network Optimization Conference
URL:http://www.wikicfp.com/cfp/servlet/event.showcfp?eventid=12691&copyow
 nerid=18556
UID:cfp127799-E@wikicfp.com
END:VEVENT
BEGIN:VEVENT
DTSTAMP:20260419T192752Z
DTSTART;VALUE=DATE:20110228
SUMMARY:INOC 2011 Deadline
DESCRIPTION:International Network Optimization Conference
URL:http://www.wikicfp.com/cfp/servlet/event.showcfp?eventid=12691&copyow
 nerid=18556
UID:cfp127799-D@wikicfp.com
END:VEVENT
BEGIN:VEVENT
DTSTAMP:20260419T192752Z
DTSTART;VALUE=DATE:20110315
SUMMARY:INOC 2011 Notification Due
DESCRIPTION:International Network Optimization Conference
URL:http://www.wikicfp.com/cfp/servlet/event.showcfp?eventid=12691&copyow
 nerid=18556
UID:cfp127799-N@wikicfp.com
END:VEVENT
BEGIN:VEVENT
DTSTAMP:20260419T192752Z
DTSTART;VALUE=DATE:20110415
SUMMARY:INOC 2011 Final Version Due
DESCRIPTION:International Network Optimization Conference
URL:http://www.wikicfp.com/cfp/servlet/event.showcfp?eventid=12691&copyow
 nerid=18556
UID:cfp127799-N@wikicfp.com
END:VEVENT
BEGIN:VEVENT
DTSTAMP:20260419T192752Z
DTSTART;VALUE=DATE:20120101
DTEND;VALUE=DATE:20130307
SUMMARY:CEPP  2012
DESCRIPTION:CfC for edit book Continuous E-Learning for Pharmaceutical Pr
 ofessionals
URL:http://www.wikicfp.com/cfp/servlet/event.showcfp?eventid=20844&copyow
 nerid=18556
UID:cfp237539-E@wikicfp.com
END:VEVENT
BEGIN:VEVENT
DTSTAMP:20260419T192752Z
DTSTART;VALUE=DATE:20120215
SUMMARY:CEPP  2012 Abstract Due
DESCRIPTION:CfC for edit book Continuous E-Learning for Pharmaceutical Pr
 ofessionals
URL:http://www.wikicfp.com/cfp/servlet/event.showcfp?eventid=20844&copyow
 nerid=18556
UID:cfp237539-A@wikicfp.com
END:VEVENT
BEGIN:VEVENT
DTSTAMP:20260419T192752Z
DTSTART;VALUE=DATE:20120630
SUMMARY:CEPP  2012 Deadline
DESCRIPTION:CfC for edit book Continuous E-Learning for Pharmaceutical Pr
 ofessionals
URL:http://www.wikicfp.com/cfp/servlet/event.showcfp?eventid=20844&copyow
 nerid=18556
UID:cfp237539-D@wikicfp.com
END:VEVENT
BEGIN:VEVENT
DTSTAMP:20260419T192752Z
DTSTART;VALUE=DATE:20120315
SUMMARY:CEPP  2012 Notification Due
DESCRIPTION:CfC for edit book Continuous E-Learning for Pharmaceutical Pr
 ofessionals
URL:http://www.wikicfp.com/cfp/servlet/event.showcfp?eventid=20844&copyow
 nerid=18556
UID:cfp237539-N@wikicfp.com
END:VEVENT
BEGIN:VEVENT
DTSTAMP:20260419T192752Z
DTSTART;VALUE=DATE:20121030
SUMMARY:CEPP  2012 Final Version Due
DESCRIPTION:CfC for edit book Continuous E-Learning for Pharmaceutical Pr
 ofessionals
URL:http://www.wikicfp.com/cfp/servlet/event.showcfp?eventid=20844&copyow
 nerid=18556
UID:cfp237539-N@wikicfp.com
END:VEVENT
BEGIN:VEVENT
DTSTAMP:20260419T192752Z
DTSTART;VALUE=DATE:20120822
DTEND;VALUE=DATE:20130626
SUMMARY:CEPP 2013
DESCRIPTION:Call for Chapters: Continuous E-Learning for Pharmaceutical P
 rofessionals
URL:http://www.wikicfp.com/cfp/servlet/event.showcfp?eventid=25369&copyow
 nerid=18556
UID:cfp292616-E@wikicfp.com
END:VEVENT
BEGIN:VEVENT
DTSTAMP:20260419T192752Z
DTSTART;VALUE=DATE:20120912
SUMMARY:CEPP 2013 Abstract Due
DESCRIPTION:Call for Chapters: Continuous E-Learning for Pharmaceutical P
 rofessionals
URL:http://www.wikicfp.com/cfp/servlet/event.showcfp?eventid=25369&copyow
 nerid=18556
UID:cfp292616-A@wikicfp.com
END:VEVENT
BEGIN:VEVENT
DTSTAMP:20260419T192752Z
DTSTART;VALUE=DATE:20130125
SUMMARY:CEPP 2013 Deadline
DESCRIPTION:Call for Chapters: Continuous E-Learning for Pharmaceutical P
 rofessionals
URL:http://www.wikicfp.com/cfp/servlet/event.showcfp?eventid=25369&copyow
 nerid=18556
UID:cfp292616-D@wikicfp.com
END:VEVENT
BEGIN:VEVENT
DTSTAMP:20260419T192752Z
DTSTART;VALUE=DATE:20130312
SUMMARY:CEPP 2013 Notification Due
DESCRIPTION:Call for Chapters: Continuous E-Learning for Pharmaceutical P
 rofessionals
URL:http://www.wikicfp.com/cfp/servlet/event.showcfp?eventid=25369&copyow
 nerid=18556
UID:cfp292616-N@wikicfp.com
END:VEVENT
BEGIN:VEVENT
DTSTAMP:20260419T192752Z
DTSTART;VALUE=DATE:20130425
SUMMARY:CEPP 2013 Final Version Due
DESCRIPTION:Call for Chapters: Continuous E-Learning for Pharmaceutical P
 rofessionals
URL:http://www.wikicfp.com/cfp/servlet/event.showcfp?eventid=25369&copyow
 nerid=18556
UID:cfp292616-N@wikicfp.com
END:VEVENT
BEGIN:VEVENT
DTSTAMP:20260419T192752Z
DTSTART;VALUE=DATE:20130515
DTEND;VALUE=DATE:20131101
SUMMARY:GinEB 2013
DESCRIPTION:Call for Chapters: Gamification in Education and Business
URL:http://www.wikicfp.com/cfp/servlet/event.showcfp?eventid=29961&copyow
 nerid=18556
UID:cfp348223-E@wikicfp.com
END:VEVENT
BEGIN:VEVENT
DTSTAMP:20260419T192752Z
DTSTART;VALUE=DATE:20130531
SUMMARY:GinEB 2013 Abstract Due
DESCRIPTION:Call for Chapters: Gamification in Education and Business
URL:http://www.wikicfp.com/cfp/servlet/event.showcfp?eventid=29961&copyow
 nerid=18556
UID:cfp348223-A@wikicfp.com
END:VEVENT
BEGIN:VEVENT
DTSTAMP:20260419T192752Z
DTSTART;VALUE=DATE:20130831
SUMMARY:GinEB 2013 Deadline
DESCRIPTION:Call for Chapters: Gamification in Education and Business
URL:http://www.wikicfp.com/cfp/servlet/event.showcfp?eventid=29961&copyow
 nerid=18556
UID:cfp348223-D@wikicfp.com
END:VEVENT
BEGIN:VEVENT
DTSTAMP:20260419T192752Z
DTSTART;VALUE=DATE:20130930
SUMMARY:GinEB 2013 Notification Due
DESCRIPTION:Call for Chapters: Gamification in Education and Business
URL:http://www.wikicfp.com/cfp/servlet/event.showcfp?eventid=29961&copyow
 nerid=18556
UID:cfp348223-N@wikicfp.com
END:VEVENT
BEGIN:VEVENT
DTSTAMP:20260419T192752Z
DTSTART;VALUE=DATE:20131031
SUMMARY:GinEB 2013 Final Version Due
DESCRIPTION:Call for Chapters: Gamification in Education and Business
URL:http://www.wikicfp.com/cfp/servlet/event.showcfp?eventid=29961&copyow
 nerid=18556
UID:cfp348223-N@wikicfp.com
END:VEVENT
BEGIN:VEVENT
DTSTAMP:20260419T192752Z
DTSTART;VALUE=DATE:20141115
SUMMARY:AAVT 2014 Deadline
DESCRIPTION:Authentic Assessment in Vocational Training
URL:http://www.wikicfp.com/cfp/servlet/event.showcfp?eventid=40185&copyow
 nerid=18556
UID:cfp469048-D@wikicfp.com
END:VEVENT
BEGIN:VEVENT
DTSTAMP:20260419T192752Z
DTSTART;VALUE=DATE:20141215
SUMMARY:AAVT 2014 Notification Due
DESCRIPTION:Authentic Assessment in Vocational Training
URL:http://www.wikicfp.com/cfp/servlet/event.showcfp?eventid=40185&copyow
 nerid=18556
UID:cfp469048-N@wikicfp.com
END:VEVENT
BEGIN:VEVENT
DTSTAMP:20260419T192752Z
DTSTART;VALUE=DATE:20150115
SUMMARY:AAVT 2014 Final Version Due
DESCRIPTION:Authentic Assessment in Vocational Training
URL:http://www.wikicfp.com/cfp/servlet/event.showcfp?eventid=40185&copyow
 nerid=18556
UID:cfp469048-N@wikicfp.com
END:VEVENT
END:VCALENDAR
