BEGIN:VCALENDAR
PRODID:-//WikiCFP//alfonsoer 1.0//EN
VERSION:2.0
CALSCALE:GREGORIAN
BEGIN:VEVENT
DTSTAMP:20260425T110618Z
DTSTART;VALUE=DATE:20150419
DTEND;VALUE=DATE:20150425
SUMMARY:ICASSP 2015
DESCRIPTION:International Conference on Acoustics\, Speech\, and Signal P
 rocessing
URL:http://www.wikicfp.com/cfp/servlet/event.showcfp?eventid=35367&copyow
 nerid=18412
UID:cfp470693-E@wikicfp.com
END:VEVENT
BEGIN:VEVENT
DTSTAMP:20260425T110618Z
DTSTART;VALUE=DATE:20141005
SUMMARY:ICASSP 2015 Deadline
DESCRIPTION:International Conference on Acoustics\, Speech\, and Signal P
 rocessing
URL:http://www.wikicfp.com/cfp/servlet/event.showcfp?eventid=35367&copyow
 nerid=18412
UID:cfp470693-D@wikicfp.com
END:VEVENT
BEGIN:VEVENT
DTSTAMP:20260425T110618Z
DTSTART;VALUE=DATE:20150114
SUMMARY:ICASSP 2015 Notification Due
DESCRIPTION:International Conference on Acoustics\, Speech\, and Signal P
 rocessing
URL:http://www.wikicfp.com/cfp/servlet/event.showcfp?eventid=35367&copyow
 nerid=18412
UID:cfp470693-N@wikicfp.com
END:VEVENT
BEGIN:VEVENT
DTSTAMP:20260425T110618Z
DTSTART;VALUE=DATE:20150213
SUMMARY:ICASSP 2015 Final Version Due
DESCRIPTION:International Conference on Acoustics\, Speech\, and Signal P
 rocessing
URL:http://www.wikicfp.com/cfp/servlet/event.showcfp?eventid=35367&copyow
 nerid=18412
UID:cfp470693-N@wikicfp.com
END:VEVENT
BEGIN:VEVENT
DTSTAMP:20260425T110618Z
DTSTART;VALUE=DATE:20150927
DTEND;VALUE=DATE:20151001
SUMMARY:ICIP 2015
DESCRIPTION:International Conference on Image Processing
URL:http://www.wikicfp.com/cfp/servlet/event.showcfp?eventid=40319&copyow
 nerid=18412
UID:cfp470692-E@wikicfp.com
END:VEVENT
BEGIN:VEVENT
DTSTAMP:20260425T110618Z
DTSTART;VALUE=DATE:20150115
SUMMARY:ICIP 2015 Deadline
DESCRIPTION:International Conference on Image Processing
URL:http://www.wikicfp.com/cfp/servlet/event.showcfp?eventid=40319&copyow
 nerid=18412
UID:cfp470692-D@wikicfp.com
END:VEVENT
END:VCALENDAR
