BEGIN:VCALENDAR
PRODID:-//WikiCFP//lkh 1.0//EN
VERSION:2.0
CALSCALE:GREGORIAN
BEGIN:VEVENT
DTSTAMP:20260422T133000Z
DTSTART;VALUE=DATE:20100621
DTEND;VALUE=DATE:20100625
SUMMARY:CMMR 2010
DESCRIPTION:7th International Symposium on Computer Music Modeling and Re
 trieval
URL:http://www.wikicfp.com/cfp/servlet/event.showcfp?eventid=6982&copyown
 erid=1838
UID:cfp53311-E@wikicfp.com
END:VEVENT
BEGIN:VEVENT
DTSTAMP:20260422T133000Z
DTSTART;VALUE=DATE:20100201
SUMMARY:CMMR 2010 Deadline
DESCRIPTION:7th International Symposium on Computer Music Modeling and Re
 trieval
URL:http://www.wikicfp.com/cfp/servlet/event.showcfp?eventid=6982&copyown
 erid=1838
UID:cfp53311-D@wikicfp.com
END:VEVENT
BEGIN:VEVENT
DTSTAMP:20260422T133000Z
DTSTART;VALUE=DATE:20100301
SUMMARY:CMMR 2010 Notification Due
DESCRIPTION:7th International Symposium on Computer Music Modeling and Re
 trieval
URL:http://www.wikicfp.com/cfp/servlet/event.showcfp?eventid=6982&copyown
 erid=1838
UID:cfp53311-N@wikicfp.com
END:VEVENT
BEGIN:VEVENT
DTSTAMP:20260422T133000Z
DTSTART;VALUE=DATE:20100501
SUMMARY:CMMR 2010 Final Version Due
DESCRIPTION:7th International Symposium on Computer Music Modeling and Re
 trieval
URL:http://www.wikicfp.com/cfp/servlet/event.showcfp?eventid=6982&copyown
 erid=1838
UID:cfp53311-N@wikicfp.com
END:VEVENT
BEGIN:VEVENT
DTSTAMP:20260422T133000Z
DTSTART;VALUE=DATE:20100721
DTEND;VALUE=DATE:20100724
SUMMARY:GfKL 2010
DESCRIPTION:34th Annual Conference of the German Classification Society
URL:http://www.wikicfp.com/cfp/servlet/event.showcfp?eventid=7075&copyown
 erid=1838
UID:cfp54385-E@wikicfp.com
END:VEVENT
BEGIN:VEVENT
DTSTAMP:20260422T133000Z
DTSTART;VALUE=DATE:20100228
SUMMARY:GfKL 2010 Deadline
DESCRIPTION:34th Annual Conference of the German Classification Society
URL:http://www.wikicfp.com/cfp/servlet/event.showcfp?eventid=7075&copyown
 erid=1838
UID:cfp54385-D@wikicfp.com
END:VEVENT
BEGIN:VEVENT
DTSTAMP:20260422T133000Z
DTSTART;VALUE=DATE:20100415
SUMMARY:GfKL 2010 Notification Due
DESCRIPTION:34th Annual Conference of the German Classification Society
URL:http://www.wikicfp.com/cfp/servlet/event.showcfp?eventid=7075&copyown
 erid=1838
UID:cfp54385-N@wikicfp.com
END:VEVENT
BEGIN:VEVENT
DTSTAMP:20260422T133000Z
DTSTART;VALUE=DATE:20100815
SUMMARY:GfKL 2010 Final Version Due
DESCRIPTION:34th Annual Conference of the German Classification Society
URL:http://www.wikicfp.com/cfp/servlet/event.showcfp?eventid=7075&copyown
 erid=1838
UID:cfp54385-N@wikicfp.com
END:VEVENT
BEGIN:VEVENT
DTSTAMP:20260422T133000Z
DTSTART;VALUE=DATE:20100809
DTEND;VALUE=DATE:20100814
SUMMARY:ISMIR 2010
DESCRIPTION:11th International Society for Music Information Retrieval Co
 nference
URL:http://www.wikicfp.com/cfp/servlet/event.showcfp?eventid=5900&copyown
 erid=1838
UID:cfp47438-E@wikicfp.com
END:VEVENT
BEGIN:VEVENT
DTSTAMP:20260422T133000Z
DTSTART;VALUE=DATE:20100324
SUMMARY:ISMIR 2010 Deadline
DESCRIPTION:11th International Society for Music Information Retrieval Co
 nference
URL:http://www.wikicfp.com/cfp/servlet/event.showcfp?eventid=5900&copyown
 erid=1838
UID:cfp47438-D@wikicfp.com
END:VEVENT
BEGIN:VEVENT
DTSTAMP:20260422T133000Z
DTSTART;VALUE=DATE:20100906
DTEND;VALUE=DATE:20100911
SUMMARY:DAFx 2010
DESCRIPTION:The 13th International Conference on Digital Audio Effects
URL:http://www.wikicfp.com/cfp/servlet/event.showcfp?eventid=6984&copyown
 erid=1838
UID:cfp53313-E@wikicfp.com
END:VEVENT
BEGIN:VEVENT
DTSTAMP:20260422T133000Z
DTSTART;VALUE=DATE:20100405
SUMMARY:DAFx 2010 Deadline
DESCRIPTION:The 13th International Conference on Digital Audio Effects
URL:http://www.wikicfp.com/cfp/servlet/event.showcfp?eventid=6984&copyown
 erid=1838
UID:cfp53313-D@wikicfp.com
END:VEVENT
BEGIN:VEVENT
DTSTAMP:20260422T133000Z
DTSTART;VALUE=DATE:20100531
SUMMARY:DAFx 2010 Notification Due
DESCRIPTION:The 13th International Conference on Digital Audio Effects
URL:http://www.wikicfp.com/cfp/servlet/event.showcfp?eventid=6984&copyown
 erid=1838
UID:cfp53313-N@wikicfp.com
END:VEVENT
BEGIN:VEVENT
DTSTAMP:20260422T133000Z
DTSTART;VALUE=DATE:20100625
SUMMARY:DAFx 2010 Final Version Due
DESCRIPTION:The 13th International Conference on Digital Audio Effects
URL:http://www.wikicfp.com/cfp/servlet/event.showcfp?eventid=6984&copyown
 erid=1838
UID:cfp53313-N@wikicfp.com
END:VEVENT
BEGIN:VEVENT
DTSTAMP:20260422T133000Z
DTSTART;VALUE=DATE:20101025
DTEND;VALUE=DATE:20101030
SUMMARY:ACM Multimedia 2010
DESCRIPTION:ACM Multimedia
URL:http://www.wikicfp.com/cfp/servlet/event.showcfp?eventid=6983&copyown
 erid=1838
UID:cfp53312-E@wikicfp.com
END:VEVENT
BEGIN:VEVENT
DTSTAMP:20260422T133000Z
DTSTART;VALUE=DATE:20100321
SUMMARY:ACM Multimedia 2010 Abstract Due
DESCRIPTION:ACM Multimedia
URL:http://www.wikicfp.com/cfp/servlet/event.showcfp?eventid=6983&copyown
 erid=1838
UID:cfp53312-A@wikicfp.com
END:VEVENT
BEGIN:VEVENT
DTSTAMP:20260422T133000Z
DTSTART;VALUE=DATE:20100411
SUMMARY:ACM Multimedia 2010 Deadline
DESCRIPTION:ACM Multimedia
URL:http://www.wikicfp.com/cfp/servlet/event.showcfp?eventid=6983&copyown
 erid=1838
UID:cfp53312-D@wikicfp.com
END:VEVENT
BEGIN:VEVENT
DTSTAMP:20260422T133000Z
DTSTART;VALUE=DATE:20100706
SUMMARY:ACM Multimedia 2010 Notification Due
DESCRIPTION:ACM Multimedia
URL:http://www.wikicfp.com/cfp/servlet/event.showcfp?eventid=6983&copyown
 erid=1838
UID:cfp53312-N@wikicfp.com
END:VEVENT
BEGIN:VEVENT
DTSTAMP:20260422T133000Z
DTSTART;VALUE=DATE:20100726
SUMMARY:ACM Multimedia 2010 Final Version Due
DESCRIPTION:ACM Multimedia
URL:http://www.wikicfp.com/cfp/servlet/event.showcfp?eventid=6983&copyown
 erid=1838
UID:cfp53312-N@wikicfp.com
END:VEVENT
BEGIN:VEVENT
DTSTAMP:20260422T133000Z
DTSTART;VALUE=DATE:20100721
DTEND;VALUE=DATE:20100725
SUMMARY:SMC 2010
DESCRIPTION:7th Sound and Music Computing Conference
URL:http://www.wikicfp.com/cfp/servlet/event.showcfp?eventid=7071&copyown
 erid=1838
UID:cfp54349-E@wikicfp.com
END:VEVENT
BEGIN:VEVENT
DTSTAMP:20260422T133000Z
DTSTART;VALUE=DATE:20100423
SUMMARY:SMC 2010 Deadline
DESCRIPTION:7th Sound and Music Computing Conference
URL:http://www.wikicfp.com/cfp/servlet/event.showcfp?eventid=7071&copyown
 erid=1838
UID:cfp54349-D@wikicfp.com
END:VEVENT
BEGIN:VEVENT
DTSTAMP:20260422T133000Z
DTSTART;VALUE=DATE:20100524
SUMMARY:SMC 2010 Notification Due
DESCRIPTION:7th Sound and Music Computing Conference
URL:http://www.wikicfp.com/cfp/servlet/event.showcfp?eventid=7071&copyown
 erid=1838
UID:cfp54349-N@wikicfp.com
END:VEVENT
BEGIN:VEVENT
DTSTAMP:20260422T133000Z
DTSTART;VALUE=DATE:20100614
SUMMARY:SMC 2010 Final Version Due
DESCRIPTION:7th Sound and Music Computing Conference
URL:http://www.wikicfp.com/cfp/servlet/event.showcfp?eventid=7071&copyown
 erid=1838
UID:cfp54349-N@wikicfp.com
END:VEVENT
BEGIN:VEVENT
DTSTAMP:20260422T133000Z
DTSTART;VALUE=DATE:20110522
DTEND;VALUE=DATE:20110528
SUMMARY:ICASSP 2011
DESCRIPTION:IEEE International Conference on Acoustics\, Speech and Signa
 l Processing
URL:http://www.wikicfp.com/cfp/servlet/event.showcfp?eventid=6204&copyown
 erid=1838
UID:cfp63684-E@wikicfp.com
END:VEVENT
BEGIN:VEVENT
DTSTAMP:20260422T133000Z
DTSTART;VALUE=DATE:20101020
SUMMARY:ICASSP 2011 Deadline
DESCRIPTION:IEEE International Conference on Acoustics\, Speech and Signa
 l Processing
URL:http://www.wikicfp.com/cfp/servlet/event.showcfp?eventid=6204&copyown
 erid=1838
UID:cfp63684-D@wikicfp.com
END:VEVENT
BEGIN:VEVENT
DTSTAMP:20260422T133000Z
DTSTART;VALUE=DATE:20110117
SUMMARY:ICASSP 2011 Notification Due
DESCRIPTION:IEEE International Conference on Acoustics\, Speech and Signa
 l Processing
URL:http://www.wikicfp.com/cfp/servlet/event.showcfp?eventid=6204&copyown
 erid=1838
UID:cfp63684-N@wikicfp.com
END:VEVENT
BEGIN:VEVENT
DTSTAMP:20260422T133000Z
DTSTART;VALUE=DATE:20110220
SUMMARY:ICASSP 2011 Final Version Due
DESCRIPTION:IEEE International Conference on Acoustics\, Speech and Signa
 l Processing
URL:http://www.wikicfp.com/cfp/servlet/event.showcfp?eventid=6204&copyown
 erid=1838
UID:cfp63684-N@wikicfp.com
END:VEVENT
END:VCALENDAR
