BEGIN:VCALENDAR
PRODID:-//WikiCFP//zxin 1.0//EN
VERSION:2.0
CALSCALE:GREGORIAN
BEGIN:VEVENT
DTSTAMP:20260420T223319Z
DTSTART;VALUE=DATE:20101025
DTEND;VALUE=DATE:20101029
SUMMARY:ISC 2010
DESCRIPTION:Information Security Conference 
URL:http://www.wikicfp.com/cfp/servlet/event.showcfp?eventid=10296&copyow
 nerid=17963
UID:cfp123926-E@wikicfp.com
END:VEVENT
BEGIN:VEVENT
DTSTAMP:20260420T223319Z
DTSTART;VALUE=DATE:20100629
SUMMARY:ISC 2010 Deadline
DESCRIPTION:Information Security Conference 
URL:http://www.wikicfp.com/cfp/servlet/event.showcfp?eventid=10296&copyow
 nerid=17963
UID:cfp123926-D@wikicfp.com
END:VEVENT
BEGIN:VEVENT
DTSTAMP:20260420T223319Z
DTSTART;VALUE=DATE:20100815
SUMMARY:ISC 2010 Notification Due
DESCRIPTION:Information Security Conference 
URL:http://www.wikicfp.com/cfp/servlet/event.showcfp?eventid=10296&copyow
 nerid=17963
UID:cfp123926-N@wikicfp.com
END:VEVENT
BEGIN:VEVENT
DTSTAMP:20260420T223319Z
DTSTART;VALUE=DATE:20100815
SUMMARY:ISC 2010 Final Version Due
DESCRIPTION:Information Security Conference 
URL:http://www.wikicfp.com/cfp/servlet/event.showcfp?eventid=10296&copyow
 nerid=17963
UID:cfp123926-N@wikicfp.com
END:VEVENT
BEGIN:VEVENT
DTSTAMP:20260420T223319Z
DTSTART;VALUE=DATE:20110206
DTEND;VALUE=DATE:20110210
SUMMARY:NDSS 2011
DESCRIPTION:18th Network & Distributed System Security Symposium
URL:http://www.wikicfp.com/cfp/servlet/event.showcfp?eventid=10256&copyow
 nerid=17963
UID:cfp123923-E@wikicfp.com
END:VEVENT
BEGIN:VEVENT
DTSTAMP:20260420T223319Z
DTSTART;VALUE=DATE:20100806
SUMMARY:NDSS 2011 Abstract Due
DESCRIPTION:18th Network & Distributed System Security Symposium
URL:http://www.wikicfp.com/cfp/servlet/event.showcfp?eventid=10256&copyow
 nerid=17963
UID:cfp123923-A@wikicfp.com
END:VEVENT
BEGIN:VEVENT
DTSTAMP:20260420T223319Z
DTSTART;VALUE=DATE:20100810
SUMMARY:NDSS 2011 Deadline
DESCRIPTION:18th Network & Distributed System Security Symposium
URL:http://www.wikicfp.com/cfp/servlet/event.showcfp?eventid=10256&copyow
 nerid=17963
UID:cfp123923-D@wikicfp.com
END:VEVENT
BEGIN:VEVENT
DTSTAMP:20260420T223319Z
DTSTART;VALUE=DATE:20101011
SUMMARY:NDSS 2011 Notification Due
DESCRIPTION:18th Network & Distributed System Security Symposium
URL:http://www.wikicfp.com/cfp/servlet/event.showcfp?eventid=10256&copyow
 nerid=17963
UID:cfp123923-N@wikicfp.com
END:VEVENT
BEGIN:VEVENT
DTSTAMP:20260420T223319Z
DTSTART;VALUE=DATE:20101201
SUMMARY:NDSS 2011 Final Version Due
DESCRIPTION:18th Network & Distributed System Security Symposium
URL:http://www.wikicfp.com/cfp/servlet/event.showcfp?eventid=10256&copyow
 nerid=17963
UID:cfp123923-N@wikicfp.com
END:VEVENT
BEGIN:VEVENT
DTSTAMP:20260420T223319Z
DTSTART;VALUE=DATE:20110321
DTEND;VALUE=DATE:20110326
SUMMARY:SEC@SAC 2011
DESCRIPTION:Track on Computer Security @ The 26th ACM Symposium on Applie
 d Computing
URL:http://www.wikicfp.com/cfp/servlet/event.showcfp?eventid=10743&copyow
 nerid=17963
UID:cfp123918-E@wikicfp.com
END:VEVENT
BEGIN:VEVENT
DTSTAMP:20260420T223319Z
DTSTART;VALUE=DATE:20100824
SUMMARY:SEC@SAC 2011 Deadline
DESCRIPTION:Track on Computer Security @ The 26th ACM Symposium on Applie
 d Computing
URL:http://www.wikicfp.com/cfp/servlet/event.showcfp?eventid=10743&copyow
 nerid=17963
UID:cfp123918-D@wikicfp.com
END:VEVENT
BEGIN:VEVENT
DTSTAMP:20260420T223319Z
DTSTART;VALUE=DATE:20101012
SUMMARY:SEC@SAC 2011 Notification Due
DESCRIPTION:Track on Computer Security @ The 26th ACM Symposium on Applie
 d Computing
URL:http://www.wikicfp.com/cfp/servlet/event.showcfp?eventid=10743&copyow
 nerid=17963
UID:cfp123918-N@wikicfp.com
END:VEVENT
BEGIN:VEVENT
DTSTAMP:20260420T223319Z
DTSTART;VALUE=DATE:20101102
SUMMARY:SEC@SAC 2011 Final Version Due
DESCRIPTION:Track on Computer Security @ The 26th ACM Symposium on Applie
 d Computing
URL:http://www.wikicfp.com/cfp/servlet/event.showcfp?eventid=10743&copyow
 nerid=17963
UID:cfp123918-N@wikicfp.com
END:VEVENT
BEGIN:VEVENT
DTSTAMP:20260420T223319Z
DTSTART;VALUE=DATE:20110322
DTEND;VALUE=DATE:20110325
SUMMARY:ASIACCS  2011
DESCRIPTION:The 6th ACM Symposium on Information\, Computer and Communica
 tions Security
URL:http://www.wikicfp.com/cfp/servlet/event.showcfp?eventid=11152&copyow
 nerid=17963
UID:cfp123917-E@wikicfp.com
END:VEVENT
BEGIN:VEVENT
DTSTAMP:20260420T223319Z
DTSTART;VALUE=DATE:20101008
SUMMARY:ASIACCS  2011 Deadline
DESCRIPTION:The 6th ACM Symposium on Information\, Computer and Communica
 tions Security
URL:http://www.wikicfp.com/cfp/servlet/event.showcfp?eventid=11152&copyow
 nerid=17963
UID:cfp123917-D@wikicfp.com
END:VEVENT
BEGIN:VEVENT
DTSTAMP:20260420T223319Z
DTSTART;VALUE=DATE:20101203
SUMMARY:ASIACCS  2011 Notification Due
DESCRIPTION:The 6th ACM Symposium on Information\, Computer and Communica
 tions Security
URL:http://www.wikicfp.com/cfp/servlet/event.showcfp?eventid=11152&copyow
 nerid=17963
UID:cfp123917-N@wikicfp.com
END:VEVENT
BEGIN:VEVENT
DTSTAMP:20260420T223319Z
DTSTART;VALUE=DATE:20101220
SUMMARY:ASIACCS  2011 Final Version Due
DESCRIPTION:The 6th ACM Symposium on Information\, Computer and Communica
 tions Security
URL:http://www.wikicfp.com/cfp/servlet/event.showcfp?eventid=11152&copyow
 nerid=17963
UID:cfp123917-N@wikicfp.com
END:VEVENT
BEGIN:VEVENT
DTSTAMP:20260420T223319Z
DTSTART;VALUE=DATE:20110410
DTEND;VALUE=DATE:20110414
SUMMARY:Eurosys 2011
DESCRIPTION:European Conference on Computer Systems
URL:http://www.wikicfp.com/cfp/servlet/event.showcfp?eventid=10033&copyow
 nerid=17963
UID:cfp123937-E@wikicfp.com
END:VEVENT
BEGIN:VEVENT
DTSTAMP:20260420T223319Z
DTSTART;VALUE=DATE:20100910
SUMMARY:Eurosys 2011 Abstract Due
DESCRIPTION:European Conference on Computer Systems
URL:http://www.wikicfp.com/cfp/servlet/event.showcfp?eventid=10033&copyow
 nerid=17963
UID:cfp123937-A@wikicfp.com
END:VEVENT
BEGIN:VEVENT
DTSTAMP:20260420T223319Z
DTSTART;VALUE=DATE:20101010
SUMMARY:Eurosys 2011 Deadline
DESCRIPTION:European Conference on Computer Systems
URL:http://www.wikicfp.com/cfp/servlet/event.showcfp?eventid=10033&copyow
 nerid=17963
UID:cfp123937-D@wikicfp.com
END:VEVENT
BEGIN:VEVENT
DTSTAMP:20260420T223319Z
DTSTART;VALUE=DATE:20101225
SUMMARY:Eurosys 2011 Notification Due
DESCRIPTION:European Conference on Computer Systems
URL:http://www.wikicfp.com/cfp/servlet/event.showcfp?eventid=10033&copyow
 nerid=17963
UID:cfp123937-N@wikicfp.com
END:VEVENT
BEGIN:VEVENT
DTSTAMP:20260420T223319Z
DTSTART;VALUE=DATE:20110607
DTEND;VALUE=DATE:20110610
SUMMARY:IFIP SEC 2011
DESCRIPTION:26th IFIP TC-11 International Information Security Conference
 
URL:http://www.wikicfp.com/cfp/servlet/event.showcfp?eventid=11485&copyow
 nerid=17963
UID:cfp123935-E@wikicfp.com
END:VEVENT
BEGIN:VEVENT
DTSTAMP:20260420T223319Z
DTSTART;VALUE=DATE:20101115
SUMMARY:IFIP SEC 2011 Deadline
DESCRIPTION:26th IFIP TC-11 International Information Security Conference
 
URL:http://www.wikicfp.com/cfp/servlet/event.showcfp?eventid=11485&copyow
 nerid=17963
UID:cfp123935-D@wikicfp.com
END:VEVENT
BEGIN:VEVENT
DTSTAMP:20260420T223319Z
DTSTART;VALUE=DATE:20110115
SUMMARY:IFIP SEC 2011 Notification Due
DESCRIPTION:26th IFIP TC-11 International Information Security Conference
 
URL:http://www.wikicfp.com/cfp/servlet/event.showcfp?eventid=11485&copyow
 nerid=17963
UID:cfp123935-N@wikicfp.com
END:VEVENT
BEGIN:VEVENT
DTSTAMP:20260420T223319Z
DTSTART;VALUE=DATE:20110215
SUMMARY:IFIP SEC 2011 Final Version Due
DESCRIPTION:26th IFIP TC-11 International Information Security Conference
 
URL:http://www.wikicfp.com/cfp/servlet/event.showcfp?eventid=11485&copyow
 nerid=17963
UID:cfp123935-N@wikicfp.com
END:VEVENT
BEGIN:VEVENT
DTSTAMP:20260420T223319Z
DTSTART;VALUE=DATE:20110522
DTEND;VALUE=DATE:20110526
SUMMARY:S&P 2011
DESCRIPTION:IEEE Symposium on Security and Privacy
URL:http://www.wikicfp.com/cfp/servlet/event.showcfp?eventid=10300&copyow
 nerid=17963
UID:cfp123916-E@wikicfp.com
END:VEVENT
BEGIN:VEVENT
DTSTAMP:20260420T223319Z
DTSTART;VALUE=DATE:20101119
SUMMARY:S&P 2011 Deadline
DESCRIPTION:IEEE Symposium on Security and Privacy
URL:http://www.wikicfp.com/cfp/servlet/event.showcfp?eventid=10300&copyow
 nerid=17963
UID:cfp123916-D@wikicfp.com
END:VEVENT
BEGIN:VEVENT
DTSTAMP:20260420T223319Z
DTSTART;VALUE=DATE:20110131
SUMMARY:S&P 2011 Notification Due
DESCRIPTION:IEEE Symposium on Security and Privacy
URL:http://www.wikicfp.com/cfp/servlet/event.showcfp?eventid=10300&copyow
 nerid=17963
UID:cfp123916-N@wikicfp.com
END:VEVENT
BEGIN:VEVENT
DTSTAMP:20260420T223319Z
DTSTART;VALUE=DATE:20110304
SUMMARY:S&P 2011 Final Version Due
DESCRIPTION:IEEE Symposium on Security and Privacy
URL:http://www.wikicfp.com/cfp/servlet/event.showcfp?eventid=10300&copyow
 nerid=17963
UID:cfp123916-N@wikicfp.com
END:VEVENT
BEGIN:VEVENT
DTSTAMP:20260420T223319Z
DTSTART;VALUE=DATE:20110627
DTEND;VALUE=DATE:20110701
SUMMARY:DSN 2011
DESCRIPTION:The 41st Annual IEEE/IFIP International Conference on Dependa
 ble Systems and Networks
URL:http://www.wikicfp.com/cfp/servlet/event.showcfp?eventid=11146&copyow
 nerid=17963
UID:cfp123928-E@wikicfp.com
END:VEVENT
BEGIN:VEVENT
DTSTAMP:20260420T223319Z
DTSTART;VALUE=DATE:20101210
SUMMARY:DSN 2011 Deadline
DESCRIPTION:The 41st Annual IEEE/IFIP International Conference on Dependa
 ble Systems and Networks
URL:http://www.wikicfp.com/cfp/servlet/event.showcfp?eventid=11146&copyow
 nerid=17963
UID:cfp123928-D@wikicfp.com
END:VEVENT
BEGIN:VEVENT
DTSTAMP:20260420T223319Z
DTSTART;VALUE=DATE:20110307
SUMMARY:DSN 2011 Notification Due
DESCRIPTION:The 41st Annual IEEE/IFIP International Conference on Dependa
 ble Systems and Networks
URL:http://www.wikicfp.com/cfp/servlet/event.showcfp?eventid=11146&copyow
 nerid=17963
UID:cfp123928-N@wikicfp.com
END:VEVENT
BEGIN:VEVENT
DTSTAMP:20260420T223319Z
DTSTART;VALUE=DATE:20110615
DTEND;VALUE=DATE:20110618
SUMMARY:USENIX ATC 2011
DESCRIPTION:2011 USENIX Annual Technical Conference 
URL:http://www.wikicfp.com/cfp/servlet/event.showcfp?eventid=11486&copyow
 nerid=17963
UID:cfp123933-E@wikicfp.com
END:VEVENT
BEGIN:VEVENT
DTSTAMP:20260420T223319Z
DTSTART;VALUE=DATE:20110112
SUMMARY:USENIX ATC 2011 Deadline
DESCRIPTION:2011 USENIX Annual Technical Conference 
URL:http://www.wikicfp.com/cfp/servlet/event.showcfp?eventid=11486&copyow
 nerid=17963
UID:cfp123933-D@wikicfp.com
END:VEVENT
BEGIN:VEVENT
DTSTAMP:20260420T223319Z
DTSTART;VALUE=DATE:20110317
SUMMARY:USENIX ATC 2011 Notification Due
DESCRIPTION:2011 USENIX Annual Technical Conference 
URL:http://www.wikicfp.com/cfp/servlet/event.showcfp?eventid=11486&copyow
 nerid=17963
UID:cfp123933-N@wikicfp.com
END:VEVENT
BEGIN:VEVENT
DTSTAMP:20260420T223319Z
DTSTART;VALUE=DATE:20110427
SUMMARY:USENIX ATC 2011 Final Version Due
DESCRIPTION:2011 USENIX Annual Technical Conference 
URL:http://www.wikicfp.com/cfp/servlet/event.showcfp?eventid=11486&copyow
 nerid=17963
UID:cfp123933-N@wikicfp.com
END:VEVENT
BEGIN:VEVENT
DTSTAMP:20260420T223319Z
DTSTART;VALUE=DATE:20110707
DTEND;VALUE=DATE:20110709
SUMMARY:DIMVA 2011
DESCRIPTION:Detection of Intrusions and Malware & Vulnerability Assessmen
 t
URL:http://www.wikicfp.com/cfp/servlet/event.showcfp?eventid=12417&copyow
 nerid=17963
UID:cfp123927-E@wikicfp.com
END:VEVENT
BEGIN:VEVENT
DTSTAMP:20260420T223319Z
DTSTART;VALUE=DATE:20110114
SUMMARY:DIMVA 2011 Deadline
DESCRIPTION:Detection of Intrusions and Malware & Vulnerability Assessmen
 t
URL:http://www.wikicfp.com/cfp/servlet/event.showcfp?eventid=12417&copyow
 nerid=17963
UID:cfp123927-D@wikicfp.com
END:VEVENT
BEGIN:VEVENT
DTSTAMP:20260420T223319Z
DTSTART;VALUE=DATE:20110607
DTEND;VALUE=DATE:20110611
SUMMARY:ACNS 2011
DESCRIPTION:9th International Conference on  Applied Cryptography and Net
 work Security
URL:http://www.wikicfp.com/cfp/servlet/event.showcfp?eventid=11746&copyow
 nerid=17963
UID:cfp123934-E@wikicfp.com
END:VEVENT
BEGIN:VEVENT
DTSTAMP:20260420T223319Z
DTSTART;VALUE=DATE:20110121
SUMMARY:ACNS 2011 Deadline
DESCRIPTION:9th International Conference on  Applied Cryptography and Net
 work Security
URL:http://www.wikicfp.com/cfp/servlet/event.showcfp?eventid=11746&copyow
 nerid=17963
UID:cfp123934-D@wikicfp.com
END:VEVENT
BEGIN:VEVENT
DTSTAMP:20260420T223319Z
DTSTART;VALUE=DATE:20110322
SUMMARY:ACNS 2011 Notification Due
DESCRIPTION:9th International Conference on  Applied Cryptography and Net
 work Security
URL:http://www.wikicfp.com/cfp/servlet/event.showcfp?eventid=11746&copyow
 nerid=17963
UID:cfp123934-N@wikicfp.com
END:VEVENT
BEGIN:VEVENT
DTSTAMP:20260420T223319Z
DTSTART;VALUE=DATE:20110410
SUMMARY:ACNS 2011 Final Version Due
DESCRIPTION:9th International Conference on  Applied Cryptography and Net
 work Security
URL:http://www.wikicfp.com/cfp/servlet/event.showcfp?eventid=11746&copyow
 nerid=17963
UID:cfp123934-N@wikicfp.com
END:VEVENT
BEGIN:VEVENT
DTSTAMP:20260420T223319Z
DTSTART;VALUE=DATE:20110810
DTEND;VALUE=DATE:20110813
SUMMARY:USENIX Security 2011
DESCRIPTION:The 20th USENIX Security Symposium
URL:http://www.wikicfp.com/cfp/servlet/event.showcfp?eventid=12448&copyow
 nerid=17963
UID:cfp124101-E@wikicfp.com
END:VEVENT
BEGIN:VEVENT
DTSTAMP:20260420T223319Z
DTSTART;VALUE=DATE:20110210
SUMMARY:USENIX Security 2011 Deadline
DESCRIPTION:The 20th USENIX Security Symposium
URL:http://www.wikicfp.com/cfp/servlet/event.showcfp?eventid=12448&copyow
 nerid=17963
UID:cfp124101-D@wikicfp.com
END:VEVENT
BEGIN:VEVENT
DTSTAMP:20260420T223319Z
DTSTART;VALUE=DATE:20110417
SUMMARY:USENIX Security 2011 Notification Due
DESCRIPTION:The 20th USENIX Security Symposium
URL:http://www.wikicfp.com/cfp/servlet/event.showcfp?eventid=12448&copyow
 nerid=17963
UID:cfp124101-N@wikicfp.com
END:VEVENT
BEGIN:VEVENT
DTSTAMP:20260420T223319Z
DTSTART;VALUE=DATE:20110607
SUMMARY:USENIX Security 2011 Final Version Due
DESCRIPTION:The 20th USENIX Security Symposium
URL:http://www.wikicfp.com/cfp/servlet/event.showcfp?eventid=12448&copyow
 nerid=17963
UID:cfp124101-N@wikicfp.com
END:VEVENT
BEGIN:VEVENT
DTSTAMP:20260420T223319Z
DTSTART;VALUE=DATE:20110711
DTEND;VALUE=DATE:20110714
SUMMARY:ACISP 2011
DESCRIPTION:16th Australasian Conference on Information Security and Priv
 acy
URL:http://www.wikicfp.com/cfp/servlet/event.showcfp?eventid=12418&copyow
 nerid=17963
UID:cfp123932-E@wikicfp.com
END:VEVENT
BEGIN:VEVENT
DTSTAMP:20260420T223319Z
DTSTART;VALUE=DATE:20110218
SUMMARY:ACISP 2011 Deadline
DESCRIPTION:16th Australasian Conference on Information Security and Priv
 acy
URL:http://www.wikicfp.com/cfp/servlet/event.showcfp?eventid=12418&copyow
 nerid=17963
UID:cfp123932-D@wikicfp.com
END:VEVENT
BEGIN:VEVENT
DTSTAMP:20260420T223319Z
DTSTART;VALUE=DATE:20110415
SUMMARY:ACISP 2011 Notification Due
DESCRIPTION:16th Australasian Conference on Information Security and Priv
 acy
URL:http://www.wikicfp.com/cfp/servlet/event.showcfp?eventid=12418&copyow
 nerid=17963
UID:cfp123932-N@wikicfp.com
END:VEVENT
BEGIN:VEVENT
DTSTAMP:20260420T223319Z
DTSTART;VALUE=DATE:20110430
SUMMARY:ACISP 2011 Final Version Due
DESCRIPTION:16th Australasian Conference on Information Security and Priv
 acy
URL:http://www.wikicfp.com/cfp/servlet/event.showcfp?eventid=12418&copyow
 nerid=17963
UID:cfp123932-N@wikicfp.com
END:VEVENT
BEGIN:VEVENT
DTSTAMP:20260420T223319Z
DTSTART;VALUE=DATE:20110522
DTEND;VALUE=DATE:20110525
SUMMARY:ICICS 2011
DESCRIPTION:The 2nd International Conference on Information and Communica
 tion Systems
URL:http://www.wikicfp.com/cfp/servlet/event.showcfp?eventid=11187&copyow
 nerid=17963
UID:cfp123936-E@wikicfp.com
END:VEVENT
BEGIN:VEVENT
DTSTAMP:20260420T223319Z
DTSTART;VALUE=DATE:20110315
SUMMARY:ICICS 2011 Deadline
DESCRIPTION:The 2nd International Conference on Information and Communica
 tion Systems
URL:http://www.wikicfp.com/cfp/servlet/event.showcfp?eventid=11187&copyow
 nerid=17963
UID:cfp123936-D@wikicfp.com
END:VEVENT
BEGIN:VEVENT
DTSTAMP:20260420T223319Z
DTSTART;VALUE=DATE:20110401
SUMMARY:ICICS 2011 Notification Due
DESCRIPTION:The 2nd International Conference on Information and Communica
 tion Systems
URL:http://www.wikicfp.com/cfp/servlet/event.showcfp?eventid=11187&copyow
 nerid=17963
UID:cfp123936-N@wikicfp.com
END:VEVENT
BEGIN:VEVENT
DTSTAMP:20260420T223319Z
DTSTART;VALUE=DATE:20110401
SUMMARY:ICICS 2011 Final Version Due
DESCRIPTION:The 2nd International Conference on Information and Communica
 tion Systems
URL:http://www.wikicfp.com/cfp/servlet/event.showcfp?eventid=11187&copyow
 nerid=17963
UID:cfp123936-N@wikicfp.com
END:VEVENT
BEGIN:VEVENT
DTSTAMP:20260420T223319Z
DTSTART;VALUE=DATE:20111023
DTEND;VALUE=DATE:20111027
SUMMARY:SOSP 2011
DESCRIPTION:23rd ACM Symposium on Operating Systems Principles (SOSP)
URL:http://www.wikicfp.com/cfp/servlet/event.showcfp?eventid=4029&copyown
 erid=17963
UID:cfp124107-E@wikicfp.com
END:VEVENT
BEGIN:VEVENT
DTSTAMP:20260420T223319Z
DTSTART;VALUE=DATE:20110311
SUMMARY:SOSP 2011 Abstract Due
DESCRIPTION:23rd ACM Symposium on Operating Systems Principles (SOSP)
URL:http://www.wikicfp.com/cfp/servlet/event.showcfp?eventid=4029&copyown
 erid=17963
UID:cfp124107-A@wikicfp.com
END:VEVENT
BEGIN:VEVENT
DTSTAMP:20260420T223319Z
DTSTART;VALUE=DATE:20110318
SUMMARY:SOSP 2011 Deadline
DESCRIPTION:23rd ACM Symposium on Operating Systems Principles (SOSP)
URL:http://www.wikicfp.com/cfp/servlet/event.showcfp?eventid=4029&copyown
 erid=17963
UID:cfp124107-D@wikicfp.com
END:VEVENT
BEGIN:VEVENT
DTSTAMP:20260420T223319Z
DTSTART;VALUE=DATE:20110630
SUMMARY:SOSP 2011 Notification Due
DESCRIPTION:23rd ACM Symposium on Operating Systems Principles (SOSP)
URL:http://www.wikicfp.com/cfp/servlet/event.showcfp?eventid=4029&copyown
 erid=17963
UID:cfp124107-N@wikicfp.com
END:VEVENT
BEGIN:VEVENT
DTSTAMP:20260420T223319Z
DTSTART;VALUE=DATE:20110815
SUMMARY:SOSP 2011 Final Version Due
DESCRIPTION:23rd ACM Symposium on Operating Systems Principles (SOSP)
URL:http://www.wikicfp.com/cfp/servlet/event.showcfp?eventid=4029&copyown
 erid=17963
UID:cfp124107-N@wikicfp.com
END:VEVENT
BEGIN:VEVENT
DTSTAMP:20260420T223319Z
DTSTART;VALUE=DATE:20110920
DTEND;VALUE=DATE:20110922
SUMMARY:RAID 2011
DESCRIPTION:14th International Symposium on Recent Advances in Intrusion 
 Detection
URL:http://www.wikicfp.com/cfp/servlet/event.showcfp?eventid=14005&copyow
 nerid=17963
UID:cfp140337-E@wikicfp.com
END:VEVENT
BEGIN:VEVENT
DTSTAMP:20260420T223319Z
DTSTART;VALUE=DATE:20110407
SUMMARY:RAID 2011 Deadline
DESCRIPTION:14th International Symposium on Recent Advances in Intrusion 
 Detection
URL:http://www.wikicfp.com/cfp/servlet/event.showcfp?eventid=14005&copyow
 nerid=17963
UID:cfp140337-D@wikicfp.com
END:VEVENT
BEGIN:VEVENT
DTSTAMP:20260420T223319Z
DTSTART;VALUE=DATE:20110602
SUMMARY:RAID 2011 Notification Due
DESCRIPTION:14th International Symposium on Recent Advances in Intrusion 
 Detection
URL:http://www.wikicfp.com/cfp/servlet/event.showcfp?eventid=14005&copyow
 nerid=17963
UID:cfp140337-N@wikicfp.com
END:VEVENT
BEGIN:VEVENT
DTSTAMP:20260420T223319Z
DTSTART;VALUE=DATE:20110616
SUMMARY:RAID 2011 Final Version Due
DESCRIPTION:14th International Symposium on Recent Advances in Intrusion 
 Detection
URL:http://www.wikicfp.com/cfp/servlet/event.showcfp?eventid=14005&copyow
 nerid=17963
UID:cfp140337-N@wikicfp.com
END:VEVENT
BEGIN:VEVENT
DTSTAMP:20260420T223319Z
DTSTART;VALUE=DATE:20111017
DTEND;VALUE=DATE:20111022
SUMMARY:CCS 2011
DESCRIPTION:ACM Conference on Computer and Communications Security
URL:http://www.wikicfp.com/cfp/servlet/event.showcfp?eventid=14002&copyow
 nerid=17963
UID:cfp140338-E@wikicfp.com
END:VEVENT
BEGIN:VEVENT
DTSTAMP:20260420T223319Z
DTSTART;VALUE=DATE:20110506
SUMMARY:CCS 2011 Deadline
DESCRIPTION:ACM Conference on Computer and Communications Security
URL:http://www.wikicfp.com/cfp/servlet/event.showcfp?eventid=14002&copyow
 nerid=17963
UID:cfp140338-D@wikicfp.com
END:VEVENT
BEGIN:VEVENT
DTSTAMP:20260420T223319Z
DTSTART;VALUE=DATE:20110715
SUMMARY:CCS 2011 Notification Due
DESCRIPTION:ACM Conference on Computer and Communications Security
URL:http://www.wikicfp.com/cfp/servlet/event.showcfp?eventid=14002&copyow
 nerid=17963
UID:cfp140338-N@wikicfp.com
END:VEVENT
BEGIN:VEVENT
DTSTAMP:20260420T223319Z
DTSTART;VALUE=DATE:20110811
SUMMARY:CCS 2011 Final Version Due
DESCRIPTION:ACM Conference on Computer and Communications Security
URL:http://www.wikicfp.com/cfp/servlet/event.showcfp?eventid=14002&copyow
 nerid=17963
UID:cfp140338-N@wikicfp.com
END:VEVENT
BEGIN:VEVENT
DTSTAMP:20260420T223319Z
DTSTART;VALUE=DATE:20111026
DTEND;VALUE=DATE:20111030
SUMMARY:ISC 2011
DESCRIPTION:14th Information Security Conference
URL:http://www.wikicfp.com/cfp/servlet/event.showcfp?eventid=14836&copyow
 nerid=17963
UID:cfp173555-E@wikicfp.com
END:VEVENT
BEGIN:VEVENT
DTSTAMP:20260420T223319Z
DTSTART;VALUE=DATE:20110522
SUMMARY:ISC 2011 Deadline
DESCRIPTION:14th Information Security Conference
URL:http://www.wikicfp.com/cfp/servlet/event.showcfp?eventid=14836&copyow
 nerid=17963
UID:cfp173555-D@wikicfp.com
END:VEVENT
BEGIN:VEVENT
DTSTAMP:20260420T223319Z
DTSTART;VALUE=DATE:20110720
SUMMARY:ISC 2011 Notification Due
DESCRIPTION:14th Information Security Conference
URL:http://www.wikicfp.com/cfp/servlet/event.showcfp?eventid=14836&copyow
 nerid=17963
UID:cfp173555-N@wikicfp.com
END:VEVENT
BEGIN:VEVENT
DTSTAMP:20260420T223319Z
DTSTART;VALUE=DATE:20110810
SUMMARY:ISC 2011 Final Version Due
DESCRIPTION:14th Information Security Conference
URL:http://www.wikicfp.com/cfp/servlet/event.showcfp?eventid=14836&copyow
 nerid=17963
UID:cfp173555-N@wikicfp.com
END:VEVENT
BEGIN:VEVENT
DTSTAMP:20260420T223319Z
DTSTART;VALUE=DATE:20111205
DTEND;VALUE=DATE:20111210
SUMMARY:ACSAC 2011
DESCRIPTION:The 27th Annual Computer Security Applications Conference 
URL:http://www.wikicfp.com/cfp/servlet/event.showcfp?eventid=15885&copyow
 nerid=17963
UID:cfp166249-E@wikicfp.com
END:VEVENT
BEGIN:VEVENT
DTSTAMP:20260420T223319Z
DTSTART;VALUE=DATE:20110606
SUMMARY:ACSAC 2011 Deadline
DESCRIPTION:The 27th Annual Computer Security Applications Conference 
URL:http://www.wikicfp.com/cfp/servlet/event.showcfp?eventid=15885&copyow
 nerid=17963
UID:cfp166249-D@wikicfp.com
END:VEVENT
BEGIN:VEVENT
DTSTAMP:20260420T223319Z
DTSTART;VALUE=DATE:20110815
SUMMARY:ACSAC 2011 Notification Due
DESCRIPTION:The 27th Annual Computer Security Applications Conference 
URL:http://www.wikicfp.com/cfp/servlet/event.showcfp?eventid=15885&copyow
 nerid=17963
UID:cfp166249-N@wikicfp.com
END:VEVENT
BEGIN:VEVENT
DTSTAMP:20260420T223319Z
DTSTART;VALUE=DATE:20120205
DTEND;VALUE=DATE:20120209
SUMMARY:NDSS 2012
DESCRIPTION:19th Network & Distributed System Security Symposium
URL:http://www.wikicfp.com/cfp/servlet/event.showcfp?eventid=16646&copyow
 nerid=17963
UID:cfp181443-E@wikicfp.com
END:VEVENT
BEGIN:VEVENT
DTSTAMP:20260420T223319Z
DTSTART;VALUE=DATE:20110816
SUMMARY:NDSS 2012 Abstract Due
DESCRIPTION:19th Network & Distributed System Security Symposium
URL:http://www.wikicfp.com/cfp/servlet/event.showcfp?eventid=16646&copyow
 nerid=17963
UID:cfp181443-A@wikicfp.com
END:VEVENT
BEGIN:VEVENT
DTSTAMP:20260420T223319Z
DTSTART;VALUE=DATE:20110823
SUMMARY:NDSS 2012 Deadline
DESCRIPTION:19th Network & Distributed System Security Symposium
URL:http://www.wikicfp.com/cfp/servlet/event.showcfp?eventid=16646&copyow
 nerid=17963
UID:cfp181443-D@wikicfp.com
END:VEVENT
BEGIN:VEVENT
DTSTAMP:20260420T223319Z
DTSTART;VALUE=DATE:20111023
SUMMARY:NDSS 2012 Notification Due
DESCRIPTION:19th Network & Distributed System Security Symposium
URL:http://www.wikicfp.com/cfp/servlet/event.showcfp?eventid=16646&copyow
 nerid=17963
UID:cfp181443-N@wikicfp.com
END:VEVENT
BEGIN:VEVENT
DTSTAMP:20260420T223319Z
DTSTART;VALUE=DATE:20111202
SUMMARY:NDSS 2012 Final Version Due
DESCRIPTION:19th Network & Distributed System Security Symposium
URL:http://www.wikicfp.com/cfp/servlet/event.showcfp?eventid=16646&copyow
 nerid=17963
UID:cfp181443-N@wikicfp.com
END:VEVENT
BEGIN:VEVENT
DTSTAMP:20260420T223319Z
DTSTART;VALUE=DATE:20120411
DTEND;VALUE=DATE:20120414
SUMMARY:EuroSys 2012
DESCRIPTION:12th European Conference on Computer Systems
URL:http://www.wikicfp.com/cfp/servlet/event.showcfp?eventid=16876&copyow
 nerid=17963
UID:cfp181441-E@wikicfp.com
END:VEVENT
BEGIN:VEVENT
DTSTAMP:20260420T223319Z
DTSTART;VALUE=DATE:20111014
SUMMARY:EuroSys 2012 Abstract Due
DESCRIPTION:12th European Conference on Computer Systems
URL:http://www.wikicfp.com/cfp/servlet/event.showcfp?eventid=16876&copyow
 nerid=17963
UID:cfp181441-A@wikicfp.com
END:VEVENT
BEGIN:VEVENT
DTSTAMP:20260420T223319Z
DTSTART;VALUE=DATE:20111020
SUMMARY:EuroSys 2012 Deadline
DESCRIPTION:12th European Conference on Computer Systems
URL:http://www.wikicfp.com/cfp/servlet/event.showcfp?eventid=16876&copyow
 nerid=17963
UID:cfp181441-D@wikicfp.com
END:VEVENT
BEGIN:VEVENT
DTSTAMP:20260420T223319Z
DTSTART;VALUE=DATE:20120108
SUMMARY:EuroSys 2012 Notification Due
DESCRIPTION:12th European Conference on Computer Systems
URL:http://www.wikicfp.com/cfp/servlet/event.showcfp?eventid=16876&copyow
 nerid=17963
UID:cfp181441-N@wikicfp.com
END:VEVENT
BEGIN:VEVENT
DTSTAMP:20260420T223319Z
DTSTART;VALUE=DATE:20120110
SUMMARY:EuroSys 2012 Final Version Due
DESCRIPTION:12th European Conference on Computer Systems
URL:http://www.wikicfp.com/cfp/servlet/event.showcfp?eventid=16876&copyow
 nerid=17963
UID:cfp181441-N@wikicfp.com
END:VEVENT
END:VCALENDAR
