BEGIN:VCALENDAR
PRODID:-//WikiCFP//callforpapers 1.0//EN
VERSION:2.0
CALSCALE:GREGORIAN
BEGIN:VEVENT
DTSTAMP:20260425T230420Z
DTSTART;VALUE=DATE:20080102
DTEND;VALUE=DATE:20080105
SUMMARY:ISAIM 2008
DESCRIPTION:Tenth International Symposium on Artificial Intelligence and 
 Mathmatics
URL:http://www.wikicfp.com/cfp/servlet/event.showcfp?eventid=1069&copyown
 erid=179
UID:cfp1754-E@wikicfp.com
END:VEVENT
BEGIN:VEVENT
DTSTAMP:20260425T230420Z
DTSTART;VALUE=DATE:20071001
SUMMARY:ISAIM 2008 Deadline
DESCRIPTION:Tenth International Symposium on Artificial Intelligence and 
 Mathmatics
URL:http://www.wikicfp.com/cfp/servlet/event.showcfp?eventid=1069&copyown
 erid=179
UID:cfp1754-D@wikicfp.com
END:VEVENT
BEGIN:VEVENT
DTSTAMP:20260425T230420Z
DTSTART;VALUE=DATE:20080421
DTEND;VALUE=DATE:20080426
SUMMARY:www 2008
DESCRIPTION:International World Wide Web Conference
URL:http://www.wikicfp.com/cfp/servlet/event.showcfp?eventid=1134&copyown
 erid=179
UID:cfp3000-E@wikicfp.com
END:VEVENT
BEGIN:VEVENT
DTSTAMP:20260425T230420Z
DTSTART;VALUE=DATE:20071101
SUMMARY:www 2008 Deadline
DESCRIPTION:International World Wide Web Conference
URL:http://www.wikicfp.com/cfp/servlet/event.showcfp?eventid=1134&copyown
 erid=179
UID:cfp3000-D@wikicfp.com
END:VEVENT
BEGIN:VEVENT
DTSTAMP:20260425T230420Z
DTSTART;VALUE=DATE:20080115
SUMMARY:www 2008 Notification Due
DESCRIPTION:International World Wide Web Conference
URL:http://www.wikicfp.com/cfp/servlet/event.showcfp?eventid=1134&copyown
 erid=179
UID:cfp3000-N@wikicfp.com
END:VEVENT
BEGIN:VEVENT
DTSTAMP:20260425T230420Z
DTSTART;VALUE=DATE:20080407
DTEND;VALUE=DATE:20080413
SUMMARY:SSW 2008
DESCRIPTION:First International Workshop on Secure Semantic Web
URL:http://www.wikicfp.com/cfp/servlet/event.showcfp?eventid=1537&copyown
 erid=179
UID:cfp3001-E@wikicfp.com
END:VEVENT
BEGIN:VEVENT
DTSTAMP:20260425T230420Z
DTSTART;VALUE=DATE:20071102
SUMMARY:SSW 2008 Deadline
DESCRIPTION:First International Workshop on Secure Semantic Web
URL:http://www.wikicfp.com/cfp/servlet/event.showcfp?eventid=1537&copyown
 erid=179
UID:cfp3001-D@wikicfp.com
END:VEVENT
BEGIN:VEVENT
DTSTAMP:20260425T230420Z
DTSTART;VALUE=DATE:20080701
DTEND;VALUE=DATE:20080707
SUMMARY:WCCI 2008
DESCRIPTION:IEEE World Congress on Computational Intelligence
URL:http://www.wikicfp.com/cfp/servlet/event.showcfp?eventid=1068&copyown
 erid=179
UID:cfp1755-E@wikicfp.com
END:VEVENT
BEGIN:VEVENT
DTSTAMP:20260425T230420Z
DTSTART;VALUE=DATE:20071201
SUMMARY:WCCI 2008 Deadline
DESCRIPTION:IEEE World Congress on Computational Intelligence
URL:http://www.wikicfp.com/cfp/servlet/event.showcfp?eventid=1068&copyown
 erid=179
UID:cfp1755-D@wikicfp.com
END:VEVENT
BEGIN:VEVENT
DTSTAMP:20260425T230420Z
DTSTART;VALUE=DATE:20080622
DTEND;VALUE=DATE:20080628
SUMMARY:IPMU 2008
DESCRIPTION:12th International Conference Information Processing and Mana
 gement of Uncertainty for Knowledge-Based Systems
URL:http://www.wikicfp.com/cfp/servlet/event.showcfp?eventid=1091&copyown
 erid=179
UID:cfp1753-E@wikicfp.com
END:VEVENT
BEGIN:VEVENT
DTSTAMP:20260425T230420Z
DTSTART;VALUE=DATE:20071207
SUMMARY:IPMU 2008 Deadline
DESCRIPTION:12th International Conference Information Processing and Mana
 gement of Uncertainty for Knowledge-Based Systems
URL:http://www.wikicfp.com/cfp/servlet/event.showcfp?eventid=1091&copyown
 erid=179
UID:cfp1753-D@wikicfp.com
END:VEVENT
BEGIN:VEVENT
DTSTAMP:20260425T230420Z
DTSTART;VALUE=DATE:20081215
DTEND;VALUE=DATE:20081220
SUMMARY:PRICAI 2008
DESCRIPTION:The 2008 Pacific Rim International Conference on Artificial I
 ntelligence
URL:http://www.wikicfp.com/cfp/servlet/event.showcfp?eventid=1121&copyown
 erid=179
UID:cfp1752-E@wikicfp.com
END:VEVENT
BEGIN:VEVENT
DTSTAMP:20260425T230420Z
DTSTART;VALUE=DATE:20080526
SUMMARY:PRICAI 2008 Deadline
DESCRIPTION:The 2008 Pacific Rim International Conference on Artificial I
 ntelligence
URL:http://www.wikicfp.com/cfp/servlet/event.showcfp?eventid=1121&copyown
 erid=179
UID:cfp1752-D@wikicfp.com
END:VEVENT
END:VCALENDAR
