BEGIN:VCALENDAR
PRODID:-//WikiCFP//ITNewsAfrica 1.0//EN
VERSION:2.0
CALSCALE:GREGORIAN
BEGIN:VEVENT
DTSTAMP:20260425T005958Z
DTSTART;VALUE=DATE:20220922
DTEND;VALUE=DATE:20220923
SUMMARY:DFAfrica 2022
DESCRIPTION:Digital Finance Africa 2022
URL:http://www.wikicfp.com/cfp/servlet/event.showcfp?eventid=167994&copyo
 wnerid=176667
UID:cfp944981-E@wikicfp.com
END:VEVENT
BEGIN:VEVENT
DTSTAMP:20260425T005958Z
DTSTART;VALUE=DATE:20220920
SUMMARY:DFAfrica 2022 Deadline
DESCRIPTION:Digital Finance Africa 2022
URL:http://www.wikicfp.com/cfp/servlet/event.showcfp?eventid=167994&copyo
 wnerid=176667
UID:cfp944981-D@wikicfp.com
END:VEVENT
END:VCALENDAR
