BEGIN:VCALENDAR
PRODID:-//WikiCFP//monika1193 1.0//EN
VERSION:2.0
CALSCALE:GREGORIAN
BEGIN:VEVENT
DTSTAMP:20260421T171304Z
DTSTART;VALUE=DATE:20230501
SUMMARY:SI BDAaTiCI 2023 Deadline
DESCRIPTION:Special Issue on Big Data Applications and Techniques in Cybe
 r Intelligence
URL:http://www.wikicfp.com/cfp/servlet/event.showcfp?eventid=169744&copyo
 wnerid=176159
UID:cfp949655-D@wikicfp.com
END:VEVENT
BEGIN:VEVENT
DTSTAMP:20260421T171304Z
DTSTART;VALUE=DATE:20230531
SUMMARY:SI ETRACNS 2023 Deadline
DESCRIPTION:Special Issue on Emerging Trends and Recent Advances in Commu
 nication Networks Security
URL:http://www.wikicfp.com/cfp/servlet/event.showcfp?eventid=167716&copyo
 wnerid=176159
UID:cfp944152-D@wikicfp.com
END:VEVENT
BEGIN:VEVENT
DTSTAMP:20260421T171304Z
DTSTART;VALUE=DATE:20230715
SUMMARY:SI DMCM 2023 Deadline
DESCRIPTION:SPECIAL ISSUE on  Dynamic Modeling and Control methods for th
 e Nonlinear system using Artificial Mathematical Intelligence
URL:http://www.wikicfp.com/cfp/servlet/event.showcfp?eventid=172109&copyo
 wnerid=176159
UID:cfp959349-D@wikicfp.com
END:VEVENT
BEGIN:VEVENT
DTSTAMP:20260421T171304Z
DTSTART;VALUE=DATE:20230815
SUMMARY:SI NETA 2023 Deadline
DESCRIPTION:SPECIAL ISSUE on  Nonlinear Evolution Equations and Their App
 lications
URL:http://www.wikicfp.com/cfp/servlet/event.showcfp?eventid=172052&copyo
 wnerid=176159
UID:cfp959063-D@wikicfp.com
END:VEVENT
BEGIN:VEVENT
DTSTAMP:20260421T171304Z
DTSTART;VALUE=DATE:20230920
SUMMARY:JMC SIP 2023 Deadline
DESCRIPTION:Journal of Mathematical Cryptology - Call for Special Issue p
 roposals
URL:http://www.wikicfp.com/cfp/servlet/event.showcfp?eventid=174195&copyo
 wnerid=176159
UID:cfp967301-D@wikicfp.com
END:VEVENT
BEGIN:VEVENT
DTSTAMP:20260421T171304Z
DTSTART;VALUE=DATE:20231002
SUMMARY:SI MAI 2023 Deadline
DESCRIPTION:SPECIAL ISSUE on  Mathematics for Artificial intelligence and
  Artificial intelligence for Mathematics
URL:http://www.wikicfp.com/cfp/servlet/event.showcfp?eventid=172054&copyo
 wnerid=176159
UID:cfp959065-D@wikicfp.com
END:VEVENT
BEGIN:VEVENT
DTSTAMP:20260421T171304Z
DTSTART;VALUE=DATE:20231010
SUMMARY:SI RDFTA 2023 Deadline
DESCRIPTION:SPECIAL ISSUE on  Recent Developments in Fixed-Point Theory a
 nd Applications
URL:http://www.wikicfp.com/cfp/servlet/event.showcfp?eventid=173569&copyo
 wnerid=176159
UID:cfp965454-D@wikicfp.com
END:VEVENT
BEGIN:VEVENT
DTSTAMP:20260421T171304Z
DTSTART;VALUE=DATE:20231010
SUMMARY:SI HPCCI 2024 Deadline
DESCRIPTION:High-Performance Computing for Climate Informatics
URL:http://www.wikicfp.com/cfp/servlet/event.showcfp?eventid=175630&copyo
 wnerid=176159
UID:cfp972375-D@wikicfp.com
END:VEVENT
BEGIN:VEVENT
DTSTAMP:20260421T171304Z
DTSTART;VALUE=DATE:20231015
SUMMARY:SI IEA 2023 Deadline
DESCRIPTION:SPECIAL ISSUE on  On some integral inequalities\, integral eq
 uations and applications
URL:http://www.wikicfp.com/cfp/servlet/event.showcfp?eventid=173572&copyo
 wnerid=176159
UID:cfp965457-D@wikicfp.com
END:VEVENT
BEGIN:VEVENT
DTSTAMP:20260421T171304Z
DTSTART;VALUE=DATE:20231016
SUMMARY:SI DFSTE 2023 Deadline
DESCRIPTION:SPECIAL ISSUE on Development of Fuzzy Sets and Their Extensio
 ns
URL:http://www.wikicfp.com/cfp/servlet/event.showcfp?eventid=172108&copyo
 wnerid=176159
UID:cfp959348-D@wikicfp.com
END:VEVENT
BEGIN:VEVENT
DTSTAMP:20260421T171304Z
DTSTART;VALUE=DATE:20231023
SUMMARY:SI Neyman 2023 Deadline
DESCRIPTION:Special Issue on Neyman (1923) and its influences on causal i
 nference
URL:http://www.wikicfp.com/cfp/servlet/event.showcfp?eventid=170387&copyo
 wnerid=176159
UID:cfp952551-D@wikicfp.com
END:VEVENT
BEGIN:VEVENT
DTSTAMP:20260421T171304Z
DTSTART;VALUE=DATE:20231115
SUMMARY:SI CAIDM 2024 Deadline
DESCRIPTION:SPECIAL ISSUE on Cybersecurity applications for improving dat
 a management: trends and challenges
URL:http://www.wikicfp.com/cfp/servlet/event.showcfp?eventid=175631&copyo
 wnerid=176159
UID:cfp972377-D@wikicfp.com
END:VEVENT
BEGIN:VEVENT
DTSTAMP:20260421T171304Z
DTSTART;VALUE=DATE:20231125
SUMMARY:SI RAB 2023 Deadline
DESCRIPTION:SPECIAL ISSUE on Recent Advances in Biometrics Based on Biome
 dical Information
URL:http://www.wikicfp.com/cfp/servlet/event.showcfp?eventid=173729&copyo
 wnerid=176159
UID:cfp965940-D@wikicfp.com
END:VEVENT
BEGIN:VEVENT
DTSTAMP:20260421T171304Z
DTSTART;VALUE=DATE:20231125
SUMMARY:SI EFGS 2023 Deadline
DESCRIPTION:SPECIAL ISSUE on Empowering the Future Generation Systems
URL:http://www.wikicfp.com/cfp/servlet/event.showcfp?eventid=173730&copyo
 wnerid=176159
UID:cfp965941-D@wikicfp.com
END:VEVENT
BEGIN:VEVENT
DTSTAMP:20260421T171304Z
DTSTART;VALUE=DATE:20231130
SUMMARY:SI ATW 2023 Deadline
DESCRIPTION:SPECIAL ISSUE on AI based Techniques in Wireless Sensor Netwo
 rks
URL:http://www.wikicfp.com/cfp/servlet/event.showcfp?eventid=173731&copyo
 wnerid=176159
UID:cfp965942-D@wikicfp.com
END:VEVENT
BEGIN:VEVENT
DTSTAMP:20260421T171304Z
DTSTART;VALUE=DATE:20231130
SUMMARY:SI AMLCP 2024 Deadline
DESCRIPTION:SPECIAL ISSUE on Advancements in Machine Learning for Cyberse
 curity and Privacy: Algorithms\, Models\, and Applications
URL:http://www.wikicfp.com/cfp/servlet/event.showcfp?eventid=175629&copyo
 wnerid=176159
UID:cfp972373-D@wikicfp.com
END:VEVENT
BEGIN:VEVENT
DTSTAMP:20260421T171304Z
DTSTART;VALUE=DATE:20231230
SUMMARY:SI GACVA 2024 Deadline
DESCRIPTION:SPECIAL ISSUE on Generative AI for Computer Vision Applicatio
 ns:  A boon or a bane?
URL:http://www.wikicfp.com/cfp/servlet/event.showcfp?eventid=176011&copyo
 wnerid=176159
UID:cfp973994-D@wikicfp.com
END:VEVENT
BEGIN:VEVENT
DTSTAMP:20260421T171304Z
DTSTART;VALUE=DATE:20231231
SUMMARY:JMC 2023 2023 Deadline
DESCRIPTION:JOURNAL OF MATHEMATICAL CRYPTOLOGY
URL:http://www.wikicfp.com/cfp/servlet/event.showcfp?eventid=170076&copyo
 wnerid=176159
UID:cfp951522-D@wikicfp.com
END:VEVENT
BEGIN:VEVENT
DTSTAMP:20260421T171304Z
DTSTART;VALUE=DATE:20240315
SUMMARY:SI BPNEMP 2024 Deadline
DESCRIPTION:SPECIAL ISSUE on  Blow-up Phenomena in Nonlinear Equations of
  Mathematical Physics
URL:http://www.wikicfp.com/cfp/servlet/event.showcfp?eventid=177270&copyo
 wnerid=176159
UID:cfp978804-D@wikicfp.com
END:VEVENT
BEGIN:VEVENT
DTSTAMP:20260421T171304Z
DTSTART;VALUE=DATE:20241010
SUMMARY:SI DENA 2024 Deadline
DESCRIPTION:SPECIAL ISSUE on Differential Equations and Numerical Analysi
 s
URL:http://www.wikicfp.com/cfp/servlet/event.showcfp?eventid=178930&copyo
 wnerid=176159
UID:cfp986639-D@wikicfp.com
END:VEVENT
BEGIN:VEVENT
DTSTAMP:20260421T171304Z
DTSTART;VALUE=DATE:20241215
SUMMARY:SI AIMLDE 2024 Deadline
DESCRIPTION:SPECIAL ISSUE on  Applied Artificial intelligence\, Machine L
 earning\, and Data Engineering
URL:http://www.wikicfp.com/cfp/servlet/event.showcfp?eventid=180626&copyo
 wnerid=176159
UID:cfp992787-D@wikicfp.com
END:VEVENT
BEGIN:VEVENT
DTSTAMP:20260421T171304Z
DTSTART;VALUE=DATE:20241231
SUMMARY:JMC 2024 Deadline
DESCRIPTION:JOURNAL OF MATHEMATICAL CRYPTOLOGY 2024
URL:http://www.wikicfp.com/cfp/servlet/event.showcfp?eventid=178931&copyo
 wnerid=176159
UID:cfp986640-D@wikicfp.com
END:VEVENT
BEGIN:VEVENT
DTSTAMP:20260421T171304Z
DTSTART;VALUE=DATE:20250531
SUMMARY:SI VMNP 2025 Deadline
DESCRIPTION:SPECIAL ISSUE on Variational Methods and Nonlinear PDEs
URL:http://www.wikicfp.com/cfp/servlet/event.showcfp?eventid=183193&copyo
 wnerid=176159
UID:cfp1001631-D@wikicfp.com
END:VEVENT
BEGIN:VEVENT
DTSTAMP:20260421T171304Z
DTSTART;VALUE=DATE:20251231
SUMMARY:JMC  2025 Deadline
DESCRIPTION:JOURNAL OF MATHEMATICAL CRYPTOLOGY 2025
URL:http://www.wikicfp.com/cfp/servlet/event.showcfp?eventid=185492&copyo
 wnerid=176159
UID:cfp1007630-D@wikicfp.com
END:VEVENT
BEGIN:VEVENT
DTSTAMP:20260421T171304Z
DTSTART;VALUE=DATE:20251231
SUMMARY:JCI  2025 Deadline
DESCRIPTION:JOURNAL OF CAUSAL INFERENCE
URL:http://www.wikicfp.com/cfp/servlet/event.showcfp?eventid=188502&copyo
 wnerid=176159
UID:cfp1017002-D@wikicfp.com
END:VEVENT
BEGIN:VEVENT
DTSTAMP:20260421T171304Z
DTSTART;VALUE=DATE:20251231
SUMMARY:COMP 2025 Deadline
DESCRIPTION:OPEN COMPUTER SCIENCE
URL:http://www.wikicfp.com/cfp/servlet/event.showcfp?eventid=188505&copyo
 wnerid=176159
UID:cfp1017007-D@wikicfp.com
END:VEVENT
BEGIN:VEVENT
DTSTAMP:20260421T171304Z
DTSTART;VALUE=DATE:20261231
SUMMARY:COMP 2026 Deadline
DESCRIPTION:OPEN COMPUTER SCIENCE
URL:http://www.wikicfp.com/cfp/servlet/event.showcfp?eventid=192087&copyo
 wnerid=176159
UID:cfp1028309-D@wikicfp.com
END:VEVENT
BEGIN:VEVENT
DTSTAMP:20260421T171304Z
DTSTART;VALUE=DATE:20261231
SUMMARY:JCI 2026 Deadline
DESCRIPTION:JOURNAL OF CAUSAL INFERENCE
URL:http://www.wikicfp.com/cfp/servlet/event.showcfp?eventid=192088&copyo
 wnerid=176159
UID:cfp1028310-D@wikicfp.com
END:VEVENT
BEGIN:VEVENT
DTSTAMP:20260421T171304Z
DTSTART;VALUE=DATE:20261231
SUMMARY:JMC 2026 Deadline
DESCRIPTION:JOURNAL OF MATHEMATICAL CRYPTOLOGY
URL:http://www.wikicfp.com/cfp/servlet/event.showcfp?eventid=192090&copyo
 wnerid=176159
UID:cfp1028314-D@wikicfp.com
END:VEVENT
BEGIN:VEVENT
DTSTAMP:20260421T171304Z
DTSTART;VALUE=DATE:20261231
SUMMARY:DEMA 2026 Deadline
DESCRIPTION:DEMONSTRATIO MATHEMATICA
URL:http://www.wikicfp.com/cfp/servlet/event.showcfp?eventid=192092&copyo
 wnerid=176159
UID:cfp1028316-D@wikicfp.com
END:VEVENT
END:VCALENDAR
