BEGIN:VCALENDAR
PRODID:-//WikiCFP//carlosguti 1.0//EN
VERSION:2.0
CALSCALE:GREGORIAN
BEGIN:VEVENT
DTSTAMP:20260423T052748Z
DTSTART;VALUE=DATE:20230121
DTEND;VALUE=DATE:20230123
SUMMARY:ICBCS 2023
DESCRIPTION:International conference on Bioinformatics and computational 
 studies 
URL:http://www.wikicfp.com/cfp/servlet/event.showcfp?eventid=171597&copyo
 wnerid=174362
UID:cfp957662-E@wikicfp.com
END:VEVENT
BEGIN:VEVENT
DTSTAMP:20260423T052748Z
DTSTART;VALUE=DATE:20230114
SUMMARY:ICBCS 2023 Deadline
DESCRIPTION:International conference on Bioinformatics and computational 
 studies 
URL:http://www.wikicfp.com/cfp/servlet/event.showcfp?eventid=171597&copyo
 wnerid=174362
UID:cfp957662-D@wikicfp.com
END:VEVENT
BEGIN:VEVENT
DTSTAMP:20260423T052748Z
DTSTART;VALUE=DATE:20230117
SUMMARY:ICBCS 2023 Notification Due
DESCRIPTION:International conference on Bioinformatics and computational 
 studies 
URL:http://www.wikicfp.com/cfp/servlet/event.showcfp?eventid=171597&copyo
 wnerid=174362
UID:cfp957662-N@wikicfp.com
END:VEVENT
BEGIN:VEVENT
DTSTAMP:20260423T052748Z
DTSTART;VALUE=DATE:20230119
SUMMARY:ICBCS 2023 Final Version Due
DESCRIPTION:International conference on Bioinformatics and computational 
 studies 
URL:http://www.wikicfp.com/cfp/servlet/event.showcfp?eventid=171597&copyo
 wnerid=174362
UID:cfp957662-N@wikicfp.com
END:VEVENT
BEGIN:VEVENT
DTSTAMP:20260423T052748Z
DTSTART;VALUE=DATE:20230619
DTEND;VALUE=DATE:20230624
SUMMARY:COORDINATION 2023
DESCRIPTION:25th International Conference on Coordination Models and Lang
 uages
URL:http://www.wikicfp.com/cfp/servlet/event.showcfp?eventid=171505&copyo
 wnerid=174362
UID:cfp957664-E@wikicfp.com
END:VEVENT
BEGIN:VEVENT
DTSTAMP:20260423T052748Z
DTSTART;VALUE=DATE:20230211
SUMMARY:COORDINATION 2023 Abstract Due
DESCRIPTION:25th International Conference on Coordination Models and Lang
 uages
URL:http://www.wikicfp.com/cfp/servlet/event.showcfp?eventid=171505&copyo
 wnerid=174362
UID:cfp957664-A@wikicfp.com
END:VEVENT
BEGIN:VEVENT
DTSTAMP:20260423T052748Z
DTSTART;VALUE=DATE:20230218
SUMMARY:COORDINATION 2023 Deadline
DESCRIPTION:25th International Conference on Coordination Models and Lang
 uages
URL:http://www.wikicfp.com/cfp/servlet/event.showcfp?eventid=171505&copyo
 wnerid=174362
UID:cfp957664-D@wikicfp.com
END:VEVENT
BEGIN:VEVENT
DTSTAMP:20260423T052748Z
DTSTART;VALUE=DATE:20230331
SUMMARY:COORDINATION 2023 Notification Due
DESCRIPTION:25th International Conference on Coordination Models and Lang
 uages
URL:http://www.wikicfp.com/cfp/servlet/event.showcfp?eventid=171505&copyo
 wnerid=174362
UID:cfp957664-N@wikicfp.com
END:VEVENT
BEGIN:VEVENT
DTSTAMP:20260423T052748Z
DTSTART;VALUE=DATE:20230430
SUMMARY:COORDINATION 2023 Final Version Due
DESCRIPTION:25th International Conference on Coordination Models and Lang
 uages
URL:http://www.wikicfp.com/cfp/servlet/event.showcfp?eventid=171505&copyo
 wnerid=174362
UID:cfp957664-N@wikicfp.com
END:VEVENT
BEGIN:VEVENT
DTSTAMP:20260423T052748Z
DTSTART;VALUE=DATE:20230313
DTEND;VALUE=DATE:20230315
SUMMARY:ISID 2023
DESCRIPTION:3rd International Symposium on Intelligence Design
URL:http://www.wikicfp.com/cfp/servlet/event.showcfp?eventid=171456&copyo
 wnerid=174362
UID:cfp957668-E@wikicfp.com
END:VEVENT
BEGIN:VEVENT
DTSTAMP:20260423T052748Z
DTSTART;VALUE=DATE:20230220
SUMMARY:ISID 2023 Deadline
DESCRIPTION:3rd International Symposium on Intelligence Design
URL:http://www.wikicfp.com/cfp/servlet/event.showcfp?eventid=171456&copyo
 wnerid=174362
UID:cfp957668-D@wikicfp.com
END:VEVENT
BEGIN:VEVENT
DTSTAMP:20260423T052748Z
DTSTART;VALUE=DATE:20230227
SUMMARY:ISID 2023 Notification Due
DESCRIPTION:3rd International Symposium on Intelligence Design
URL:http://www.wikicfp.com/cfp/servlet/event.showcfp?eventid=171456&copyo
 wnerid=174362
UID:cfp957668-N@wikicfp.com
END:VEVENT
BEGIN:VEVENT
DTSTAMP:20260423T052748Z
DTSTART;VALUE=DATE:20230304
SUMMARY:ISID 2023 Final Version Due
DESCRIPTION:3rd International Symposium on Intelligence Design
URL:http://www.wikicfp.com/cfp/servlet/event.showcfp?eventid=171456&copyo
 wnerid=174362
UID:cfp957668-N@wikicfp.com
END:VEVENT
BEGIN:VEVENT
DTSTAMP:20260423T052748Z
DTSTART;VALUE=DATE:20230524
DTEND;VALUE=DATE:20230526
SUMMARY:miproBIS  2023
DESCRIPTION:CfP:miproBIS - Business Intelligence Systems 
URL:http://www.wikicfp.com/cfp/servlet/event.showcfp?eventid=171489&copyo
 wnerid=174362
UID:cfp957663-E@wikicfp.com
END:VEVENT
BEGIN:VEVENT
DTSTAMP:20260423T052748Z
DTSTART;VALUE=DATE:20230131
SUMMARY:miproBIS  2023 Abstract Due
DESCRIPTION:CfP:miproBIS - Business Intelligence Systems 
URL:http://www.wikicfp.com/cfp/servlet/event.showcfp?eventid=171489&copyo
 wnerid=174362
UID:cfp957663-A@wikicfp.com
END:VEVENT
BEGIN:VEVENT
DTSTAMP:20260423T052748Z
DTSTART;VALUE=DATE:20230220
SUMMARY:miproBIS  2023 Deadline
DESCRIPTION:CfP:miproBIS - Business Intelligence Systems 
URL:http://www.wikicfp.com/cfp/servlet/event.showcfp?eventid=171489&copyo
 wnerid=174362
UID:cfp957663-D@wikicfp.com
END:VEVENT
BEGIN:VEVENT
DTSTAMP:20260423T052748Z
DTSTART;VALUE=DATE:20230313
SUMMARY:miproBIS  2023 Notification Due
DESCRIPTION:CfP:miproBIS - Business Intelligence Systems 
URL:http://www.wikicfp.com/cfp/servlet/event.showcfp?eventid=171489&copyo
 wnerid=174362
UID:cfp957663-N@wikicfp.com
END:VEVENT
BEGIN:VEVENT
DTSTAMP:20260423T052748Z
DTSTART;VALUE=DATE:20230327
SUMMARY:miproBIS  2023 Final Version Due
DESCRIPTION:CfP:miproBIS - Business Intelligence Systems 
URL:http://www.wikicfp.com/cfp/servlet/event.showcfp?eventid=171489&copyo
 wnerid=174362
UID:cfp957663-N@wikicfp.com
END:VEVENT
BEGIN:VEVENT
DTSTAMP:20260423T052748Z
DTSTART;VALUE=DATE:20230814
DTEND;VALUE=DATE:20230817
SUMMARY:NSS 2023
DESCRIPTION:17th International Conference on Network and System Security
URL:http://www.wikicfp.com/cfp/servlet/event.showcfp?eventid=171517&copyo
 wnerid=174362
UID:cfp957667-E@wikicfp.com
END:VEVENT
BEGIN:VEVENT
DTSTAMP:20260423T052748Z
DTSTART;VALUE=DATE:20230303
SUMMARY:NSS 2023 Deadline
DESCRIPTION:17th International Conference on Network and System Security
URL:http://www.wikicfp.com/cfp/servlet/event.showcfp?eventid=171517&copyo
 wnerid=174362
UID:cfp957667-D@wikicfp.com
END:VEVENT
BEGIN:VEVENT
DTSTAMP:20260423T052748Z
DTSTART;VALUE=DATE:20230505
SUMMARY:NSS 2023 Notification Due
DESCRIPTION:17th International Conference on Network and System Security
URL:http://www.wikicfp.com/cfp/servlet/event.showcfp?eventid=171517&copyo
 wnerid=174362
UID:cfp957667-N@wikicfp.com
END:VEVENT
BEGIN:VEVENT
DTSTAMP:20260423T052748Z
DTSTART;VALUE=DATE:20230626
SUMMARY:NSS 2023 Final Version Due
DESCRIPTION:17th International Conference on Network and System Security
URL:http://www.wikicfp.com/cfp/servlet/event.showcfp?eventid=171517&copyo
 wnerid=174362
UID:cfp957667-N@wikicfp.com
END:VEVENT
BEGIN:VEVENT
DTSTAMP:20260423T052748Z
DTSTART;VALUE=DATE:20230425
DTEND;VALUE=DATE:20230426
SUMMARY:EEICT 2023
DESCRIPTION:Electrical Engineering\, Information and Communication Techno
 logies 2023
URL:http://www.wikicfp.com/cfp/servlet/event.showcfp?eventid=171453&copyo
 wnerid=174362
UID:cfp957672-E@wikicfp.com
END:VEVENT
BEGIN:VEVENT
DTSTAMP:20260423T052748Z
DTSTART;VALUE=DATE:20230312
SUMMARY:EEICT 2023 Deadline
DESCRIPTION:Electrical Engineering\, Information and Communication Techno
 logies 2023
URL:http://www.wikicfp.com/cfp/servlet/event.showcfp?eventid=171453&copyo
 wnerid=174362
UID:cfp957672-D@wikicfp.com
END:VEVENT
BEGIN:VEVENT
DTSTAMP:20260423T052748Z
DTSTART;VALUE=DATE:20230326
SUMMARY:EEICT 2023 Notification Due
DESCRIPTION:Electrical Engineering\, Information and Communication Techno
 logies 2023
URL:http://www.wikicfp.com/cfp/servlet/event.showcfp?eventid=171453&copyo
 wnerid=174362
UID:cfp957672-N@wikicfp.com
END:VEVENT
BEGIN:VEVENT
DTSTAMP:20260423T052748Z
DTSTART;VALUE=DATE:20230409
SUMMARY:EEICT 2023 Final Version Due
DESCRIPTION:Electrical Engineering\, Information and Communication Techno
 logies 2023
URL:http://www.wikicfp.com/cfp/servlet/event.showcfp?eventid=171453&copyo
 wnerid=174362
UID:cfp957672-N@wikicfp.com
END:VEVENT
BEGIN:VEVENT
DTSTAMP:20260423T052748Z
DTSTART;VALUE=DATE:20231024
DTEND;VALUE=DATE:20231027
SUMMARY:IDSTA 2023
DESCRIPTION:The International Conference on Intelligent Data Science Tech
 nologies and Applications (IDSTA2023)
URL:http://www.wikicfp.com/cfp/servlet/event.showcfp?eventid=171452&copyo
 wnerid=174362
UID:cfp957671-E@wikicfp.com
END:VEVENT
BEGIN:VEVENT
DTSTAMP:20260423T052748Z
DTSTART;VALUE=DATE:20230315
SUMMARY:IDSTA 2023 Deadline
DESCRIPTION:The International Conference on Intelligent Data Science Tech
 nologies and Applications (IDSTA2023)
URL:http://www.wikicfp.com/cfp/servlet/event.showcfp?eventid=171452&copyo
 wnerid=174362
UID:cfp957671-D@wikicfp.com
END:VEVENT
BEGIN:VEVENT
DTSTAMP:20260423T052748Z
DTSTART;VALUE=DATE:20230531
SUMMARY:IDSTA 2023 Notification Due
DESCRIPTION:The International Conference on Intelligent Data Science Tech
 nologies and Applications (IDSTA2023)
URL:http://www.wikicfp.com/cfp/servlet/event.showcfp?eventid=171452&copyo
 wnerid=174362
UID:cfp957671-N@wikicfp.com
END:VEVENT
BEGIN:VEVENT
DTSTAMP:20260423T052748Z
DTSTART;VALUE=DATE:20231001
SUMMARY:IDSTA 2023 Final Version Due
DESCRIPTION:The International Conference on Intelligent Data Science Tech
 nologies and Applications (IDSTA2023)
URL:http://www.wikicfp.com/cfp/servlet/event.showcfp?eventid=171452&copyo
 wnerid=174362
UID:cfp957671-N@wikicfp.com
END:VEVENT
BEGIN:VEVENT
DTSTAMP:20260423T052748Z
DTSTART;VALUE=DATE:20230613
DTEND;VALUE=DATE:20230616
SUMMARY:ARCS 2023
DESCRIPTION:International Conference on Architecture of Computing Systems
 
URL:http://www.wikicfp.com/cfp/servlet/event.showcfp?eventid=171514&copyo
 wnerid=174362
UID:cfp957665-E@wikicfp.com
END:VEVENT
BEGIN:VEVENT
DTSTAMP:20260423T052748Z
DTSTART;VALUE=DATE:20230407
SUMMARY:ARCS 2023 Deadline
DESCRIPTION:International Conference on Architecture of Computing Systems
 
URL:http://www.wikicfp.com/cfp/servlet/event.showcfp?eventid=171514&copyo
 wnerid=174362
UID:cfp957665-D@wikicfp.com
END:VEVENT
BEGIN:VEVENT
DTSTAMP:20260423T052748Z
DTSTART;VALUE=DATE:20230519
SUMMARY:ARCS 2023 Notification Due
DESCRIPTION:International Conference on Architecture of Computing Systems
 
URL:http://www.wikicfp.com/cfp/servlet/event.showcfp?eventid=171514&copyo
 wnerid=174362
UID:cfp957665-N@wikicfp.com
END:VEVENT
BEGIN:VEVENT
DTSTAMP:20260423T052748Z
DTSTART;VALUE=DATE:20230602
SUMMARY:ARCS 2023 Final Version Due
DESCRIPTION:International Conference on Architecture of Computing Systems
 
URL:http://www.wikicfp.com/cfp/servlet/event.showcfp?eventid=171514&copyo
 wnerid=174362
UID:cfp957665-N@wikicfp.com
END:VEVENT
BEGIN:VEVENT
DTSTAMP:20260423T052748Z
DTSTART;VALUE=DATE:20230920
DTEND;VALUE=DATE:20230923
SUMMARY:CECIIS 2023
DESCRIPTION:Central European Conference on Information and Intelligent Sy
 stems
URL:http://www.wikicfp.com/cfp/servlet/event.showcfp?eventid=171458&copyo
 wnerid=174362
UID:cfp957669-E@wikicfp.com
END:VEVENT
BEGIN:VEVENT
DTSTAMP:20260423T052748Z
DTSTART;VALUE=DATE:20230426
SUMMARY:CECIIS 2023 Deadline
DESCRIPTION:Central European Conference on Information and Intelligent Sy
 stems
URL:http://www.wikicfp.com/cfp/servlet/event.showcfp?eventid=171458&copyo
 wnerid=174362
UID:cfp957669-D@wikicfp.com
END:VEVENT
BEGIN:VEVENT
DTSTAMP:20260423T052748Z
DTSTART;VALUE=DATE:20230721
SUMMARY:CECIIS 2023 Notification Due
DESCRIPTION:Central European Conference on Information and Intelligent Sy
 stems
URL:http://www.wikicfp.com/cfp/servlet/event.showcfp?eventid=171458&copyo
 wnerid=174362
UID:cfp957669-N@wikicfp.com
END:VEVENT
BEGIN:VEVENT
DTSTAMP:20260423T052748Z
DTSTART;VALUE=DATE:20231106
DTEND;VALUE=DATE:20231110
SUMMARY:ER 2023
DESCRIPTION:42nd International Conference on Conceptual Modeling
URL:http://www.wikicfp.com/cfp/servlet/event.showcfp?eventid=171516&copyo
 wnerid=174362
UID:cfp957666-E@wikicfp.com
END:VEVENT
BEGIN:VEVENT
DTSTAMP:20260423T052748Z
DTSTART;VALUE=DATE:20230517
SUMMARY:ER 2023 Abstract Due
DESCRIPTION:42nd International Conference on Conceptual Modeling
URL:http://www.wikicfp.com/cfp/servlet/event.showcfp?eventid=171516&copyo
 wnerid=174362
UID:cfp957666-A@wikicfp.com
END:VEVENT
BEGIN:VEVENT
DTSTAMP:20260423T052748Z
DTSTART;VALUE=DATE:20230524
SUMMARY:ER 2023 Deadline
DESCRIPTION:42nd International Conference on Conceptual Modeling
URL:http://www.wikicfp.com/cfp/servlet/event.showcfp?eventid=171516&copyo
 wnerid=174362
UID:cfp957666-D@wikicfp.com
END:VEVENT
BEGIN:VEVENT
DTSTAMP:20260423T052748Z
DTSTART;VALUE=DATE:20230724
SUMMARY:ER 2023 Notification Due
DESCRIPTION:42nd International Conference on Conceptual Modeling
URL:http://www.wikicfp.com/cfp/servlet/event.showcfp?eventid=171516&copyo
 wnerid=174362
UID:cfp957666-N@wikicfp.com
END:VEVENT
BEGIN:VEVENT
DTSTAMP:20260423T052748Z
DTSTART;VALUE=DATE:20230911
SUMMARY:ER 2023 Final Version Due
DESCRIPTION:42nd International Conference on Conceptual Modeling
URL:http://www.wikicfp.com/cfp/servlet/event.showcfp?eventid=171516&copyo
 wnerid=174362
UID:cfp957666-N@wikicfp.com
END:VEVENT
BEGIN:VEVENT
DTSTAMP:20260423T052748Z
DTSTART;VALUE=DATE:20230715
DTEND;VALUE=DATE:20230718
SUMMARY:BAOER--EI 2023
DESCRIPTION:2023 International Conference on Business Analytics for Opera
 tions Excellence & Resilience (BAOER 2023)
URL:http://www.wikicfp.com/cfp/servlet/event.showcfp?eventid=171374&copyo
 wnerid=174362
UID:cfp957675-E@wikicfp.com
END:VEVENT
BEGIN:VEVENT
DTSTAMP:20260423T052748Z
DTSTART;VALUE=DATE:20230605
SUMMARY:BAOER--EI 2023 Deadline
DESCRIPTION:2023 International Conference on Business Analytics for Opera
 tions Excellence & Resilience (BAOER 2023)
URL:http://www.wikicfp.com/cfp/servlet/event.showcfp?eventid=171374&copyo
 wnerid=174362
UID:cfp957675-D@wikicfp.com
END:VEVENT
BEGIN:VEVENT
DTSTAMP:20260423T052748Z
DTSTART;VALUE=DATE:20230910
DTEND;VALUE=DATE:20230911
SUMMARY:9th ICMS 2023
DESCRIPTION:9th International Hybrid Conference on Management Studies (IC
 MS)
URL:http://www.wikicfp.com/cfp/servlet/event.showcfp?eventid=171486&copyo
 wnerid=174362
UID:cfp957670-E@wikicfp.com
END:VEVENT
BEGIN:VEVENT
DTSTAMP:20260423T052748Z
DTSTART;VALUE=DATE:20230620
SUMMARY:9th ICMS 2023 Abstract Due
DESCRIPTION:9th International Hybrid Conference on Management Studies (IC
 MS)
URL:http://www.wikicfp.com/cfp/servlet/event.showcfp?eventid=171486&copyo
 wnerid=174362
UID:cfp957670-A@wikicfp.com
END:VEVENT
BEGIN:VEVENT
DTSTAMP:20260423T052748Z
DTSTART;VALUE=DATE:20230630
SUMMARY:9th ICMS 2023 Deadline
DESCRIPTION:9th International Hybrid Conference on Management Studies (IC
 MS)
URL:http://www.wikicfp.com/cfp/servlet/event.showcfp?eventid=171486&copyo
 wnerid=174362
UID:cfp957670-D@wikicfp.com
END:VEVENT
BEGIN:VEVENT
DTSTAMP:20260423T052748Z
DTSTART;VALUE=DATE:20230923
DTEND;VALUE=DATE:20230926
SUMMARY:ICIST 2023
DESCRIPTION:2023 5th International Conference on Intelligent Science and 
 Technology (ICIST 2023)
URL:http://www.wikicfp.com/cfp/servlet/event.showcfp?eventid=171398&copyo
 wnerid=174362
UID:cfp957674-E@wikicfp.com
END:VEVENT
BEGIN:VEVENT
DTSTAMP:20260423T052748Z
DTSTART;VALUE=DATE:20230720
SUMMARY:ICIST 2023 Deadline
DESCRIPTION:2023 5th International Conference on Intelligent Science and 
 Technology (ICIST 2023)
URL:http://www.wikicfp.com/cfp/servlet/event.showcfp?eventid=171398&copyo
 wnerid=174362
UID:cfp957674-D@wikicfp.com
END:VEVENT
BEGIN:VEVENT
DTSTAMP:20260423T052748Z
DTSTART;VALUE=DATE:20230915
DTEND;VALUE=DATE:20230918
SUMMARY:CCAT 2023
DESCRIPTION:CPS--2023 The 2nd International Conference on Computer Applic
 ation Technology (CCAT 2023)
URL:http://www.wikicfp.com/cfp/servlet/event.showcfp?eventid=171391&copyo
 wnerid=174362
UID:cfp957673-E@wikicfp.com
END:VEVENT
BEGIN:VEVENT
DTSTAMP:20260423T052748Z
DTSTART;VALUE=DATE:20230810
SUMMARY:CCAT 2023 Deadline
DESCRIPTION:CPS--2023 The 2nd International Conference on Computer Applic
 ation Technology (CCAT 2023)
URL:http://www.wikicfp.com/cfp/servlet/event.showcfp?eventid=171391&copyo
 wnerid=174362
UID:cfp957673-D@wikicfp.com
END:VEVENT
BEGIN:VEVENT
DTSTAMP:20260423T052748Z
DTSTART;VALUE=DATE:20231013
DTEND;VALUE=DATE:20231016
SUMMARY:ICAAI 2023
DESCRIPTION:ACM--2023 The 7th International Conference on Advances in Art
 ificial Intelligence (ICAAI 2023)
URL:http://www.wikicfp.com/cfp/servlet/event.showcfp?eventid=171593&copyo
 wnerid=174362
UID:cfp957661-E@wikicfp.com
END:VEVENT
BEGIN:VEVENT
DTSTAMP:20260423T052748Z
DTSTART;VALUE=DATE:20230915
SUMMARY:ICAAI 2023 Deadline
DESCRIPTION:ACM--2023 The 7th International Conference on Advances in Art
 ificial Intelligence (ICAAI 2023)
URL:http://www.wikicfp.com/cfp/servlet/event.showcfp?eventid=171593&copyo
 wnerid=174362
UID:cfp957661-D@wikicfp.com
END:VEVENT
BEGIN:VEVENT
DTSTAMP:20260423T052748Z
DTSTART;VALUE=DATE:20231107
DTEND;VALUE=DATE:20231110
SUMMARY:ICICM 2023
DESCRIPTION:ACM--2023 The 13th International Conference on Information Co
 mmunication and Management (ICICM 2023)
URL:http://www.wikicfp.com/cfp/servlet/event.showcfp?eventid=171382&copyo
 wnerid=174362
UID:cfp957676-E@wikicfp.com
END:VEVENT
BEGIN:VEVENT
DTSTAMP:20260423T052748Z
DTSTART;VALUE=DATE:20231005
SUMMARY:ICICM 2023 Deadline
DESCRIPTION:ACM--2023 The 13th International Conference on Information Co
 mmunication and Management (ICICM 2023)
URL:http://www.wikicfp.com/cfp/servlet/event.showcfp?eventid=171382&copyo
 wnerid=174362
UID:cfp957676-D@wikicfp.com
END:VEVENT
END:VCALENDAR
