BEGIN:VCALENDAR
PRODID:-//WikiCFP//jdsalaro 1.0//EN
VERSION:2.0
CALSCALE:GREGORIAN
BEGIN:VEVENT
DTSTAMP:20260423T120552Z
DTSTART;VALUE=DATE:20220806
DTEND;VALUE=DATE:20220809
SUMMARY:KSEM 2022
DESCRIPTION:International Conference on Knowledge Science\, Engineering a
 nd Management
URL:http://www.wikicfp.com/cfp/servlet/event.showcfp?eventid=146914&copyo
 wnerid=173624
UID:cfp923974-E@wikicfp.com
END:VEVENT
BEGIN:VEVENT
DTSTAMP:20260423T120552Z
DTSTART;VALUE=DATE:20220315
SUMMARY:KSEM 2022 Deadline
DESCRIPTION:International Conference on Knowledge Science\, Engineering a
 nd Management
URL:http://www.wikicfp.com/cfp/servlet/event.showcfp?eventid=146914&copyo
 wnerid=173624
UID:cfp923974-D@wikicfp.com
END:VEVENT
BEGIN:VEVENT
DTSTAMP:20260423T120552Z
DTSTART;VALUE=DATE:20220515
SUMMARY:KSEM 2022 Notification Due
DESCRIPTION:International Conference on Knowledge Science\, Engineering a
 nd Management
URL:http://www.wikicfp.com/cfp/servlet/event.showcfp?eventid=146914&copyo
 wnerid=173624
UID:cfp923974-N@wikicfp.com
END:VEVENT
BEGIN:VEVENT
DTSTAMP:20260423T120552Z
DTSTART;VALUE=DATE:20220601
SUMMARY:KSEM 2022 Final Version Due
DESCRIPTION:International Conference on Knowledge Science\, Engineering a
 nd Management
URL:http://www.wikicfp.com/cfp/servlet/event.showcfp?eventid=146914&copyo
 wnerid=173624
UID:cfp923974-N@wikicfp.com
END:VEVENT
BEGIN:VEVENT
DTSTAMP:20260423T120552Z
DTSTART;VALUE=DATE:20220513
DTEND;VALUE=DATE:20220516
SUMMARY:ICMHI--SCI\, Ei Compendex\, Scopus 2022
DESCRIPTION:2022 6th International Conference on Medical and Health Infor
 matics (ICMHI 2022)--SCI\, Ei Compendex\, Scopus
URL:http://www.wikicfp.com/cfp/servlet/event.showcfp?eventid=147730&copyo
 wnerid=173624
UID:cfp923989-E@wikicfp.com
END:VEVENT
BEGIN:VEVENT
DTSTAMP:20260423T120552Z
DTSTART;VALUE=DATE:20220320
SUMMARY:ICMHI--SCI\, Ei Compendex\, Scopus 2022 Deadline
DESCRIPTION:2022 6th International Conference on Medical and Health Infor
 matics (ICMHI 2022)--SCI\, Ei Compendex\, Scopus
URL:http://www.wikicfp.com/cfp/servlet/event.showcfp?eventid=147730&copyo
 wnerid=173624
UID:cfp923989-D@wikicfp.com
END:VEVENT
BEGIN:VEVENT
DTSTAMP:20260423T120552Z
DTSTART;VALUE=DATE:20220513
DTEND;VALUE=DATE:20220516
SUMMARY:ICMHI--SCI\, Ei\, Scopus 2022
DESCRIPTION:2022 6th International Conference on Medical and Health Infor
 matics (ICMHI 2022)--SCI\, Ei Compendex\, Scopus
URL:http://www.wikicfp.com/cfp/servlet/event.showcfp?eventid=147731&copyo
 wnerid=173624
UID:cfp923971-E@wikicfp.com
END:VEVENT
BEGIN:VEVENT
DTSTAMP:20260423T120552Z
DTSTART;VALUE=DATE:20220320
SUMMARY:ICMHI--SCI\, Ei\, Scopus 2022 Deadline
DESCRIPTION:2022 6th International Conference on Medical and Health Infor
 matics (ICMHI 2022)--SCI\, Ei Compendex\, Scopus
URL:http://www.wikicfp.com/cfp/servlet/event.showcfp?eventid=147731&copyo
 wnerid=173624
UID:cfp923971-D@wikicfp.com
END:VEVENT
BEGIN:VEVENT
DTSTAMP:20260423T120552Z
DTSTART;VALUE=DATE:20220626
DTEND;VALUE=DATE:20220701
SUMMARY:eKNOW 2022
DESCRIPTION:The Fourteenth International Conference on Information\, Proc
 ess\, and Knowledge Management
URL:http://www.wikicfp.com/cfp/servlet/event.showcfp?eventid=152737&copyo
 wnerid=173624
UID:cfp923977-E@wikicfp.com
END:VEVENT
BEGIN:VEVENT
DTSTAMP:20260423T120552Z
DTSTART;VALUE=DATE:20220322
SUMMARY:eKNOW 2022 Deadline
DESCRIPTION:The Fourteenth International Conference on Information\, Proc
 ess\, and Knowledge Management
URL:http://www.wikicfp.com/cfp/servlet/event.showcfp?eventid=152737&copyo
 wnerid=173624
UID:cfp923977-D@wikicfp.com
END:VEVENT
BEGIN:VEVENT
DTSTAMP:20260423T120552Z
DTSTART;VALUE=DATE:20220419
SUMMARY:eKNOW 2022 Notification Due
DESCRIPTION:The Fourteenth International Conference on Information\, Proc
 ess\, and Knowledge Management
URL:http://www.wikicfp.com/cfp/servlet/event.showcfp?eventid=152737&copyo
 wnerid=173624
UID:cfp923977-N@wikicfp.com
END:VEVENT
BEGIN:VEVENT
DTSTAMP:20260423T120552Z
DTSTART;VALUE=DATE:20220510
SUMMARY:eKNOW 2022 Final Version Due
DESCRIPTION:The Fourteenth International Conference on Information\, Proc
 ess\, and Knowledge Management
URL:http://www.wikicfp.com/cfp/servlet/event.showcfp?eventid=152737&copyo
 wnerid=173624
UID:cfp923977-N@wikicfp.com
END:VEVENT
BEGIN:VEVENT
DTSTAMP:20260423T120552Z
DTSTART;VALUE=DATE:20220614
DTEND;VALUE=DATE:20220615
SUMMARY:KR4HI 2022
DESCRIPTION:The 1st International Workshop on Knowledge Representation fo
 r Hybrid Intelligence
URL:http://www.wikicfp.com/cfp/servlet/event.showcfp?eventid=156028&copyo
 wnerid=173624
UID:cfp923976-E@wikicfp.com
END:VEVENT
BEGIN:VEVENT
DTSTAMP:20260423T120552Z
DTSTART;VALUE=DATE:20220401
SUMMARY:KR4HI 2022 Deadline
DESCRIPTION:The 1st International Workshop on Knowledge Representation fo
 r Hybrid Intelligence
URL:http://www.wikicfp.com/cfp/servlet/event.showcfp?eventid=156028&copyo
 wnerid=173624
UID:cfp923976-D@wikicfp.com
END:VEVENT
BEGIN:VEVENT
DTSTAMP:20260423T120552Z
DTSTART;VALUE=DATE:20220429
SUMMARY:KR4HI 2022 Notification Due
DESCRIPTION:The 1st International Workshop on Knowledge Representation fo
 r Hybrid Intelligence
URL:http://www.wikicfp.com/cfp/servlet/event.showcfp?eventid=156028&copyo
 wnerid=173624
UID:cfp923976-N@wikicfp.com
END:VEVENT
BEGIN:VEVENT
DTSTAMP:20260423T120552Z
DTSTART;VALUE=DATE:20220514
SUMMARY:KR4HI 2022 Final Version Due
DESCRIPTION:The 1st International Workshop on Knowledge Representation fo
 r Hybrid Intelligence
URL:http://www.wikicfp.com/cfp/servlet/event.showcfp?eventid=156028&copyo
 wnerid=173624
UID:cfp923976-N@wikicfp.com
END:VEVENT
BEGIN:VEVENT
DTSTAMP:20260423T120552Z
DTSTART;VALUE=DATE:20220527
DTEND;VALUE=DATE:20220530
SUMMARY:ACM--ICKMS--Ei and Scopus 2022
DESCRIPTION:ACM--2022 the 5th International Conference on Knowledge Manag
 ement Systems (ICKMS 2022)--EI Compendex\, Scopus
URL:http://www.wikicfp.com/cfp/servlet/event.showcfp?eventid=146561&copyo
 wnerid=173624
UID:cfp923973-E@wikicfp.com
END:VEVENT
BEGIN:VEVENT
DTSTAMP:20260423T120552Z
DTSTART;VALUE=DATE:20220420
SUMMARY:ACM--ICKMS--Ei and Scopus 2022 Deadline
DESCRIPTION:ACM--2022 the 5th International Conference on Knowledge Manag
 ement Systems (ICKMS 2022)--EI Compendex\, Scopus
URL:http://www.wikicfp.com/cfp/servlet/event.showcfp?eventid=146561&copyo
 wnerid=173624
UID:cfp923973-D@wikicfp.com
END:VEVENT
BEGIN:VEVENT
DTSTAMP:20260423T120552Z
DTSTART;VALUE=DATE:20220527
DTEND;VALUE=DATE:20220530
SUMMARY:ICKMS--ACM\, EI\, Scopus 2022
DESCRIPTION:ACM--2022 the 5th International Conference on Knowledge Manag
 ement Systems (ICKMS 2022)--EI Compendex\, Scopus
URL:http://www.wikicfp.com/cfp/servlet/event.showcfp?eventid=146562&copyo
 wnerid=173624
UID:cfp923980-E@wikicfp.com
END:VEVENT
BEGIN:VEVENT
DTSTAMP:20260423T120552Z
DTSTART;VALUE=DATE:20220420
SUMMARY:ICKMS--ACM\, EI\, Scopus 2022 Deadline
DESCRIPTION:ACM--2022 the 5th International Conference on Knowledge Manag
 ement Systems (ICKMS 2022)--EI Compendex\, Scopus
URL:http://www.wikicfp.com/cfp/servlet/event.showcfp?eventid=146562&copyo
 wnerid=173624
UID:cfp923980-D@wikicfp.com
END:VEVENT
BEGIN:VEVENT
DTSTAMP:20260423T120552Z
DTSTART;VALUE=DATE:20220617
DTEND;VALUE=DATE:20220618
SUMMARY:KR4HC 2022
DESCRIPTION:13th Knowledge Representation for Health Care
URL:http://www.wikicfp.com/cfp/servlet/event.showcfp?eventid=156453&copyo
 wnerid=173624
UID:cfp925308-E@wikicfp.com
END:VEVENT
BEGIN:VEVENT
DTSTAMP:20260423T120552Z
DTSTART;VALUE=DATE:20220413
SUMMARY:KR4HC 2022 Abstract Due
DESCRIPTION:13th Knowledge Representation for Health Care
URL:http://www.wikicfp.com/cfp/servlet/event.showcfp?eventid=156453&copyo
 wnerid=173624
UID:cfp925308-A@wikicfp.com
END:VEVENT
BEGIN:VEVENT
DTSTAMP:20260423T120552Z
DTSTART;VALUE=DATE:20220420
SUMMARY:KR4HC 2022 Deadline
DESCRIPTION:13th Knowledge Representation for Health Care
URL:http://www.wikicfp.com/cfp/servlet/event.showcfp?eventid=156453&copyo
 wnerid=173624
UID:cfp925308-D@wikicfp.com
END:VEVENT
BEGIN:VEVENT
DTSTAMP:20260423T120552Z
DTSTART;VALUE=DATE:20220516
SUMMARY:KR4HC 2022 Notification Due
DESCRIPTION:13th Knowledge Representation for Health Care
URL:http://www.wikicfp.com/cfp/servlet/event.showcfp?eventid=156453&copyo
 wnerid=173624
UID:cfp925308-N@wikicfp.com
END:VEVENT
BEGIN:VEVENT
DTSTAMP:20260423T120552Z
DTSTART;VALUE=DATE:20220530
SUMMARY:KR4HC 2022 Final Version Due
DESCRIPTION:13th Knowledge Representation for Health Care
URL:http://www.wikicfp.com/cfp/servlet/event.showcfp?eventid=156453&copyo
 wnerid=173624
UID:cfp925308-N@wikicfp.com
END:VEVENT
BEGIN:VEVENT
DTSTAMP:20260423T120552Z
DTSTART;VALUE=DATE:20220610
DTEND;VALUE=DATE:20220613
SUMMARY:ACM--ICKEA--Ei\, Scopus 2022
DESCRIPTION:ACM--2022 The 7th International Conference on Knowledge Engin
 eering and Applications (ICKEA 2022)--Ei Compendex\, Scopus
URL:http://www.wikicfp.com/cfp/servlet/event.showcfp?eventid=151157&copyo
 wnerid=173624
UID:cfp923975-E@wikicfp.com
END:VEVENT
BEGIN:VEVENT
DTSTAMP:20260423T120552Z
DTSTART;VALUE=DATE:20220510
SUMMARY:ACM--ICKEA--Ei\, Scopus 2022 Deadline
DESCRIPTION:ACM--2022 The 7th International Conference on Knowledge Engin
 eering and Applications (ICKEA 2022)--Ei Compendex\, Scopus
URL:http://www.wikicfp.com/cfp/servlet/event.showcfp?eventid=151157&copyo
 wnerid=173624
UID:cfp923975-D@wikicfp.com
END:VEVENT
BEGIN:VEVENT
DTSTAMP:20260423T120552Z
DTSTART;VALUE=DATE:20221013
DTEND;VALUE=DATE:20221017
SUMMARY:DSAA 2022
DESCRIPTION:9th IEEE International Conference on Data Science and Advance
 d Analytics (DSAA' 2022)
URL:http://www.wikicfp.com/cfp/servlet/event.showcfp?eventid=155749&copyo
 wnerid=173624
UID:cfp923984-E@wikicfp.com
END:VEVENT
BEGIN:VEVENT
DTSTAMP:20260423T120552Z
DTSTART;VALUE=DATE:20220515
SUMMARY:DSAA 2022 Deadline
DESCRIPTION:9th IEEE International Conference on Data Science and Advance
 d Analytics (DSAA' 2022)
URL:http://www.wikicfp.com/cfp/servlet/event.showcfp?eventid=155749&copyo
 wnerid=173624
UID:cfp923984-D@wikicfp.com
END:VEVENT
BEGIN:VEVENT
DTSTAMP:20260423T120552Z
DTSTART;VALUE=DATE:20220725
SUMMARY:DSAA 2022 Notification Due
DESCRIPTION:9th IEEE International Conference on Data Science and Advance
 d Analytics (DSAA' 2022)
URL:http://www.wikicfp.com/cfp/servlet/event.showcfp?eventid=155749&copyo
 wnerid=173624
UID:cfp923984-N@wikicfp.com
END:VEVENT
BEGIN:VEVENT
DTSTAMP:20260423T120552Z
DTSTART;VALUE=DATE:20220909
DTEND;VALUE=DATE:20220910
SUMMARY:DMAH 2022
DESCRIPTION:The Eighth International Workshop on Data Management and Anal
 ytics for Medicine and Healthcare
URL:http://www.wikicfp.com/cfp/servlet/event.showcfp?eventid=156015&copyo
 wnerid=173624
UID:cfp923986-E@wikicfp.com
END:VEVENT
BEGIN:VEVENT
DTSTAMP:20260423T120552Z
DTSTART;VALUE=DATE:20220516
SUMMARY:DMAH 2022 Deadline
DESCRIPTION:The Eighth International Workshop on Data Management and Anal
 ytics for Medicine and Healthcare
URL:http://www.wikicfp.com/cfp/servlet/event.showcfp?eventid=156015&copyo
 wnerid=173624
UID:cfp923986-D@wikicfp.com
END:VEVENT
BEGIN:VEVENT
DTSTAMP:20260423T120552Z
DTSTART;VALUE=DATE:20220610
SUMMARY:DMAH 2022 Notification Due
DESCRIPTION:The Eighth International Workshop on Data Management and Anal
 ytics for Medicine and Healthcare
URL:http://www.wikicfp.com/cfp/servlet/event.showcfp?eventid=156015&copyo
 wnerid=173624
UID:cfp923986-N@wikicfp.com
END:VEVENT
BEGIN:VEVENT
DTSTAMP:20260423T120552Z
DTSTART;VALUE=DATE:20220625
SUMMARY:DMAH 2022 Final Version Due
DESCRIPTION:The Eighth International Workshop on Data Management and Anal
 ytics for Medicine and Healthcare
URL:http://www.wikicfp.com/cfp/servlet/event.showcfp?eventid=156015&copyo
 wnerid=173624
UID:cfp923986-N@wikicfp.com
END:VEVENT
BEGIN:VEVENT
DTSTAMP:20260423T120552Z
DTSTART;VALUE=DATE:20221201
DTEND;VALUE=DATE:20230102
SUMMARY:DDSCAKD 2022
DESCRIPTION:Call for Contributions on Book: Data Driven Science for Clini
 cally Actionable Knowledge in Diseases
URL:http://www.wikicfp.com/cfp/servlet/event.showcfp?eventid=154571&copyo
 wnerid=173624
UID:cfp923983-E@wikicfp.com
END:VEVENT
BEGIN:VEVENT
DTSTAMP:20260423T120552Z
DTSTART;VALUE=DATE:20220228
SUMMARY:DDSCAKD 2022 Abstract Due
DESCRIPTION:Call for Contributions on Book: Data Driven Science for Clini
 cally Actionable Knowledge in Diseases
URL:http://www.wikicfp.com/cfp/servlet/event.showcfp?eventid=154571&copyo
 wnerid=173624
UID:cfp923983-A@wikicfp.com
END:VEVENT
BEGIN:VEVENT
DTSTAMP:20260423T120552Z
DTSTART;VALUE=DATE:20220531
SUMMARY:DDSCAKD 2022 Deadline
DESCRIPTION:Call for Contributions on Book: Data Driven Science for Clini
 cally Actionable Knowledge in Diseases
URL:http://www.wikicfp.com/cfp/servlet/event.showcfp?eventid=154571&copyo
 wnerid=173624
UID:cfp923983-D@wikicfp.com
END:VEVENT
BEGIN:VEVENT
DTSTAMP:20260423T120552Z
DTSTART;VALUE=DATE:20220718
SUMMARY:DDSCAKD 2022 Notification Due
DESCRIPTION:Call for Contributions on Book: Data Driven Science for Clini
 cally Actionable Knowledge in Diseases
URL:http://www.wikicfp.com/cfp/servlet/event.showcfp?eventid=154571&copyo
 wnerid=173624
UID:cfp923983-N@wikicfp.com
END:VEVENT
BEGIN:VEVENT
DTSTAMP:20260423T120552Z
DTSTART;VALUE=DATE:20220829
SUMMARY:DDSCAKD 2022 Final Version Due
DESCRIPTION:Call for Contributions on Book: Data Driven Science for Clini
 cally Actionable Knowledge in Diseases
URL:http://www.wikicfp.com/cfp/servlet/event.showcfp?eventid=154571&copyo
 wnerid=173624
UID:cfp923983-N@wikicfp.com
END:VEVENT
BEGIN:VEVENT
DTSTAMP:20260423T120552Z
DTSTART;VALUE=DATE:20220601
SUMMARY:SWODCH-SI 2022 Deadline
DESCRIPTION:Special Issue on Semantic Web and Ontology Design for Cultura
 l Heritage
URL:http://www.wikicfp.com/cfp/servlet/event.showcfp?eventid=154223&copyo
 wnerid=173624
UID:cfp923972-D@wikicfp.com
END:VEVENT
BEGIN:VEVENT
DTSTAMP:20260423T120552Z
DTSTART;VALUE=DATE:20220715
SUMMARY:SWODCH-SI 2022 Notification Due
DESCRIPTION:Special Issue on Semantic Web and Ontology Design for Cultura
 l Heritage
URL:http://www.wikicfp.com/cfp/servlet/event.showcfp?eventid=154223&copyo
 wnerid=173624
UID:cfp923972-N@wikicfp.com
END:VEVENT
BEGIN:VEVENT
DTSTAMP:20260423T120552Z
DTSTART;VALUE=DATE:20220915
DTEND;VALUE=DATE:20220918
SUMMARY:SISY 2022
DESCRIPTION:20th IEEE International Symposium on Intelligent Systems and 
 Informatics
URL:http://www.wikicfp.com/cfp/servlet/event.showcfp?eventid=154318&copyo
 wnerid=173624
UID:cfp923987-E@wikicfp.com
END:VEVENT
BEGIN:VEVENT
DTSTAMP:20260423T120552Z
DTSTART;VALUE=DATE:20220601
SUMMARY:SISY 2022 Deadline
DESCRIPTION:20th IEEE International Symposium on Intelligent Systems and 
 Informatics
URL:http://www.wikicfp.com/cfp/servlet/event.showcfp?eventid=154318&copyo
 wnerid=173624
UID:cfp923987-D@wikicfp.com
END:VEVENT
BEGIN:VEVENT
DTSTAMP:20260423T120552Z
DTSTART;VALUE=DATE:20220704
SUMMARY:SISY 2022 Notification Due
DESCRIPTION:20th IEEE International Symposium on Intelligent Systems and 
 Informatics
URL:http://www.wikicfp.com/cfp/servlet/event.showcfp?eventid=154318&copyo
 wnerid=173624
UID:cfp923987-N@wikicfp.com
END:VEVENT
BEGIN:VEVENT
DTSTAMP:20260423T120552Z
DTSTART;VALUE=DATE:20220728
SUMMARY:SISY 2022 Final Version Due
DESCRIPTION:20th IEEE International Symposium on Intelligent Systems and 
 Informatics
URL:http://www.wikicfp.com/cfp/servlet/event.showcfp?eventid=154318&copyo
 wnerid=173624
UID:cfp923987-N@wikicfp.com
END:VEVENT
BEGIN:VEVENT
DTSTAMP:20260423T120552Z
DTSTART;VALUE=DATE:20221004
DTEND;VALUE=DATE:20221008
SUMMARY:CoopIS 2022
DESCRIPTION:27th International Conference on COOPERATIVE INFORMATION SYST
 EMS
URL:http://www.wikicfp.com/cfp/servlet/event.showcfp?eventid=156045&copyo
 wnerid=173624
UID:cfp923982-E@wikicfp.com
END:VEVENT
BEGIN:VEVENT
DTSTAMP:20260423T120552Z
DTSTART;VALUE=DATE:20220601
SUMMARY:CoopIS 2022 Abstract Due
DESCRIPTION:27th International Conference on COOPERATIVE INFORMATION SYST
 EMS
URL:http://www.wikicfp.com/cfp/servlet/event.showcfp?eventid=156045&copyo
 wnerid=173624
UID:cfp923982-A@wikicfp.com
END:VEVENT
BEGIN:VEVENT
DTSTAMP:20260423T120552Z
DTSTART;VALUE=DATE:20220607
SUMMARY:CoopIS 2022 Deadline
DESCRIPTION:27th International Conference on COOPERATIVE INFORMATION SYST
 EMS
URL:http://www.wikicfp.com/cfp/servlet/event.showcfp?eventid=156045&copyo
 wnerid=173624
UID:cfp923982-D@wikicfp.com
END:VEVENT
BEGIN:VEVENT
DTSTAMP:20260423T120552Z
DTSTART;VALUE=DATE:20220720
SUMMARY:CoopIS 2022 Notification Due
DESCRIPTION:27th International Conference on COOPERATIVE INFORMATION SYST
 EMS
URL:http://www.wikicfp.com/cfp/servlet/event.showcfp?eventid=156045&copyo
 wnerid=173624
UID:cfp923982-N@wikicfp.com
END:VEVENT
BEGIN:VEVENT
DTSTAMP:20260423T120552Z
DTSTART;VALUE=DATE:20220727
SUMMARY:CoopIS 2022 Final Version Due
DESCRIPTION:27th International Conference on COOPERATIVE INFORMATION SYST
 EMS
URL:http://www.wikicfp.com/cfp/servlet/event.showcfp?eventid=156045&copyo
 wnerid=173624
UID:cfp923982-N@wikicfp.com
END:VEVENT
BEGIN:VEVENT
DTSTAMP:20260423T120552Z
DTSTART;VALUE=DATE:20220713
DTEND;VALUE=DATE:20220716
SUMMARY:ICKET 2022
DESCRIPTION:2022 The 11th International Conference on Knowledge and Educa
 tion Technology (ICKET 2022)
URL:http://www.wikicfp.com/cfp/servlet/event.showcfp?eventid=154136&copyo
 wnerid=173624
UID:cfp923978-E@wikicfp.com
END:VEVENT
BEGIN:VEVENT
DTSTAMP:20260423T120552Z
DTSTART;VALUE=DATE:20220615
SUMMARY:ICKET 2022 Deadline
DESCRIPTION:2022 The 11th International Conference on Knowledge and Educa
 tion Technology (ICKET 2022)
URL:http://www.wikicfp.com/cfp/servlet/event.showcfp?eventid=154136&copyo
 wnerid=173624
UID:cfp923978-D@wikicfp.com
END:VEVENT
BEGIN:VEVENT
DTSTAMP:20260423T120552Z
DTSTART;VALUE=DATE:20220919
DTEND;VALUE=DATE:20220922
SUMMARY:AIKE 2022
DESCRIPTION:IEEE Artificial Intelligence & Knowledge Engineering 
URL:http://www.wikicfp.com/cfp/servlet/event.showcfp?eventid=155218&copyo
 wnerid=173624
UID:cfp923985-E@wikicfp.com
END:VEVENT
BEGIN:VEVENT
DTSTAMP:20260423T120552Z
DTSTART;VALUE=DATE:20220701
SUMMARY:AIKE 2022 Deadline
DESCRIPTION:IEEE Artificial Intelligence & Knowledge Engineering 
URL:http://www.wikicfp.com/cfp/servlet/event.showcfp?eventid=155218&copyo
 wnerid=173624
UID:cfp923985-D@wikicfp.com
END:VEVENT
BEGIN:VEVENT
DTSTAMP:20260423T120552Z
DTSTART;VALUE=DATE:20220815
SUMMARY:AIKE 2022 Notification Due
DESCRIPTION:IEEE Artificial Intelligence & Knowledge Engineering 
URL:http://www.wikicfp.com/cfp/servlet/event.showcfp?eventid=155218&copyo
 wnerid=173624
UID:cfp923985-N@wikicfp.com
END:VEVENT
BEGIN:VEVENT
DTSTAMP:20260423T120552Z
DTSTART;VALUE=DATE:20220901
SUMMARY:AIKE 2022 Final Version Due
DESCRIPTION:IEEE Artificial Intelligence & Knowledge Engineering 
URL:http://www.wikicfp.com/cfp/servlet/event.showcfp?eventid=155218&copyo
 wnerid=173624
UID:cfp923985-N@wikicfp.com
END:VEVENT
BEGIN:VEVENT
DTSTAMP:20260423T120552Z
DTSTART;VALUE=DATE:20220715
SUMMARY:IJI 2022 Deadline
DESCRIPTION:International Journal for Infonomics
URL:http://www.wikicfp.com/cfp/servlet/event.showcfp?eventid=143398&copyo
 wnerid=173624
UID:cfp923988-D@wikicfp.com
END:VEVENT
BEGIN:VEVENT
DTSTAMP:20260423T120552Z
DTSTART;VALUE=DATE:20220815
SUMMARY:IJI 2022 Notification Due
DESCRIPTION:International Journal for Infonomics
URL:http://www.wikicfp.com/cfp/servlet/event.showcfp?eventid=143398&copyo
 wnerid=173624
UID:cfp923988-N@wikicfp.com
END:VEVENT
BEGIN:VEVENT
DTSTAMP:20260423T120552Z
DTSTART;VALUE=DATE:20220905
SUMMARY:IJI 2022 Final Version Due
DESCRIPTION:International Journal for Infonomics
URL:http://www.wikicfp.com/cfp/servlet/event.showcfp?eventid=143398&copyo
 wnerid=173624
UID:cfp923988-N@wikicfp.com
END:VEVENT
BEGIN:VEVENT
DTSTAMP:20260423T120552Z
DTSTART;VALUE=DATE:20221128
DTEND;VALUE=DATE:20221201
SUMMARY:ADMA 2022
DESCRIPTION:18th International Conference on Advanced Data Mining and App
 lications
URL:http://www.wikicfp.com/cfp/servlet/event.showcfp?eventid=154684&copyo
 wnerid=173624
UID:cfp923981-E@wikicfp.com
END:VEVENT
BEGIN:VEVENT
DTSTAMP:20260423T120552Z
DTSTART;VALUE=DATE:20220815
SUMMARY:ADMA 2022 Deadline
DESCRIPTION:18th International Conference on Advanced Data Mining and App
 lications
URL:http://www.wikicfp.com/cfp/servlet/event.showcfp?eventid=154684&copyo
 wnerid=173624
UID:cfp923981-D@wikicfp.com
END:VEVENT
BEGIN:VEVENT
DTSTAMP:20260423T120552Z
DTSTART;VALUE=DATE:20220915
SUMMARY:ADMA 2022 Notification Due
DESCRIPTION:18th International Conference on Advanced Data Mining and App
 lications
URL:http://www.wikicfp.com/cfp/servlet/event.showcfp?eventid=154684&copyo
 wnerid=173624
UID:cfp923981-N@wikicfp.com
END:VEVENT
BEGIN:VEVENT
DTSTAMP:20260423T120552Z
DTSTART;VALUE=DATE:20220930
SUMMARY:ADMA 2022 Final Version Due
DESCRIPTION:18th International Conference on Advanced Data Mining and App
 lications
URL:http://www.wikicfp.com/cfp/servlet/event.showcfp?eventid=154684&copyo
 wnerid=173624
UID:cfp923981-N@wikicfp.com
END:VEVENT
BEGIN:VEVENT
DTSTAMP:20260423T120552Z
DTSTART;VALUE=DATE:20220928
DTEND;VALUE=DATE:20221001
SUMMARY:ICKIM 2022
DESCRIPTION:2022 4th International Conference on Knowledge and Informatio
 n Management (ICKIM 2022)
URL:http://www.wikicfp.com/cfp/servlet/event.showcfp?eventid=155501&copyo
 wnerid=173624
UID:cfp923979-E@wikicfp.com
END:VEVENT
BEGIN:VEVENT
DTSTAMP:20260423T120552Z
DTSTART;VALUE=DATE:20220820
SUMMARY:ICKIM 2022 Deadline
DESCRIPTION:2022 4th International Conference on Knowledge and Informatio
 n Management (ICKIM 2022)
URL:http://www.wikicfp.com/cfp/servlet/event.showcfp?eventid=155501&copyo
 wnerid=173624
UID:cfp923979-D@wikicfp.com
END:VEVENT
END:VCALENDAR
