BEGIN:VCALENDAR
PRODID:-//WikiCFP//ebt_office 1.0//EN
VERSION:2.0
CALSCALE:GREGORIAN
BEGIN:VEVENT
DTSTAMP:20260419T182559Z
DTSTART;VALUE=DATE:20220623
DTEND;VALUE=DATE:20220625
SUMMARY:EBT Conference 2022
DESCRIPTION:2nd E-business technologies conference (EBT)
URL:http://www.wikicfp.com/cfp/servlet/event.showcfp?eventid=155991&copyo
 wnerid=173565
UID:cfp923611-E@wikicfp.com
END:VEVENT
BEGIN:VEVENT
DTSTAMP:20260419T182559Z
DTSTART;VALUE=DATE:20220510
SUMMARY:EBT Conference 2022 Deadline
DESCRIPTION:2nd E-business technologies conference (EBT)
URL:http://www.wikicfp.com/cfp/servlet/event.showcfp?eventid=155991&copyo
 wnerid=173565
UID:cfp923611-D@wikicfp.com
END:VEVENT
BEGIN:VEVENT
DTSTAMP:20260419T182559Z
DTSTART;VALUE=DATE:20220520
SUMMARY:EBT Conference 2022 Final Version Due
DESCRIPTION:2nd E-business technologies conference (EBT)
URL:http://www.wikicfp.com/cfp/servlet/event.showcfp?eventid=155991&copyo
 wnerid=173565
UID:cfp923611-N@wikicfp.com
END:VEVENT
BEGIN:VEVENT
DTSTAMP:20260419T182559Z
DTSTART;VALUE=DATE:20220315
SUMMARY:Digital transformation 2022 Abstract Due
DESCRIPTION:Digital transformation of the financial industry: approaches 
 and applications
URL:http://www.wikicfp.com/cfp/servlet/event.showcfp?eventid=155990&copyo
 wnerid=173565
UID:cfp923610-A@wikicfp.com
END:VEVENT
BEGIN:VEVENT
DTSTAMP:20260419T182559Z
DTSTART;VALUE=DATE:20220715
SUMMARY:Digital transformation 2022 Deadline
DESCRIPTION:Digital transformation of the financial industry: approaches 
 and applications
URL:http://www.wikicfp.com/cfp/servlet/event.showcfp?eventid=155990&copyo
 wnerid=173565
UID:cfp923610-D@wikicfp.com
END:VEVENT
BEGIN:VEVENT
DTSTAMP:20260419T182559Z
DTSTART;VALUE=DATE:20220420
SUMMARY:Digital transformation 2022 Notification Due
DESCRIPTION:Digital transformation of the financial industry: approaches 
 and applications
URL:http://www.wikicfp.com/cfp/servlet/event.showcfp?eventid=155990&copyo
 wnerid=173565
UID:cfp923610-N@wikicfp.com
END:VEVENT
BEGIN:VEVENT
DTSTAMP:20260419T182559Z
DTSTART;VALUE=DATE:20221001
SUMMARY:Digital transformation 2022 Final Version Due
DESCRIPTION:Digital transformation of the financial industry: approaches 
 and applications
URL:http://www.wikicfp.com/cfp/servlet/event.showcfp?eventid=155990&copyo
 wnerid=173565
UID:cfp923610-N@wikicfp.com
END:VEVENT
BEGIN:VEVENT
DTSTAMP:20260419T182559Z
DTSTART;VALUE=DATE:20230615
DTEND;VALUE=DATE:20230618
SUMMARY:EBT Conference 2023
DESCRIPTION:3rd E-business technologies conference (EBT)
URL:http://www.wikicfp.com/cfp/servlet/event.showcfp?eventid=172304&copyo
 wnerid=173565
UID:cfp960634-E@wikicfp.com
END:VEVENT
BEGIN:VEVENT
DTSTAMP:20260419T182559Z
DTSTART;VALUE=DATE:20230415
SUMMARY:EBT Conference 2023 Deadline
DESCRIPTION:3rd E-business technologies conference (EBT)
URL:http://www.wikicfp.com/cfp/servlet/event.showcfp?eventid=172304&copyo
 wnerid=173565
UID:cfp960634-D@wikicfp.com
END:VEVENT
BEGIN:VEVENT
DTSTAMP:20260419T182559Z
DTSTART;VALUE=DATE:20230515
SUMMARY:EBT Conference 2023 Final Version Due
DESCRIPTION:3rd E-business technologies conference (EBT)
URL:http://www.wikicfp.com/cfp/servlet/event.showcfp?eventid=172304&copyo
 wnerid=173565
UID:cfp960634-N@wikicfp.com
END:VEVENT
BEGIN:VEVENT
DTSTAMP:20260419T182559Z
DTSTART;VALUE=DATE:20230901
SUMMARY:Call for papers Special Issue  2023 Deadline
DESCRIPTION:Blockchain Technologies and Applications
URL:http://www.wikicfp.com/cfp/servlet/event.showcfp?eventid=175217&copyo
 wnerid=173565
UID:cfp970828-D@wikicfp.com
END:VEVENT
BEGIN:VEVENT
DTSTAMP:20260419T182559Z
DTSTART;VALUE=DATE:20231001
SUMMARY:Call for papers Special Issue  2023 Notification Due
DESCRIPTION:Blockchain Technologies and Applications
URL:http://www.wikicfp.com/cfp/servlet/event.showcfp?eventid=175217&copyo
 wnerid=173565
UID:cfp970828-N@wikicfp.com
END:VEVENT
BEGIN:VEVENT
DTSTAMP:20260419T182559Z
DTSTART;VALUE=DATE:20240115
SUMMARY:Call for papers Special Issue  2023 Final Version Due
DESCRIPTION:Blockchain Technologies and Applications
URL:http://www.wikicfp.com/cfp/servlet/event.showcfp?eventid=175217&copyo
 wnerid=173565
UID:cfp970828-N@wikicfp.com
END:VEVENT
BEGIN:VEVENT
DTSTAMP:20260419T182559Z
DTSTART;VALUE=DATE:20250925
DTEND;VALUE=DATE:20250928
SUMMARY:EBT 2025
DESCRIPTION:EBT Conference 2025 : 4th E-business technologies conference 
 (EBT)
URL:http://www.wikicfp.com/cfp/servlet/event.showcfp?eventid=187894&copyo
 wnerid=173565
UID:cfp1014203-E@wikicfp.com
END:VEVENT
BEGIN:VEVENT
DTSTAMP:20260419T182559Z
DTSTART;VALUE=DATE:20250615
SUMMARY:EBT 2025 Deadline
DESCRIPTION:EBT Conference 2025 : 4th E-business technologies conference 
 (EBT)
URL:http://www.wikicfp.com/cfp/servlet/event.showcfp?eventid=187894&copyo
 wnerid=173565
UID:cfp1014203-D@wikicfp.com
END:VEVENT
END:VCALENDAR
