BEGIN:VCALENDAR
PRODID:-//WikiCFP//FaJoSt 1.0//EN
VERSION:2.0
CALSCALE:GREGORIAN
BEGIN:VEVENT
DTSTAMP:20260422T200739Z
DTSTART;VALUE=DATE:20220614
DTEND;VALUE=DATE:20220617
SUMMARY:NeuroIS 2022
DESCRIPTION:NeuroIS Retreat 2022
URL:http://www.wikicfp.com/cfp/servlet/event.showcfp?eventid=152501&copyo
 wnerid=172126
UID:cfp915248-E@wikicfp.com
END:VEVENT
BEGIN:VEVENT
DTSTAMP:20260422T200739Z
DTSTART;VALUE=DATE:20220315
SUMMARY:NeuroIS 2022 Deadline
DESCRIPTION:NeuroIS Retreat 2022
URL:http://www.wikicfp.com/cfp/servlet/event.showcfp?eventid=152501&copyo
 wnerid=172126
UID:cfp915248-D@wikicfp.com
END:VEVENT
BEGIN:VEVENT
DTSTAMP:20260422T200739Z
DTSTART;VALUE=DATE:20220405
SUMMARY:NeuroIS 2022 Notification Due
DESCRIPTION:NeuroIS Retreat 2022
URL:http://www.wikicfp.com/cfp/servlet/event.showcfp?eventid=152501&copyo
 wnerid=172126
UID:cfp915248-N@wikicfp.com
END:VEVENT
BEGIN:VEVENT
DTSTAMP:20260422T200739Z
DTSTART;VALUE=DATE:20220420
SUMMARY:NeuroIS 2022 Final Version Due
DESCRIPTION:NeuroIS Retreat 2022
URL:http://www.wikicfp.com/cfp/servlet/event.showcfp?eventid=152501&copyo
 wnerid=172126
UID:cfp915248-N@wikicfp.com
END:VEVENT
BEGIN:VEVENT
DTSTAMP:20260422T200739Z
DTSTART;VALUE=DATE:20230530
DTEND;VALUE=DATE:20230107
SUMMARY:NeuroIS 2023
DESCRIPTION:NeuroIS Retreat 2023
URL:http://www.wikicfp.com/cfp/servlet/event.showcfp?eventid=170330&copyo
 wnerid=172126
UID:cfp952350-E@wikicfp.com
END:VEVENT
BEGIN:VEVENT
DTSTAMP:20260422T200739Z
DTSTART;VALUE=DATE:20230305
SUMMARY:NeuroIS 2023 Deadline
DESCRIPTION:NeuroIS Retreat 2023
URL:http://www.wikicfp.com/cfp/servlet/event.showcfp?eventid=170330&copyo
 wnerid=172126
UID:cfp952350-D@wikicfp.com
END:VEVENT
BEGIN:VEVENT
DTSTAMP:20260422T200739Z
DTSTART;VALUE=DATE:20230326
SUMMARY:NeuroIS 2023 Notification Due
DESCRIPTION:NeuroIS Retreat 2023
URL:http://www.wikicfp.com/cfp/servlet/event.showcfp?eventid=170330&copyo
 wnerid=172126
UID:cfp952350-N@wikicfp.com
END:VEVENT
BEGIN:VEVENT
DTSTAMP:20260422T200739Z
DTSTART;VALUE=DATE:20230409
SUMMARY:NeuroIS 2023 Final Version Due
DESCRIPTION:NeuroIS Retreat 2023
URL:http://www.wikicfp.com/cfp/servlet/event.showcfp?eventid=170330&copyo
 wnerid=172126
UID:cfp952350-N@wikicfp.com
END:VEVENT
BEGIN:VEVENT
DTSTAMP:20260422T200739Z
DTSTART;VALUE=DATE:20240609
DTEND;VALUE=DATE:20240612
SUMMARY:NeuroIS 2024
DESCRIPTION:NeuroIS Retreat 2024
URL:http://www.wikicfp.com/cfp/servlet/event.showcfp?eventid=177248&copyo
 wnerid=172126
UID:cfp978696-E@wikicfp.com
END:VEVENT
BEGIN:VEVENT
DTSTAMP:20260422T200739Z
DTSTART;VALUE=DATE:20240310
SUMMARY:NeuroIS 2024 Deadline
DESCRIPTION:NeuroIS Retreat 2024
URL:http://www.wikicfp.com/cfp/servlet/event.showcfp?eventid=177248&copyo
 wnerid=172126
UID:cfp978696-D@wikicfp.com
END:VEVENT
BEGIN:VEVENT
DTSTAMP:20260422T200739Z
DTSTART;VALUE=DATE:20240403
SUMMARY:NeuroIS 2024 Notification Due
DESCRIPTION:NeuroIS Retreat 2024
URL:http://www.wikicfp.com/cfp/servlet/event.showcfp?eventid=177248&copyo
 wnerid=172126
UID:cfp978696-N@wikicfp.com
END:VEVENT
BEGIN:VEVENT
DTSTAMP:20260422T200739Z
DTSTART;VALUE=DATE:20240414
SUMMARY:NeuroIS 2024 Final Version Due
DESCRIPTION:NeuroIS Retreat 2024
URL:http://www.wikicfp.com/cfp/servlet/event.showcfp?eventid=177248&copyo
 wnerid=172126
UID:cfp978696-N@wikicfp.com
END:VEVENT
BEGIN:VEVENT
DTSTAMP:20260422T200739Z
DTSTART;VALUE=DATE:20250526
DTEND;VALUE=DATE:20250529
SUMMARY:NeuroIS  2025
DESCRIPTION:NeuroIS Retreat 2025
URL:http://www.wikicfp.com/cfp/servlet/event.showcfp?eventid=182906&copyo
 wnerid=172126
UID:cfp1000521-E@wikicfp.com
END:VEVENT
BEGIN:VEVENT
DTSTAMP:20260422T200739Z
DTSTART;VALUE=DATE:20250303
SUMMARY:NeuroIS  2025 Deadline
DESCRIPTION:NeuroIS Retreat 2025
URL:http://www.wikicfp.com/cfp/servlet/event.showcfp?eventid=182906&copyo
 wnerid=172126
UID:cfp1000521-D@wikicfp.com
END:VEVENT
BEGIN:VEVENT
DTSTAMP:20260422T200739Z
DTSTART;VALUE=DATE:20250404
SUMMARY:NeuroIS  2025 Notification Due
DESCRIPTION:NeuroIS Retreat 2025
URL:http://www.wikicfp.com/cfp/servlet/event.showcfp?eventid=182906&copyo
 wnerid=172126
UID:cfp1000521-N@wikicfp.com
END:VEVENT
BEGIN:VEVENT
DTSTAMP:20260422T200739Z
DTSTART;VALUE=DATE:20250423
SUMMARY:NeuroIS  2025 Final Version Due
DESCRIPTION:NeuroIS Retreat 2025
URL:http://www.wikicfp.com/cfp/servlet/event.showcfp?eventid=182906&copyo
 wnerid=172126
UID:cfp1000521-N@wikicfp.com
END:VEVENT
BEGIN:VEVENT
DTSTAMP:20260422T200739Z
DTSTART;VALUE=DATE:20260602
DTEND;VALUE=DATE:20260605
SUMMARY:NeuroIS 2026
DESCRIPTION:NeuroIS Retreat 2026
URL:http://www.wikicfp.com/cfp/servlet/event.showcfp?eventid=190529&copyo
 wnerid=172126
UID:cfp1023079-E@wikicfp.com
END:VEVENT
BEGIN:VEVENT
DTSTAMP:20260422T200739Z
DTSTART;VALUE=DATE:20260302
SUMMARY:NeuroIS 2026 Deadline
DESCRIPTION:NeuroIS Retreat 2026
URL:http://www.wikicfp.com/cfp/servlet/event.showcfp?eventid=190529&copyo
 wnerid=172126
UID:cfp1023079-D@wikicfp.com
END:VEVENT
BEGIN:VEVENT
DTSTAMP:20260422T200739Z
DTSTART;VALUE=DATE:20260331
SUMMARY:NeuroIS 2026 Notification Due
DESCRIPTION:NeuroIS Retreat 2026
URL:http://www.wikicfp.com/cfp/servlet/event.showcfp?eventid=190529&copyo
 wnerid=172126
UID:cfp1023079-N@wikicfp.com
END:VEVENT
BEGIN:VEVENT
DTSTAMP:20260422T200739Z
DTSTART;VALUE=DATE:20260424
SUMMARY:NeuroIS 2026 Final Version Due
DESCRIPTION:NeuroIS Retreat 2026
URL:http://www.wikicfp.com/cfp/servlet/event.showcfp?eventid=190529&copyo
 wnerid=172126
UID:cfp1023079-N@wikicfp.com
END:VEVENT
END:VCALENDAR
