BEGIN:VCALENDAR
PRODID:-//WikiCFP//wr_bupt 1.0//EN
VERSION:2.0
CALSCALE:GREGORIAN
BEGIN:VEVENT
DTSTAMP:20260420T174810Z
DTSTART;VALUE=DATE:20220222
DTEND;VALUE=DATE:20220302
SUMMARY:AAAI 2022
DESCRIPTION:The Thirty-Sixth AAAI Conference on Artificial Intelligence
URL:http://www.wikicfp.com/cfp/servlet/event.showcfp?eventid=137565&copyo
 wnerid=171791
UID:cfp912222-E@wikicfp.com
END:VEVENT
BEGIN:VEVENT
DTSTAMP:20260420T174810Z
DTSTART;VALUE=DATE:20210830
SUMMARY:AAAI 2022 Abstract Due
DESCRIPTION:The Thirty-Sixth AAAI Conference on Artificial Intelligence
URL:http://www.wikicfp.com/cfp/servlet/event.showcfp?eventid=137565&copyo
 wnerid=171791
UID:cfp912222-A@wikicfp.com
END:VEVENT
BEGIN:VEVENT
DTSTAMP:20260420T174810Z
DTSTART;VALUE=DATE:20210908
SUMMARY:AAAI 2022 Deadline
DESCRIPTION:The Thirty-Sixth AAAI Conference on Artificial Intelligence
URL:http://www.wikicfp.com/cfp/servlet/event.showcfp?eventid=137565&copyo
 wnerid=171791
UID:cfp912222-D@wikicfp.com
END:VEVENT
BEGIN:VEVENT
DTSTAMP:20260420T174810Z
DTSTART;VALUE=DATE:20211129
SUMMARY:AAAI 2022 Notification Due
DESCRIPTION:The Thirty-Sixth AAAI Conference on Artificial Intelligence
URL:http://www.wikicfp.com/cfp/servlet/event.showcfp?eventid=137565&copyo
 wnerid=171791
UID:cfp912222-N@wikicfp.com
END:VEVENT
BEGIN:VEVENT
DTSTAMP:20260420T174810Z
DTSTART;VALUE=DATE:20220723
DTEND;VALUE=DATE:20220730
SUMMARY:IJCAI 2022
DESCRIPTION:31st International Joint Conference on Artificial Intelligenc
 e
URL:http://www.wikicfp.com/cfp/servlet/event.showcfp?eventid=145168&copyo
 wnerid=171791
UID:cfp912223-E@wikicfp.com
END:VEVENT
BEGIN:VEVENT
DTSTAMP:20260420T174810Z
DTSTART;VALUE=DATE:20220107
SUMMARY:IJCAI 2022 Abstract Due
DESCRIPTION:31st International Joint Conference on Artificial Intelligenc
 e
URL:http://www.wikicfp.com/cfp/servlet/event.showcfp?eventid=145168&copyo
 wnerid=171791
UID:cfp912223-A@wikicfp.com
END:VEVENT
BEGIN:VEVENT
DTSTAMP:20260420T174810Z
DTSTART;VALUE=DATE:20220114
SUMMARY:IJCAI 2022 Deadline
DESCRIPTION:31st International Joint Conference on Artificial Intelligenc
 e
URL:http://www.wikicfp.com/cfp/servlet/event.showcfp?eventid=145168&copyo
 wnerid=171791
UID:cfp912223-D@wikicfp.com
END:VEVENT
BEGIN:VEVENT
DTSTAMP:20260420T174810Z
DTSTART;VALUE=DATE:20210218
SUMMARY:IJCAI 2022 Notification Due
DESCRIPTION:31st International Joint Conference on Artificial Intelligenc
 e
URL:http://www.wikicfp.com/cfp/servlet/event.showcfp?eventid=145168&copyo
 wnerid=171791
UID:cfp912223-N@wikicfp.com
END:VEVENT
BEGIN:VEVENT
DTSTAMP:20260420T174810Z
DTSTART;VALUE=DATE:20210427
SUMMARY:IJCAI 2022 Final Version Due
DESCRIPTION:31st International Joint Conference on Artificial Intelligenc
 e
URL:http://www.wikicfp.com/cfp/servlet/event.showcfp?eventid=145168&copyo
 wnerid=171791
UID:cfp912223-N@wikicfp.com
END:VEVENT
BEGIN:VEVENT
DTSTAMP:20260420T174810Z
DTSTART;VALUE=DATE:20220821
DTEND;VALUE=DATE:20220826
SUMMARY:ICPR 2022
DESCRIPTION:26th International Conference on Pattern Recognition
URL:http://www.wikicfp.com/cfp/servlet/event.showcfp?eventid=150287&copyo
 wnerid=171791
UID:cfp912224-E@wikicfp.com
END:VEVENT
BEGIN:VEVENT
DTSTAMP:20260420T174810Z
DTSTART;VALUE=DATE:20220110
SUMMARY:ICPR 2022 Abstract Due
DESCRIPTION:26th International Conference on Pattern Recognition
URL:http://www.wikicfp.com/cfp/servlet/event.showcfp?eventid=150287&copyo
 wnerid=171791
UID:cfp912224-A@wikicfp.com
END:VEVENT
BEGIN:VEVENT
DTSTAMP:20260420T174810Z
DTSTART;VALUE=DATE:20220117
SUMMARY:ICPR 2022 Deadline
DESCRIPTION:26th International Conference on Pattern Recognition
URL:http://www.wikicfp.com/cfp/servlet/event.showcfp?eventid=150287&copyo
 wnerid=171791
UID:cfp912224-D@wikicfp.com
END:VEVENT
BEGIN:VEVENT
DTSTAMP:20260420T174810Z
DTSTART;VALUE=DATE:20220314
SUMMARY:ICPR 2022 Notification Due
DESCRIPTION:26th International Conference on Pattern Recognition
URL:http://www.wikicfp.com/cfp/servlet/event.showcfp?eventid=150287&copyo
 wnerid=171791
UID:cfp912224-N@wikicfp.com
END:VEVENT
BEGIN:VEVENT
DTSTAMP:20260420T174810Z
DTSTART;VALUE=DATE:20220606
SUMMARY:ICPR 2022 Final Version Due
DESCRIPTION:26th International Conference on Pattern Recognition
URL:http://www.wikicfp.com/cfp/servlet/event.showcfp?eventid=150287&copyo
 wnerid=171791
UID:cfp912224-N@wikicfp.com
END:VEVENT
END:VCALENDAR
