BEGIN:VCALENDAR
PRODID:-//WikiCFP//wudingming 1.0//EN
VERSION:2.0
CALSCALE:GREGORIAN
BEGIN:VEVENT
DTSTAMP:20260425T015122Z
DTSTART;VALUE=DATE:20220425
DTEND;VALUE=DATE:20220430
SUMMARY:WWW 2022
DESCRIPTION:International World Wide Web Conferences
URL:http://www.wikicfp.com/cfp/servlet/event.showcfp?eventid=135655&copyo
 wnerid=171476
UID:cfp909703-E@wikicfp.com
END:VEVENT
BEGIN:VEVENT
DTSTAMP:20260425T015122Z
DTSTART;VALUE=DATE:20211014
SUMMARY:WWW 2022 Abstract Due
DESCRIPTION:International World Wide Web Conferences
URL:http://www.wikicfp.com/cfp/servlet/event.showcfp?eventid=135655&copyo
 wnerid=171476
UID:cfp909703-A@wikicfp.com
END:VEVENT
BEGIN:VEVENT
DTSTAMP:20260425T015122Z
DTSTART;VALUE=DATE:20211021
SUMMARY:WWW 2022 Deadline
DESCRIPTION:International World Wide Web Conferences
URL:http://www.wikicfp.com/cfp/servlet/event.showcfp?eventid=135655&copyo
 wnerid=171476
UID:cfp909703-D@wikicfp.com
END:VEVENT
BEGIN:VEVENT
DTSTAMP:20260425T015122Z
DTSTART;VALUE=DATE:20220113
SUMMARY:WWW 2022 Notification Due
DESCRIPTION:International World Wide Web Conferences
URL:http://www.wikicfp.com/cfp/servlet/event.showcfp?eventid=135655&copyo
 wnerid=171476
UID:cfp909703-N@wikicfp.com
END:VEVENT
BEGIN:VEVENT
DTSTAMP:20260425T015122Z
DTSTART;VALUE=DATE:20220723
DTEND;VALUE=DATE:20220730
SUMMARY:IJCAI 2022
DESCRIPTION:31st International Joint Conference on Artificial Intelligenc
 e
URL:http://www.wikicfp.com/cfp/servlet/event.showcfp?eventid=145168&copyo
 wnerid=171476
UID:cfp909705-E@wikicfp.com
END:VEVENT
BEGIN:VEVENT
DTSTAMP:20260425T015122Z
DTSTART;VALUE=DATE:20220107
SUMMARY:IJCAI 2022 Abstract Due
DESCRIPTION:31st International Joint Conference on Artificial Intelligenc
 e
URL:http://www.wikicfp.com/cfp/servlet/event.showcfp?eventid=145168&copyo
 wnerid=171476
UID:cfp909705-A@wikicfp.com
END:VEVENT
BEGIN:VEVENT
DTSTAMP:20260425T015122Z
DTSTART;VALUE=DATE:20220114
SUMMARY:IJCAI 2022 Deadline
DESCRIPTION:31st International Joint Conference on Artificial Intelligenc
 e
URL:http://www.wikicfp.com/cfp/servlet/event.showcfp?eventid=145168&copyo
 wnerid=171476
UID:cfp909705-D@wikicfp.com
END:VEVENT
BEGIN:VEVENT
DTSTAMP:20260425T015122Z
DTSTART;VALUE=DATE:20210218
SUMMARY:IJCAI 2022 Notification Due
DESCRIPTION:31st International Joint Conference on Artificial Intelligenc
 e
URL:http://www.wikicfp.com/cfp/servlet/event.showcfp?eventid=145168&copyo
 wnerid=171476
UID:cfp909705-N@wikicfp.com
END:VEVENT
BEGIN:VEVENT
DTSTAMP:20260425T015122Z
DTSTART;VALUE=DATE:20210427
SUMMARY:IJCAI 2022 Final Version Due
DESCRIPTION:31st International Joint Conference on Artificial Intelligenc
 e
URL:http://www.wikicfp.com/cfp/servlet/event.showcfp?eventid=145168&copyo
 wnerid=171476
UID:cfp909705-N@wikicfp.com
END:VEVENT
BEGIN:VEVENT
DTSTAMP:20260425T015122Z
DTSTART;VALUE=DATE:20220711
DTEND;VALUE=DATE:20220716
SUMMARY:SIGIR 2022
DESCRIPTION:The 45th International ACM SIGIR Conference on Research and D
 evelopment in Information Retrieval
URL:http://www.wikicfp.com/cfp/servlet/event.showcfp?eventid=140225&copyo
 wnerid=171476
UID:cfp909704-E@wikicfp.com
END:VEVENT
BEGIN:VEVENT
DTSTAMP:20260425T015122Z
DTSTART;VALUE=DATE:20220124
SUMMARY:SIGIR 2022 Abstract Due
DESCRIPTION:The 45th International ACM SIGIR Conference on Research and D
 evelopment in Information Retrieval
URL:http://www.wikicfp.com/cfp/servlet/event.showcfp?eventid=140225&copyo
 wnerid=171476
UID:cfp909704-A@wikicfp.com
END:VEVENT
BEGIN:VEVENT
DTSTAMP:20260425T015122Z
DTSTART;VALUE=DATE:20220131
SUMMARY:SIGIR 2022 Deadline
DESCRIPTION:The 45th International ACM SIGIR Conference on Research and D
 evelopment in Information Retrieval
URL:http://www.wikicfp.com/cfp/servlet/event.showcfp?eventid=140225&copyo
 wnerid=171476
UID:cfp909704-D@wikicfp.com
END:VEVENT
BEGIN:VEVENT
DTSTAMP:20260425T015122Z
DTSTART;VALUE=DATE:20220414
SUMMARY:SIGIR 2022 Notification Due
DESCRIPTION:The 45th International ACM SIGIR Conference on Research and D
 evelopment in Information Retrieval
URL:http://www.wikicfp.com/cfp/servlet/event.showcfp?eventid=140225&copyo
 wnerid=171476
UID:cfp909704-N@wikicfp.com
END:VEVENT
END:VCALENDAR
