BEGIN:VCALENDAR
PRODID:-//WikiCFP//afitz822 1.0//EN
VERSION:2.0
CALSCALE:GREGORIAN
BEGIN:VEVENT
DTSTAMP:20260420T092258Z
DTSTART;VALUE=DATE:20220223
DTEND;VALUE=DATE:20220227
SUMMARY:SWP / ACA -  2022
DESCRIPTION:Panel Proposal: Iconography and Iconoclasm in 20th Century an
 d Contemporary Poetry
URL:http://www.wikicfp.com/cfp/servlet/event.showcfp?eventid=148283&copyo
 wnerid=171243
UID:cfp907925-E@wikicfp.com
END:VEVENT
BEGIN:VEVENT
DTSTAMP:20260420T092258Z
DTSTART;VALUE=DATE:20221025
SUMMARY:SWP / ACA -  2022 Deadline
DESCRIPTION:Panel Proposal: Iconography and Iconoclasm in 20th Century an
 d Contemporary Poetry
URL:http://www.wikicfp.com/cfp/servlet/event.showcfp?eventid=148283&copyo
 wnerid=171243
UID:cfp907925-D@wikicfp.com
END:VEVENT
END:VCALENDAR
