BEGIN:VCALENDAR
PRODID:-//WikiCFP//iwinkler 1.0//EN
VERSION:2.0
CALSCALE:GREGORIAN
BEGIN:VEVENT
DTSTAMP:20260423T144747Z
DTSTART;VALUE=DATE:20201109
DTEND;VALUE=DATE:20201114
SUMMARY:ISMAR 2020
DESCRIPTION:19th IEEE International Symposium on Mixed and Augmented Real
 ity
URL:http://www.wikicfp.com/cfp/servlet/event.showcfp?eventid=98512&copyow
 nerid=170423
UID:cfp900295-E@wikicfp.com
END:VEVENT
BEGIN:VEVENT
DTSTAMP:20260423T144747Z
DTSTART;VALUE=DATE:20200330
SUMMARY:ISMAR 2020 Abstract Due
DESCRIPTION:19th IEEE International Symposium on Mixed and Augmented Real
 ity
URL:http://www.wikicfp.com/cfp/servlet/event.showcfp?eventid=98512&copyow
 nerid=170423
UID:cfp900295-A@wikicfp.com
END:VEVENT
BEGIN:VEVENT
DTSTAMP:20260423T144747Z
DTSTART;VALUE=DATE:20200406
SUMMARY:ISMAR 2020 Deadline
DESCRIPTION:19th IEEE International Symposium on Mixed and Augmented Real
 ity
URL:http://www.wikicfp.com/cfp/servlet/event.showcfp?eventid=98512&copyow
 nerid=170423
UID:cfp900295-D@wikicfp.com
END:VEVENT
BEGIN:VEVENT
DTSTAMP:20260423T144747Z
DTSTART;VALUE=DATE:20200615
SUMMARY:ISMAR 2020 Notification Due
DESCRIPTION:19th IEEE International Symposium on Mixed and Augmented Real
 ity
URL:http://www.wikicfp.com/cfp/servlet/event.showcfp?eventid=98512&copyow
 nerid=170423
UID:cfp900295-N@wikicfp.com
END:VEVENT
BEGIN:VEVENT
DTSTAMP:20260423T144747Z
DTSTART;VALUE=DATE:20200717
SUMMARY:ISMAR 2020 Final Version Due
DESCRIPTION:19th IEEE International Symposium on Mixed and Augmented Real
 ity
URL:http://www.wikicfp.com/cfp/servlet/event.showcfp?eventid=98512&copyow
 nerid=170423
UID:cfp900295-N@wikicfp.com
END:VEVENT
BEGIN:VEVENT
DTSTAMP:20260423T144747Z
DTSTART;VALUE=DATE:20201107
DTEND;VALUE=DATE:20201111
SUMMARY:SVR 2020
DESCRIPTION:22nd Symposium on Virtual and Augmented Reality
URL:http://www.wikicfp.com/cfp/servlet/event.showcfp?eventid=100945&copyo
 wnerid=170423
UID:cfp900294-E@wikicfp.com
END:VEVENT
BEGIN:VEVENT
DTSTAMP:20260423T144747Z
DTSTART;VALUE=DATE:20200620
SUMMARY:SVR 2020 Deadline
DESCRIPTION:22nd Symposium on Virtual and Augmented Reality
URL:http://www.wikicfp.com/cfp/servlet/event.showcfp?eventid=100945&copyo
 wnerid=170423
UID:cfp900294-D@wikicfp.com
END:VEVENT
BEGIN:VEVENT
DTSTAMP:20260423T144747Z
DTSTART;VALUE=DATE:20200715
SUMMARY:SVR 2020 Notification Due
DESCRIPTION:22nd Symposium on Virtual and Augmented Reality
URL:http://www.wikicfp.com/cfp/servlet/event.showcfp?eventid=100945&copyo
 wnerid=170423
UID:cfp900294-N@wikicfp.com
END:VEVENT
BEGIN:VEVENT
DTSTAMP:20260423T144747Z
DTSTART;VALUE=DATE:20201020
SUMMARY:SVR 2020 Final Version Due
DESCRIPTION:22nd Symposium on Virtual and Augmented Reality
URL:http://www.wikicfp.com/cfp/servlet/event.showcfp?eventid=100945&copyo
 wnerid=170423
UID:cfp900294-N@wikicfp.com
END:VEVENT
END:VCALENDAR
