BEGIN:VCALENDAR
PRODID:-//WikiCFP//IAugenstein 1.0//EN
VERSION:2.0
CALSCALE:GREGORIAN
BEGIN:VEVENT
DTSTAMP:20260419T172401Z
DTSTART;VALUE=DATE:20210831
SUMMARY:JNLE-NLPOCO 2021 Deadline
DESCRIPTION:Journal of Natural Language Engineering - Special Issue on NL
 P Approaches to Offensive Content Online
URL:http://www.wikicfp.com/cfp/servlet/event.showcfp?eventid=139184&copyo
 wnerid=170129
UID:cfp895431-D@wikicfp.com
END:VEVENT
BEGIN:VEVENT
DTSTAMP:20260419T172401Z
DTSTART;VALUE=DATE:20211130
SUMMARY:JNLE-NLPOCO 2021 Notification Due
DESCRIPTION:Journal of Natural Language Engineering - Special Issue on NL
 P Approaches to Offensive Content Online
URL:http://www.wikicfp.com/cfp/servlet/event.showcfp?eventid=139184&copyo
 wnerid=170129
UID:cfp895431-N@wikicfp.com
END:VEVENT
BEGIN:VEVENT
DTSTAMP:20260419T172401Z
DTSTART;VALUE=DATE:20220120
SUMMARY:JNLE-NLPOCO 2021 Final Version Due
DESCRIPTION:Journal of Natural Language Engineering - Special Issue on NL
 P Approaches to Offensive Content Online
URL:http://www.wikicfp.com/cfp/servlet/event.showcfp?eventid=139184&copyo
 wnerid=170129
UID:cfp895431-N@wikicfp.com
END:VEVENT
BEGIN:VEVENT
DTSTAMP:20260419T172401Z
DTSTART;VALUE=DATE:20230502
DTEND;VALUE=DATE:20230507
SUMMARY:EACL 2023
DESCRIPTION:The 17th Conference of the European Chapter of the Associatio
 n for Computational Linguistics 
URL:http://www.wikicfp.com/cfp/servlet/event.showcfp?eventid=169340&copyo
 wnerid=170129
UID:cfp947890-E@wikicfp.com
END:VEVENT
BEGIN:VEVENT
DTSTAMP:20260419T172401Z
DTSTART;VALUE=DATE:20231013
SUMMARY:EACL 2023 Abstract Due
DESCRIPTION:The 17th Conference of the European Chapter of the Associatio
 n for Computational Linguistics 
URL:http://www.wikicfp.com/cfp/servlet/event.showcfp?eventid=169340&copyo
 wnerid=170129
UID:cfp947890-A@wikicfp.com
END:VEVENT
BEGIN:VEVENT
DTSTAMP:20260419T172401Z
DTSTART;VALUE=DATE:20231020
SUMMARY:EACL 2023 Deadline
DESCRIPTION:The 17th Conference of the European Chapter of the Associatio
 n for Computational Linguistics 
URL:http://www.wikicfp.com/cfp/servlet/event.showcfp?eventid=169340&copyo
 wnerid=170129
UID:cfp947890-D@wikicfp.com
END:VEVENT
BEGIN:VEVENT
DTSTAMP:20260419T172401Z
DTSTART;VALUE=DATE:20230120
SUMMARY:EACL 2023 Notification Due
DESCRIPTION:The 17th Conference of the European Chapter of the Associatio
 n for Computational Linguistics 
URL:http://www.wikicfp.com/cfp/servlet/event.showcfp?eventid=169340&copyo
 wnerid=170129
UID:cfp947890-N@wikicfp.com
END:VEVENT
BEGIN:VEVENT
DTSTAMP:20260419T172401Z
DTSTART;VALUE=DATE:20230210
SUMMARY:EACL 2023 Final Version Due
DESCRIPTION:The 17th Conference of the European Chapter of the Associatio
 n for Computational Linguistics 
URL:http://www.wikicfp.com/cfp/servlet/event.showcfp?eventid=169340&copyo
 wnerid=170129
UID:cfp947890-N@wikicfp.com
END:VEVENT
END:VCALENDAR
