BEGIN:VCALENDAR
PRODID:-//WikiCFP//danishmjn 1.0//EN
VERSION:2.0
CALSCALE:GREGORIAN
BEGIN:VEVENT
DTSTAMP:20260424T221132Z
DTSTART;VALUE=DATE:20110614
DTEND;VALUE=DATE:20110618
SUMMARY:ICANN 2011
DESCRIPTION:21st International Conference on Artificial Neural Networks
URL:http://www.wikicfp.com/cfp/servlet/event.showcfp?eventid=11830&copyow
 nerid=16935
UID:cfp115722-E@wikicfp.com
END:VEVENT
BEGIN:VEVENT
DTSTAMP:20260424T221132Z
DTSTART;VALUE=DATE:20110114
SUMMARY:ICANN 2011 Deadline
DESCRIPTION:21st International Conference on Artificial Neural Networks
URL:http://www.wikicfp.com/cfp/servlet/event.showcfp?eventid=11830&copyow
 nerid=16935
UID:cfp115722-D@wikicfp.com
END:VEVENT
BEGIN:VEVENT
DTSTAMP:20260424T221132Z
DTSTART;VALUE=DATE:20110522
DTEND;VALUE=DATE:20110528
SUMMARY:BIOTECHNO 2011
DESCRIPTION:The Third International Conference on Bioinformatics\, Biocom
 putational Systems and Biotechnologies
URL:http://www.wikicfp.com/cfp/servlet/event.showcfp?eventid=10817&copyow
 nerid=16935
UID:cfp118854-E@wikicfp.com
END:VEVENT
BEGIN:VEVENT
DTSTAMP:20260424T221132Z
DTSTART;VALUE=DATE:20110125
SUMMARY:BIOTECHNO 2011 Deadline
DESCRIPTION:The Third International Conference on Bioinformatics\, Biocom
 putational Systems and Biotechnologies
URL:http://www.wikicfp.com/cfp/servlet/event.showcfp?eventid=10817&copyow
 nerid=16935
UID:cfp118854-D@wikicfp.com
END:VEVENT
BEGIN:VEVENT
DTSTAMP:20260424T221132Z
DTSTART;VALUE=DATE:20110220
SUMMARY:BIOTECHNO 2011 Notification Due
DESCRIPTION:The Third International Conference on Bioinformatics\, Biocom
 putational Systems and Biotechnologies
URL:http://www.wikicfp.com/cfp/servlet/event.showcfp?eventid=10817&copyow
 nerid=16935
UID:cfp118854-N@wikicfp.com
END:VEVENT
BEGIN:VEVENT
DTSTAMP:20260424T221132Z
DTSTART;VALUE=DATE:20110320
SUMMARY:BIOTECHNO 2011 Final Version Due
DESCRIPTION:The Third International Conference on Bioinformatics\, Biocom
 putational Systems and Biotechnologies
URL:http://www.wikicfp.com/cfp/servlet/event.showcfp?eventid=10817&copyow
 nerid=16935
UID:cfp118854-N@wikicfp.com
END:VEVENT
BEGIN:VEVENT
DTSTAMP:20260424T221132Z
DTSTART;VALUE=DATE:20110621
DTEND;VALUE=DATE:20110624
SUMMARY:DICTAP 2011
DESCRIPTION:The International Conference on Digital Information and Commu
 nication Technology and its Applications 
URL:http://www.wikicfp.com/cfp/servlet/event.showcfp?eventid=11088&copyow
 nerid=16935
UID:cfp115717-E@wikicfp.com
END:VEVENT
BEGIN:VEVENT
DTSTAMP:20260424T221132Z
DTSTART;VALUE=DATE:20110220
SUMMARY:DICTAP 2011 Deadline
DESCRIPTION:The International Conference on Digital Information and Commu
 nication Technology and its Applications 
URL:http://www.wikicfp.com/cfp/servlet/event.showcfp?eventid=11088&copyow
 nerid=16935
UID:cfp115717-D@wikicfp.com
END:VEVENT
BEGIN:VEVENT
DTSTAMP:20260424T221132Z
DTSTART;VALUE=DATE:20110401
SUMMARY:DICTAP 2011 Notification Due
DESCRIPTION:The International Conference on Digital Information and Commu
 nication Technology and its Applications 
URL:http://www.wikicfp.com/cfp/servlet/event.showcfp?eventid=11088&copyow
 nerid=16935
UID:cfp115717-N@wikicfp.com
END:VEVENT
BEGIN:VEVENT
DTSTAMP:20260424T221132Z
DTSTART;VALUE=DATE:20110325
DTEND;VALUE=DATE:20110328
SUMMARY:ICICIT 2011
DESCRIPTION:2010  International Conference on Intelligent Control and Inf
 ormation Technology
URL:http://www.wikicfp.com/cfp/servlet/event.showcfp?eventid=11813&copyow
 nerid=16935
UID:cfp115725-E@wikicfp.com
END:VEVENT
BEGIN:VEVENT
DTSTAMP:20260424T221132Z
DTSTART;VALUE=DATE:20110228
SUMMARY:ICICIT 2011 Deadline
DESCRIPTION:2010  International Conference on Intelligent Control and Inf
 ormation Technology
URL:http://www.wikicfp.com/cfp/servlet/event.showcfp?eventid=11813&copyow
 nerid=16935
UID:cfp115725-D@wikicfp.com
END:VEVENT
BEGIN:VEVENT
DTSTAMP:20260424T221132Z
DTSTART;VALUE=DATE:20110305
SUMMARY:ICICIT 2011 Notification Due
DESCRIPTION:2010  International Conference on Intelligent Control and Inf
 ormation Technology
URL:http://www.wikicfp.com/cfp/servlet/event.showcfp?eventid=11813&copyow
 nerid=16935
UID:cfp115725-N@wikicfp.com
END:VEVENT
BEGIN:VEVENT
DTSTAMP:20260424T221132Z
DTSTART;VALUE=DATE:20110310
SUMMARY:ICICIT 2011 Final Version Due
DESCRIPTION:2010  International Conference on Intelligent Control and Inf
 ormation Technology
URL:http://www.wikicfp.com/cfp/servlet/event.showcfp?eventid=11813&copyow
 nerid=16935
UID:cfp115725-N@wikicfp.com
END:VEVENT
BEGIN:VEVENT
DTSTAMP:20260424T221132Z
DTSTART;VALUE=DATE:20110905
DTEND;VALUE=DATE:20110908
SUMMARY:PCSPA 2011
DESCRIPTION:Second International Conference on Pervasive Computing\, Sign
 al Processing and Applications
URL:http://www.wikicfp.com/cfp/servlet/event.showcfp?eventid=12282&copyow
 nerid=16935
UID:cfp158216-E@wikicfp.com
END:VEVENT
BEGIN:VEVENT
DTSTAMP:20260424T221132Z
DTSTART;VALUE=DATE:20110520
SUMMARY:PCSPA 2011 Deadline
DESCRIPTION:Second International Conference on Pervasive Computing\, Sign
 al Processing and Applications
URL:http://www.wikicfp.com/cfp/servlet/event.showcfp?eventid=12282&copyow
 nerid=16935
UID:cfp158216-D@wikicfp.com
END:VEVENT
BEGIN:VEVENT
DTSTAMP:20260424T221132Z
DTSTART;VALUE=DATE:20110605
SUMMARY:PCSPA 2011 Notification Due
DESCRIPTION:Second International Conference on Pervasive Computing\, Sign
 al Processing and Applications
URL:http://www.wikicfp.com/cfp/servlet/event.showcfp?eventid=12282&copyow
 nerid=16935
UID:cfp158216-N@wikicfp.com
END:VEVENT
BEGIN:VEVENT
DTSTAMP:20260424T221132Z
DTSTART;VALUE=DATE:20110625
SUMMARY:PCSPA 2011 Final Version Due
DESCRIPTION:Second International Conference on Pervasive Computing\, Sign
 al Processing and Applications
URL:http://www.wikicfp.com/cfp/servlet/event.showcfp?eventid=12282&copyow
 nerid=16935
UID:cfp158216-N@wikicfp.com
END:VEVENT
BEGIN:VEVENT
DTSTAMP:20260424T221132Z
DTSTART;VALUE=DATE:20111011
DTEND;VALUE=DATE:20111014
SUMMARY:IJCB 2011
DESCRIPTION:International Joint Conference on Biometrics
URL:http://www.wikicfp.com/cfp/servlet/event.showcfp?eventid=12058&copyow
 nerid=16935
UID:cfp118853-E@wikicfp.com
END:VEVENT
BEGIN:VEVENT
DTSTAMP:20260424T221132Z
DTSTART;VALUE=DATE:20110527
SUMMARY:IJCB 2011 Deadline
DESCRIPTION:International Joint Conference on Biometrics
URL:http://www.wikicfp.com/cfp/servlet/event.showcfp?eventid=12058&copyow
 nerid=16935
UID:cfp118853-D@wikicfp.com
END:VEVENT
BEGIN:VEVENT
DTSTAMP:20260424T221132Z
DTSTART;VALUE=DATE:20110715
SUMMARY:IJCB 2011 Notification Due
DESCRIPTION:International Joint Conference on Biometrics
URL:http://www.wikicfp.com/cfp/servlet/event.showcfp?eventid=12058&copyow
 nerid=16935
UID:cfp118853-N@wikicfp.com
END:VEVENT
BEGIN:VEVENT
DTSTAMP:20260424T221132Z
DTSTART;VALUE=DATE:20110812
SUMMARY:IJCB 2011 Final Version Due
DESCRIPTION:International Joint Conference on Biometrics
URL:http://www.wikicfp.com/cfp/servlet/event.showcfp?eventid=12058&copyow
 nerid=16935
UID:cfp118853-N@wikicfp.com
END:VEVENT
BEGIN:VEVENT
DTSTAMP:20260424T221132Z
DTSTART;VALUE=DATE:20110221
DTEND;VALUE=DATE:20110224
SUMMARY:WorldCIS 2011
DESCRIPTION:World Congress on Internet Security 
URL:http://www.wikicfp.com/cfp/servlet/event.showcfp?eventid=8005&copyown
 erid=16935
UID:cfp118852-E@wikicfp.com
END:VEVENT
BEGIN:VEVENT
DTSTAMP:20260424T221132Z
DTSTART;VALUE=DATE:20110731
SUMMARY:WorldCIS 2011 Deadline
DESCRIPTION:World Congress on Internet Security 
URL:http://www.wikicfp.com/cfp/servlet/event.showcfp?eventid=8005&copyown
 erid=16935
UID:cfp118852-D@wikicfp.com
END:VEVENT
BEGIN:VEVENT
DTSTAMP:20260424T221132Z
DTSTART;VALUE=DATE:20110901
SUMMARY:WorldCIS 2011 Notification Due
DESCRIPTION:World Congress on Internet Security 
URL:http://www.wikicfp.com/cfp/servlet/event.showcfp?eventid=8005&copyown
 erid=16935
UID:cfp118852-N@wikicfp.com
END:VEVENT
BEGIN:VEVENT
DTSTAMP:20260424T221132Z
DTSTART;VALUE=DATE:20110930
SUMMARY:WorldCIS 2011 Final Version Due
DESCRIPTION:World Congress on Internet Security 
URL:http://www.wikicfp.com/cfp/servlet/event.showcfp?eventid=8005&copyown
 erid=16935
UID:cfp118852-N@wikicfp.com
END:VEVENT
END:VCALENDAR
