BEGIN:VCALENDAR
PRODID:-//WikiCFP//filipposanfilippo 1.0//EN
VERSION:2.0
CALSCALE:GREGORIAN
BEGIN:VEVENT
DTSTAMP:20260424T125839Z
DTSTART;VALUE=DATE:20211011
DTEND;VALUE=DATE:20211014
SUMMARY:INTAP 2021
DESCRIPTION:4th International Conference on Intelligent Technologies and 
 Applications
URL:http://www.wikicfp.com/cfp/servlet/event.showcfp?eventid=133796&copyo
 wnerid=169191
UID:cfp886814-E@wikicfp.com
END:VEVENT
BEGIN:VEVENT
DTSTAMP:20260424T125839Z
DTSTART;VALUE=DATE:20210618
SUMMARY:INTAP 2021 Deadline
DESCRIPTION:4th International Conference on Intelligent Technologies and 
 Applications
URL:http://www.wikicfp.com/cfp/servlet/event.showcfp?eventid=133796&copyo
 wnerid=169191
UID:cfp886814-D@wikicfp.com
END:VEVENT
BEGIN:VEVENT
DTSTAMP:20260424T125839Z
DTSTART;VALUE=DATE:20210815
SUMMARY:INTAP 2021 Notification Due
DESCRIPTION:4th International Conference on Intelligent Technologies and 
 Applications
URL:http://www.wikicfp.com/cfp/servlet/event.showcfp?eventid=133796&copyo
 wnerid=169191
UID:cfp886814-N@wikicfp.com
END:VEVENT
BEGIN:VEVENT
DTSTAMP:20260424T125839Z
DTSTART;VALUE=DATE:20210830
SUMMARY:INTAP 2021 Final Version Due
DESCRIPTION:4th International Conference on Intelligent Technologies and 
 Applications
URL:http://www.wikicfp.com/cfp/servlet/event.showcfp?eventid=133796&copyo
 wnerid=169191
UID:cfp886814-N@wikicfp.com
END:VEVENT
END:VCALENDAR
