BEGIN:VCALENDAR
PRODID:-//WikiCFP//sumanta39 1.0//EN
VERSION:2.0
CALSCALE:GREGORIAN
BEGIN:VEVENT
DTSTAMP:20260420T111532Z
DTSTART;VALUE=DATE:20211025
DTEND;VALUE=DATE:20211028
SUMMARY:KDIR 2021
DESCRIPTION:13th International Conference on Knowledge Discovery and Info
 rmation Retrieval
URL:http://www.wikicfp.com/cfp/servlet/event.showcfp?eventid=125039&copyo
 wnerid=169091
UID:cfp886120-E@wikicfp.com
END:VEVENT
BEGIN:VEVENT
DTSTAMP:20260420T111532Z
DTSTART;VALUE=DATE:20210625
SUMMARY:KDIR 2021 Deadline
DESCRIPTION:13th International Conference on Knowledge Discovery and Info
 rmation Retrieval
URL:http://www.wikicfp.com/cfp/servlet/event.showcfp?eventid=125039&copyo
 wnerid=169091
UID:cfp886120-D@wikicfp.com
END:VEVENT
BEGIN:VEVENT
DTSTAMP:20260420T111532Z
DTSTART;VALUE=DATE:20210716
SUMMARY:KDIR 2021 Notification Due
DESCRIPTION:13th International Conference on Knowledge Discovery and Info
 rmation Retrieval
URL:http://www.wikicfp.com/cfp/servlet/event.showcfp?eventid=125039&copyo
 wnerid=169091
UID:cfp886120-N@wikicfp.com
END:VEVENT
BEGIN:VEVENT
DTSTAMP:20260420T111532Z
DTSTART;VALUE=DATE:20210730
SUMMARY:KDIR 2021 Final Version Due
DESCRIPTION:13th International Conference on Knowledge Discovery and Info
 rmation Retrieval
URL:http://www.wikicfp.com/cfp/servlet/event.showcfp?eventid=125039&copyo
 wnerid=169091
UID:cfp886120-N@wikicfp.com
END:VEVENT
BEGIN:VEVENT
DTSTAMP:20260420T111532Z
DTSTART;VALUE=DATE:20220625
DTEND;VALUE=DATE:20220627
SUMMARY:ArIT 2022
DESCRIPTION:3rd International Conference on Advances in Artificial Intell
 igence Techniques
URL:http://www.wikicfp.com/cfp/servlet/event.showcfp?eventid=118309&copyo
 wnerid=169091
UID:cfp886125-E@wikicfp.com
END:VEVENT
BEGIN:VEVENT
DTSTAMP:20260420T111532Z
DTSTART;VALUE=DATE:20220604
SUMMARY:ArIT 2022 Deadline
DESCRIPTION:3rd International Conference on Advances in Artificial Intell
 igence Techniques
URL:http://www.wikicfp.com/cfp/servlet/event.showcfp?eventid=118309&copyo
 wnerid=169091
UID:cfp886125-D@wikicfp.com
END:VEVENT
BEGIN:VEVENT
DTSTAMP:20260420T111532Z
DTSTART;VALUE=DATE:20220616
SUMMARY:ArIT 2022 Notification Due
DESCRIPTION:3rd International Conference on Advances in Artificial Intell
 igence Techniques
URL:http://www.wikicfp.com/cfp/servlet/event.showcfp?eventid=118309&copyo
 wnerid=169091
UID:cfp886125-N@wikicfp.com
END:VEVENT
BEGIN:VEVENT
DTSTAMP:20260420T111532Z
DTSTART;VALUE=DATE:20220618
SUMMARY:ArIT 2022 Final Version Due
DESCRIPTION:3rd International Conference on Advances in Artificial Intell
 igence Techniques
URL:http://www.wikicfp.com/cfp/servlet/event.showcfp?eventid=118309&copyo
 wnerid=169091
UID:cfp886125-N@wikicfp.com
END:VEVENT
BEGIN:VEVENT
DTSTAMP:20260420T111532Z
DTSTART;VALUE=DATE:20220730
DTEND;VALUE=DATE:20220801
SUMMARY:BIGML  2022
DESCRIPTION:3rd International conference on Big Data\, Machine learning a
 nd Applications 
URL:http://www.wikicfp.com/cfp/servlet/event.showcfp?eventid=110807&copyo
 wnerid=169091
UID:cfp886122-E@wikicfp.com
END:VEVENT
BEGIN:VEVENT
DTSTAMP:20260420T111532Z
DTSTART;VALUE=DATE:20220716
SUMMARY:BIGML  2022 Deadline
DESCRIPTION:3rd International conference on Big Data\, Machine learning a
 nd Applications 
URL:http://www.wikicfp.com/cfp/servlet/event.showcfp?eventid=110807&copyo
 wnerid=169091
UID:cfp886122-D@wikicfp.com
END:VEVENT
BEGIN:VEVENT
DTSTAMP:20260420T111532Z
DTSTART;VALUE=DATE:20220726
SUMMARY:BIGML  2022 Notification Due
DESCRIPTION:3rd International conference on Big Data\, Machine learning a
 nd Applications 
URL:http://www.wikicfp.com/cfp/servlet/event.showcfp?eventid=110807&copyo
 wnerid=169091
UID:cfp886122-N@wikicfp.com
END:VEVENT
BEGIN:VEVENT
DTSTAMP:20260420T111532Z
DTSTART;VALUE=DATE:20220728
SUMMARY:BIGML  2022 Final Version Due
DESCRIPTION:3rd International conference on Big Data\, Machine learning a
 nd Applications 
URL:http://www.wikicfp.com/cfp/servlet/event.showcfp?eventid=110807&copyo
 wnerid=169091
UID:cfp886122-N@wikicfp.com
END:VEVENT
BEGIN:VEVENT
DTSTAMP:20260420T111532Z
DTSTART;VALUE=DATE:20220827
DTEND;VALUE=DATE:20220829
SUMMARY:MECE 2022
DESCRIPTION:6th International Conference on Trends in Mechanical Engineer
 ing
URL:http://www.wikicfp.com/cfp/servlet/event.showcfp?eventid=111444&copyo
 wnerid=169091
UID:cfp886124-E@wikicfp.com
END:VEVENT
BEGIN:VEVENT
DTSTAMP:20260420T111532Z
DTSTART;VALUE=DATE:20220813
SUMMARY:MECE 2022 Deadline
DESCRIPTION:6th International Conference on Trends in Mechanical Engineer
 ing
URL:http://www.wikicfp.com/cfp/servlet/event.showcfp?eventid=111444&copyo
 wnerid=169091
UID:cfp886124-D@wikicfp.com
END:VEVENT
BEGIN:VEVENT
DTSTAMP:20260420T111532Z
DTSTART;VALUE=DATE:20220820
SUMMARY:MECE 2022 Notification Due
DESCRIPTION:6th International Conference on Trends in Mechanical Engineer
 ing
URL:http://www.wikicfp.com/cfp/servlet/event.showcfp?eventid=111444&copyo
 wnerid=169091
UID:cfp886124-N@wikicfp.com
END:VEVENT
BEGIN:VEVENT
DTSTAMP:20260420T111532Z
DTSTART;VALUE=DATE:20220822
SUMMARY:MECE 2022 Final Version Due
DESCRIPTION:6th International Conference on Trends in Mechanical Engineer
 ing
URL:http://www.wikicfp.com/cfp/servlet/event.showcfp?eventid=111444&copyo
 wnerid=169091
UID:cfp886124-N@wikicfp.com
END:VEVENT
BEGIN:VEVENT
DTSTAMP:20260420T111532Z
DTSTART;VALUE=DATE:20221029
DTEND;VALUE=DATE:20221031
SUMMARY:MaVaS 2022
DESCRIPTION:8th International Conference of Managing Value and Supply Cha
 ins 
URL:http://www.wikicfp.com/cfp/servlet/event.showcfp?eventid=97558&copyow
 nerid=169091
UID:cfp886121-E@wikicfp.com
END:VEVENT
BEGIN:VEVENT
DTSTAMP:20260420T111532Z
DTSTART;VALUE=DATE:20221008
SUMMARY:MaVaS 2022 Deadline
DESCRIPTION:8th International Conference of Managing Value and Supply Cha
 ins 
URL:http://www.wikicfp.com/cfp/servlet/event.showcfp?eventid=97558&copyow
 nerid=169091
UID:cfp886121-D@wikicfp.com
END:VEVENT
BEGIN:VEVENT
DTSTAMP:20260420T111532Z
DTSTART;VALUE=DATE:20221020
SUMMARY:MaVaS 2022 Notification Due
DESCRIPTION:8th International Conference of Managing Value and Supply Cha
 ins 
URL:http://www.wikicfp.com/cfp/servlet/event.showcfp?eventid=97558&copyow
 nerid=169091
UID:cfp886121-N@wikicfp.com
END:VEVENT
BEGIN:VEVENT
DTSTAMP:20260420T111532Z
DTSTART;VALUE=DATE:20221022
SUMMARY:MaVaS 2022 Final Version Due
DESCRIPTION:8th International Conference of Managing Value and Supply Cha
 ins 
URL:http://www.wikicfp.com/cfp/servlet/event.showcfp?eventid=97558&copyow
 nerid=169091
UID:cfp886121-N@wikicfp.com
END:VEVENT
BEGIN:VEVENT
DTSTAMP:20260420T111532Z
DTSTART;VALUE=DATE:20221022
DTEND;VALUE=DATE:20221024
SUMMARY:CRBL 2022
DESCRIPTION:2nd International Conference on Cryptography and Blockchain
URL:http://www.wikicfp.com/cfp/servlet/event.showcfp?eventid=130196&copyo
 wnerid=169091
UID:cfp886123-E@wikicfp.com
END:VEVENT
BEGIN:VEVENT
DTSTAMP:20260420T111532Z
DTSTART;VALUE=DATE:20221008
SUMMARY:CRBL 2022 Deadline
DESCRIPTION:2nd International Conference on Cryptography and Blockchain
URL:http://www.wikicfp.com/cfp/servlet/event.showcfp?eventid=130196&copyo
 wnerid=169091
UID:cfp886123-D@wikicfp.com
END:VEVENT
BEGIN:VEVENT
DTSTAMP:20260420T111532Z
DTSTART;VALUE=DATE:20221015
SUMMARY:CRBL 2022 Notification Due
DESCRIPTION:2nd International Conference on Cryptography and Blockchain
URL:http://www.wikicfp.com/cfp/servlet/event.showcfp?eventid=130196&copyo
 wnerid=169091
UID:cfp886123-N@wikicfp.com
END:VEVENT
BEGIN:VEVENT
DTSTAMP:20260420T111532Z
DTSTART;VALUE=DATE:20221018
SUMMARY:CRBL 2022 Final Version Due
DESCRIPTION:2nd International Conference on Cryptography and Blockchain
URL:http://www.wikicfp.com/cfp/servlet/event.showcfp?eventid=130196&copyo
 wnerid=169091
UID:cfp886123-N@wikicfp.com
END:VEVENT
BEGIN:VEVENT
DTSTAMP:20260420T111532Z
DTSTART;VALUE=DATE:20221119
DTEND;VALUE=DATE:20221121
SUMMARY:MLTEC 2022
DESCRIPTION:3rd International Conference on Machine Learning Techniques
URL:http://www.wikicfp.com/cfp/servlet/event.showcfp?eventid=115734&copyo
 wnerid=169091
UID:cfp886118-E@wikicfp.com
END:VEVENT
BEGIN:VEVENT
DTSTAMP:20260420T111532Z
DTSTART;VALUE=DATE:20221105
SUMMARY:MLTEC 2022 Deadline
DESCRIPTION:3rd International Conference on Machine Learning Techniques
URL:http://www.wikicfp.com/cfp/servlet/event.showcfp?eventid=115734&copyo
 wnerid=169091
UID:cfp886118-D@wikicfp.com
END:VEVENT
BEGIN:VEVENT
DTSTAMP:20260420T111532Z
DTSTART;VALUE=DATE:20221112
SUMMARY:MLTEC 2022 Notification Due
DESCRIPTION:3rd International Conference on Machine Learning Techniques
URL:http://www.wikicfp.com/cfp/servlet/event.showcfp?eventid=115734&copyo
 wnerid=169091
UID:cfp886118-N@wikicfp.com
END:VEVENT
BEGIN:VEVENT
DTSTAMP:20260420T111532Z
DTSTART;VALUE=DATE:20221115
SUMMARY:MLTEC 2022 Final Version Due
DESCRIPTION:3rd International Conference on Machine Learning Techniques
URL:http://www.wikicfp.com/cfp/servlet/event.showcfp?eventid=115734&copyo
 wnerid=169091
UID:cfp886118-N@wikicfp.com
END:VEVENT
BEGIN:VEVENT
DTSTAMP:20260420T111532Z
DTSTART;VALUE=DATE:20221118
DTEND;VALUE=DATE:20221121
SUMMARY:ECNLPIR 2022
DESCRIPTION:2022 European Conference on Natural Language Processing and I
 nformation Retrieval (ECNLPIR 2022)
URL:http://www.wikicfp.com/cfp/servlet/event.showcfp?eventid=118194&copyo
 wnerid=169091
UID:cfp886119-E@wikicfp.com
END:VEVENT
BEGIN:VEVENT
DTSTAMP:20260420T111532Z
DTSTART;VALUE=DATE:20221120
SUMMARY:ECNLPIR 2022 Deadline
DESCRIPTION:2022 European Conference on Natural Language Processing and I
 nformation Retrieval (ECNLPIR 2022)
URL:http://www.wikicfp.com/cfp/servlet/event.showcfp?eventid=118194&copyo
 wnerid=169091
UID:cfp886119-D@wikicfp.com
END:VEVENT
BEGIN:VEVENT
DTSTAMP:20260420T111532Z
DTSTART;VALUE=DATE:20221120
SUMMARY:ECNLPIR 2022 Notification Due
DESCRIPTION:2022 European Conference on Natural Language Processing and I
 nformation Retrieval (ECNLPIR 2022)
URL:http://www.wikicfp.com/cfp/servlet/event.showcfp?eventid=118194&copyo
 wnerid=169091
UID:cfp886119-N@wikicfp.com
END:VEVENT
BEGIN:VEVENT
DTSTAMP:20260420T111532Z
DTSTART;VALUE=DATE:20221120
SUMMARY:ECNLPIR 2022 Final Version Due
DESCRIPTION:2022 European Conference on Natural Language Processing and I
 nformation Retrieval (ECNLPIR 2022)
URL:http://www.wikicfp.com/cfp/servlet/event.showcfp?eventid=118194&copyo
 wnerid=169091
UID:cfp886119-N@wikicfp.com
END:VEVENT
BEGIN:VEVENT
DTSTAMP:20260420T111532Z
DTSTART;VALUE=DATE:20221223
DTEND;VALUE=DATE:20221225
SUMMARY:P2PTM 2022
DESCRIPTION:12th International Conference on Peer-to-Peer Networks and Tr
 ust Management 
URL:http://www.wikicfp.com/cfp/servlet/event.showcfp?eventid=122875&copyo
 wnerid=169091
UID:cfp886126-E@wikicfp.com
END:VEVENT
BEGIN:VEVENT
DTSTAMP:20260420T111532Z
DTSTART;VALUE=DATE:20221203
SUMMARY:P2PTM 2022 Deadline
DESCRIPTION:12th International Conference on Peer-to-Peer Networks and Tr
 ust Management 
URL:http://www.wikicfp.com/cfp/servlet/event.showcfp?eventid=122875&copyo
 wnerid=169091
UID:cfp886126-D@wikicfp.com
END:VEVENT
BEGIN:VEVENT
DTSTAMP:20260420T111532Z
DTSTART;VALUE=DATE:20221216
SUMMARY:P2PTM 2022 Notification Due
DESCRIPTION:12th International Conference on Peer-to-Peer Networks and Tr
 ust Management 
URL:http://www.wikicfp.com/cfp/servlet/event.showcfp?eventid=122875&copyo
 wnerid=169091
UID:cfp886126-N@wikicfp.com
END:VEVENT
BEGIN:VEVENT
DTSTAMP:20260420T111532Z
DTSTART;VALUE=DATE:20221219
SUMMARY:P2PTM 2022 Final Version Due
DESCRIPTION:12th International Conference on Peer-to-Peer Networks and Tr
 ust Management 
URL:http://www.wikicfp.com/cfp/servlet/event.showcfp?eventid=122875&copyo
 wnerid=169091
UID:cfp886126-N@wikicfp.com
END:VEVENT
END:VCALENDAR
