BEGIN:VCALENDAR
PRODID:-//WikiCFP//mhe 1.0//EN
VERSION:2.0
CALSCALE:GREGORIAN
BEGIN:VEVENT
DTSTAMP:20260422T165927Z
DTSTART;VALUE=DATE:20210810
DTEND;VALUE=DATE:20210813
SUMMARY:CCCG 2021
DESCRIPTION:33rd Canadian Conference on Computational Geometry (CCCG 2021
 )
URL:http://www.wikicfp.com/cfp/servlet/event.showcfp?eventid=127965&copyo
 wnerid=168164
UID:cfp877867-E@wikicfp.com
END:VEVENT
BEGIN:VEVENT
DTSTAMP:20260422T165927Z
DTSTART;VALUE=DATE:20210507
SUMMARY:CCCG 2021 Deadline
DESCRIPTION:33rd Canadian Conference on Computational Geometry (CCCG 2021
 )
URL:http://www.wikicfp.com/cfp/servlet/event.showcfp?eventid=127965&copyo
 wnerid=168164
UID:cfp877867-D@wikicfp.com
END:VEVENT
BEGIN:VEVENT
DTSTAMP:20260422T165927Z
DTSTART;VALUE=DATE:20210614
SUMMARY:CCCG 2021 Notification Due
DESCRIPTION:33rd Canadian Conference on Computational Geometry (CCCG 2021
 )
URL:http://www.wikicfp.com/cfp/servlet/event.showcfp?eventid=127965&copyo
 wnerid=168164
UID:cfp877867-N@wikicfp.com
END:VEVENT
BEGIN:VEVENT
DTSTAMP:20260422T165927Z
DTSTART;VALUE=DATE:20210628
SUMMARY:CCCG 2021 Final Version Due
DESCRIPTION:33rd Canadian Conference on Computational Geometry (CCCG 2021
 )
URL:http://www.wikicfp.com/cfp/servlet/event.showcfp?eventid=127965&copyo
 wnerid=168164
UID:cfp877867-N@wikicfp.com
END:VEVENT
END:VCALENDAR
