BEGIN:VCALENDAR
PRODID:-//WikiCFP//PHD_CH_VX 1.0//EN
VERSION:2.0
CALSCALE:GREGORIAN
BEGIN:VEVENT
DTSTAMP:20260423T044450Z
DTSTART;VALUE=DATE:20210908
DTEND;VALUE=DATE:20210911
SUMMARY:KES 2021
DESCRIPTION:25th International Conference on Knowledge Based and Intellig
 ent information and Engineering Systems 
URL:http://www.wikicfp.com/cfp/servlet/event.showcfp?eventid=116239&copyo
 wnerid=167543
UID:cfp873603-E@wikicfp.com
END:VEVENT
BEGIN:VEVENT
DTSTAMP:20260423T044450Z
DTSTART;VALUE=DATE:20210402
SUMMARY:KES 2021 Deadline
DESCRIPTION:25th International Conference on Knowledge Based and Intellig
 ent information and Engineering Systems 
URL:http://www.wikicfp.com/cfp/servlet/event.showcfp?eventid=116239&copyo
 wnerid=167543
UID:cfp873603-D@wikicfp.com
END:VEVENT
BEGIN:VEVENT
DTSTAMP:20260423T044450Z
DTSTART;VALUE=DATE:20210507
SUMMARY:KES 2021 Notification Due
DESCRIPTION:25th International Conference on Knowledge Based and Intellig
 ent information and Engineering Systems 
URL:http://www.wikicfp.com/cfp/servlet/event.showcfp?eventid=116239&copyo
 wnerid=167543
UID:cfp873603-N@wikicfp.com
END:VEVENT
BEGIN:VEVENT
DTSTAMP:20260423T044450Z
DTSTART;VALUE=DATE:20210528
SUMMARY:KES 2021 Final Version Due
DESCRIPTION:25th International Conference on Knowledge Based and Intellig
 ent information and Engineering Systems 
URL:http://www.wikicfp.com/cfp/servlet/event.showcfp?eventid=116239&copyo
 wnerid=167543
UID:cfp873603-N@wikicfp.com
END:VEVENT
BEGIN:VEVENT
DTSTAMP:20260423T044450Z
DTSTART;VALUE=DATE:20210718
DTEND;VALUE=DATE:20210723
SUMMARY:eKNOW 2021
DESCRIPTION:The Thirteenth International Conference on Information\, Proc
 ess\, and Knowledge Management
URL:http://www.wikicfp.com/cfp/servlet/event.showcfp?eventid=119751&copyo
 wnerid=167543
UID:cfp873605-E@wikicfp.com
END:VEVENT
BEGIN:VEVENT
DTSTAMP:20260423T044450Z
DTSTART;VALUE=DATE:20210505
SUMMARY:eKNOW 2021 Deadline
DESCRIPTION:The Thirteenth International Conference on Information\, Proc
 ess\, and Knowledge Management
URL:http://www.wikicfp.com/cfp/servlet/event.showcfp?eventid=119751&copyo
 wnerid=167543
UID:cfp873605-D@wikicfp.com
END:VEVENT
BEGIN:VEVENT
DTSTAMP:20260423T044450Z
DTSTART;VALUE=DATE:20210528
SUMMARY:eKNOW 2021 Notification Due
DESCRIPTION:The Thirteenth International Conference on Information\, Proc
 ess\, and Knowledge Management
URL:http://www.wikicfp.com/cfp/servlet/event.showcfp?eventid=119751&copyo
 wnerid=167543
UID:cfp873605-N@wikicfp.com
END:VEVENT
BEGIN:VEVENT
DTSTAMP:20260423T044450Z
DTSTART;VALUE=DATE:20210616
SUMMARY:eKNOW 2021 Final Version Due
DESCRIPTION:The Thirteenth International Conference on Information\, Proc
 ess\, and Knowledge Management
URL:http://www.wikicfp.com/cfp/servlet/event.showcfp?eventid=119751&copyo
 wnerid=167543
UID:cfp873605-N@wikicfp.com
END:VEVENT
BEGIN:VEVENT
DTSTAMP:20260423T044450Z
DTSTART;VALUE=DATE:20211115
DTEND;VALUE=DATE:20211118
SUMMARY:ACM SenSys 2021
DESCRIPTION:ACM Conference on Embedded Networked Sensor Systems
URL:http://www.wikicfp.com/cfp/servlet/event.showcfp?eventid=123683&copyo
 wnerid=167543
UID:cfp873483-E@wikicfp.com
END:VEVENT
BEGIN:VEVENT
DTSTAMP:20260423T044450Z
DTSTART;VALUE=DATE:20210528
SUMMARY:ACM SenSys 2021 Abstract Due
DESCRIPTION:ACM Conference on Embedded Networked Sensor Systems
URL:http://www.wikicfp.com/cfp/servlet/event.showcfp?eventid=123683&copyo
 wnerid=167543
UID:cfp873483-A@wikicfp.com
END:VEVENT
BEGIN:VEVENT
DTSTAMP:20260423T044450Z
DTSTART;VALUE=DATE:20210604
SUMMARY:ACM SenSys 2021 Deadline
DESCRIPTION:ACM Conference on Embedded Networked Sensor Systems
URL:http://www.wikicfp.com/cfp/servlet/event.showcfp?eventid=123683&copyo
 wnerid=167543
UID:cfp873483-D@wikicfp.com
END:VEVENT
BEGIN:VEVENT
DTSTAMP:20260423T044450Z
DTSTART;VALUE=DATE:20210908
SUMMARY:ACM SenSys 2021 Notification Due
DESCRIPTION:ACM Conference on Embedded Networked Sensor Systems
URL:http://www.wikicfp.com/cfp/servlet/event.showcfp?eventid=123683&copyo
 wnerid=167543
UID:cfp873483-N@wikicfp.com
END:VEVENT
BEGIN:VEVENT
DTSTAMP:20260423T044450Z
DTSTART;VALUE=DATE:20211001
SUMMARY:ACM SenSys 2021 Final Version Due
DESCRIPTION:ACM Conference on Embedded Networked Sensor Systems
URL:http://www.wikicfp.com/cfp/servlet/event.showcfp?eventid=123683&copyo
 wnerid=167543
UID:cfp873483-N@wikicfp.com
END:VEVENT
BEGIN:VEVENT
DTSTAMP:20260423T044450Z
DTSTART;VALUE=DATE:20210925
DTEND;VALUE=DATE:20210928
SUMMARY:ICITT--EI Compendex\, Scopus 2021
DESCRIPTION:2021 5th International Conference on Intelligent Traffic and 
 Transportation (ICITT 2021)--EI Compendex\, Scopus
URL:http://www.wikicfp.com/cfp/servlet/event.showcfp?eventid=124389&copyo
 wnerid=167543
UID:cfp873481-E@wikicfp.com
END:VEVENT
BEGIN:VEVENT
DTSTAMP:20260423T044450Z
DTSTART;VALUE=DATE:20210730
SUMMARY:ICITT--EI Compendex\, Scopus 2021 Deadline
DESCRIPTION:2021 5th International Conference on Intelligent Traffic and 
 Transportation (ICITT 2021)--EI Compendex\, Scopus
URL:http://www.wikicfp.com/cfp/servlet/event.showcfp?eventid=124389&copyo
 wnerid=167543
UID:cfp873481-D@wikicfp.com
END:VEVENT
BEGIN:VEVENT
DTSTAMP:20260423T044450Z
DTSTART;VALUE=DATE:20211217
DTEND;VALUE=DATE:20211220
SUMMARY:AICCC--EI\, Scopus 2021
DESCRIPTION:2021 4th Artificial Intelligence and Cloud Computing Conferen
 ce (AICCC 2021)--EI Compendex\, Scopus
URL:http://www.wikicfp.com/cfp/servlet/event.showcfp?eventid=124930&copyo
 wnerid=167543
UID:cfp873602-E@wikicfp.com
END:VEVENT
BEGIN:VEVENT
DTSTAMP:20260423T044450Z
DTSTART;VALUE=DATE:20211105
SUMMARY:AICCC--EI\, Scopus 2021 Deadline
DESCRIPTION:2021 4th Artificial Intelligence and Cloud Computing Conferen
 ce (AICCC 2021)--EI Compendex\, Scopus
URL:http://www.wikicfp.com/cfp/servlet/event.showcfp?eventid=124930&copyo
 wnerid=167543
UID:cfp873602-D@wikicfp.com
END:VEVENT
BEGIN:VEVENT
DTSTAMP:20260423T044450Z
DTSTART;VALUE=DATE:20230519
DTEND;VALUE=DATE:20230522
SUMMARY:CoEEB 2023
DESCRIPTION:2023 International Joint Conference on Environmental Engineer
 ing and Biotechnology (CoEEB 2023) 
URL:http://www.wikicfp.com/cfp/servlet/event.showcfp?eventid=86365&copyow
 nerid=167543
UID:cfp873608-E@wikicfp.com
END:VEVENT
BEGIN:VEVENT
DTSTAMP:20260423T044450Z
DTSTART;VALUE=DATE:20230430
SUMMARY:CoEEB 2023 Deadline
DESCRIPTION:2023 International Joint Conference on Environmental Engineer
 ing and Biotechnology (CoEEB 2023) 
URL:http://www.wikicfp.com/cfp/servlet/event.showcfp?eventid=86365&copyow
 nerid=167543
UID:cfp873608-D@wikicfp.com
END:VEVENT
BEGIN:VEVENT
DTSTAMP:20260423T044450Z
DTSTART;VALUE=DATE:20230430
SUMMARY:CoEEB 2023 Notification Due
DESCRIPTION:2023 International Joint Conference on Environmental Engineer
 ing and Biotechnology (CoEEB 2023) 
URL:http://www.wikicfp.com/cfp/servlet/event.showcfp?eventid=86365&copyow
 nerid=167543
UID:cfp873608-N@wikicfp.com
END:VEVENT
BEGIN:VEVENT
DTSTAMP:20260423T044450Z
DTSTART;VALUE=DATE:20230430
SUMMARY:CoEEB 2023 Final Version Due
DESCRIPTION:2023 International Joint Conference on Environmental Engineer
 ing and Biotechnology (CoEEB 2023) 
URL:http://www.wikicfp.com/cfp/servlet/event.showcfp?eventid=86365&copyow
 nerid=167543
UID:cfp873608-N@wikicfp.com
END:VEVENT
BEGIN:VEVENT
DTSTAMP:20260423T044450Z
DTSTART;VALUE=DATE:20230811
DTEND;VALUE=DATE:20230814
SUMMARY:ICoIEI 2023
DESCRIPTION:2023 International Conference on Industrial Electronics and I
 nstrumentation
URL:http://www.wikicfp.com/cfp/servlet/event.showcfp?eventid=86404&copyow
 nerid=167543
UID:cfp873607-E@wikicfp.com
END:VEVENT
BEGIN:VEVENT
DTSTAMP:20260423T044450Z
DTSTART;VALUE=DATE:20230630
SUMMARY:ICoIEI 2023 Deadline
DESCRIPTION:2023 International Conference on Industrial Electronics and I
 nstrumentation
URL:http://www.wikicfp.com/cfp/servlet/event.showcfp?eventid=86404&copyow
 nerid=167543
UID:cfp873607-D@wikicfp.com
END:VEVENT
BEGIN:VEVENT
DTSTAMP:20260423T044450Z
DTSTART;VALUE=DATE:20230630
SUMMARY:ICoIEI 2023 Notification Due
DESCRIPTION:2023 International Conference on Industrial Electronics and I
 nstrumentation
URL:http://www.wikicfp.com/cfp/servlet/event.showcfp?eventid=86404&copyow
 nerid=167543
UID:cfp873607-N@wikicfp.com
END:VEVENT
BEGIN:VEVENT
DTSTAMP:20260423T044450Z
DTSTART;VALUE=DATE:20230630
SUMMARY:ICoIEI 2023 Final Version Due
DESCRIPTION:2023 International Conference on Industrial Electronics and I
 nstrumentation
URL:http://www.wikicfp.com/cfp/servlet/event.showcfp?eventid=86404&copyow
 nerid=167543
UID:cfp873607-N@wikicfp.com
END:VEVENT
BEGIN:VEVENT
DTSTAMP:20260423T044450Z
DTSTART;VALUE=DATE:20230909
DTEND;VALUE=DATE:20230912
SUMMARY:JCASE 2023
DESCRIPTION:2023 4th International Joint Conference on Automation Science
  and Engineering (JCASE 2023)
URL:http://www.wikicfp.com/cfp/servlet/event.showcfp?eventid=86401&copyow
 nerid=167543
UID:cfp873604-E@wikicfp.com
END:VEVENT
BEGIN:VEVENT
DTSTAMP:20260423T044450Z
DTSTART;VALUE=DATE:20230809
SUMMARY:JCASE 2023 Deadline
DESCRIPTION:2023 4th International Joint Conference on Automation Science
  and Engineering (JCASE 2023)
URL:http://www.wikicfp.com/cfp/servlet/event.showcfp?eventid=86401&copyow
 nerid=167543
UID:cfp873604-D@wikicfp.com
END:VEVENT
BEGIN:VEVENT
DTSTAMP:20260423T044450Z
DTSTART;VALUE=DATE:20230809
SUMMARY:JCASE 2023 Final Version Due
DESCRIPTION:2023 4th International Joint Conference on Automation Science
  and Engineering (JCASE 2023)
URL:http://www.wikicfp.com/cfp/servlet/event.showcfp?eventid=86401&copyow
 nerid=167543
UID:cfp873604-N@wikicfp.com
END:VEVENT
BEGIN:VEVENT
DTSTAMP:20260423T044450Z
DTSTART;VALUE=DATE:20240510
DTEND;VALUE=DATE:20240513
SUMMARY:JCICE 2024
DESCRIPTION:2024 International Joint Conference on Information and Commun
 ication Engineering(JCICE 2024)
URL:http://www.wikicfp.com/cfp/servlet/event.showcfp?eventid=118191&copyo
 wnerid=167543
UID:cfp873601-E@wikicfp.com
END:VEVENT
BEGIN:VEVENT
DTSTAMP:20260423T044450Z
DTSTART;VALUE=DATE:20240410
SUMMARY:JCICE 2024 Deadline
DESCRIPTION:2024 International Joint Conference on Information and Commun
 ication Engineering(JCICE 2024)
URL:http://www.wikicfp.com/cfp/servlet/event.showcfp?eventid=118191&copyo
 wnerid=167543
UID:cfp873601-D@wikicfp.com
END:VEVENT
BEGIN:VEVENT
DTSTAMP:20260423T044450Z
DTSTART;VALUE=DATE:20240410
SUMMARY:JCICE 2024 Notification Due
DESCRIPTION:2024 International Joint Conference on Information and Commun
 ication Engineering(JCICE 2024)
URL:http://www.wikicfp.com/cfp/servlet/event.showcfp?eventid=118191&copyo
 wnerid=167543
UID:cfp873601-N@wikicfp.com
END:VEVENT
BEGIN:VEVENT
DTSTAMP:20260423T044450Z
DTSTART;VALUE=DATE:20240410
SUMMARY:JCICE 2024 Final Version Due
DESCRIPTION:2024 International Joint Conference on Information and Commun
 ication Engineering(JCICE 2024)
URL:http://www.wikicfp.com/cfp/servlet/event.showcfp?eventid=118191&copyo
 wnerid=167543
UID:cfp873601-N@wikicfp.com
END:VEVENT
BEGIN:VEVENT
DTSTAMP:20260423T044450Z
DTSTART;VALUE=DATE:20241220
DTEND;VALUE=DATE:20241223
SUMMARY:CEVVE 2024
DESCRIPTION:2024 2nd International Conference on Electric Vehicle and Veh
 icle Engineering (CEVVE 2024) 
URL:http://www.wikicfp.com/cfp/servlet/event.showcfp?eventid=100394&copyo
 wnerid=167543
UID:cfp873606-E@wikicfp.com
END:VEVENT
BEGIN:VEVENT
DTSTAMP:20260423T044450Z
DTSTART;VALUE=DATE:20241201
SUMMARY:CEVVE 2024 Deadline
DESCRIPTION:2024 2nd International Conference on Electric Vehicle and Veh
 icle Engineering (CEVVE 2024) 
URL:http://www.wikicfp.com/cfp/servlet/event.showcfp?eventid=100394&copyo
 wnerid=167543
UID:cfp873606-D@wikicfp.com
END:VEVENT
BEGIN:VEVENT
DTSTAMP:20260423T044450Z
DTSTART;VALUE=DATE:20241201
SUMMARY:CEVVE 2024 Notification Due
DESCRIPTION:2024 2nd International Conference on Electric Vehicle and Veh
 icle Engineering (CEVVE 2024) 
URL:http://www.wikicfp.com/cfp/servlet/event.showcfp?eventid=100394&copyo
 wnerid=167543
UID:cfp873606-N@wikicfp.com
END:VEVENT
BEGIN:VEVENT
DTSTAMP:20260423T044450Z
DTSTART;VALUE=DATE:20241201
SUMMARY:CEVVE 2024 Final Version Due
DESCRIPTION:2024 2nd International Conference on Electric Vehicle and Veh
 icle Engineering (CEVVE 2024) 
URL:http://www.wikicfp.com/cfp/servlet/event.showcfp?eventid=100394&copyo
 wnerid=167543
UID:cfp873606-N@wikicfp.com
END:VEVENT
BEGIN:VEVENT
DTSTAMP:20260423T044450Z
DTSTART;VALUE=DATE:20260710
DTEND;VALUE=DATE:20260713
SUMMARY:CSTFM 2026
DESCRIPTION:2026 International Conference on Smart Transportation and Fut
 ure Mobility
URL:http://www.wikicfp.com/cfp/servlet/event.showcfp?eventid=118184&copyo
 wnerid=167543
UID:cfp873482-E@wikicfp.com
END:VEVENT
BEGIN:VEVENT
DTSTAMP:20260423T044450Z
DTSTART;VALUE=DATE:20260612
SUMMARY:CSTFM 2026 Abstract Due
DESCRIPTION:2026 International Conference on Smart Transportation and Fut
 ure Mobility
URL:http://www.wikicfp.com/cfp/servlet/event.showcfp?eventid=118184&copyo
 wnerid=167543
UID:cfp873482-A@wikicfp.com
END:VEVENT
BEGIN:VEVENT
DTSTAMP:20260423T044450Z
DTSTART;VALUE=DATE:20260619
SUMMARY:CSTFM 2026 Deadline
DESCRIPTION:2026 International Conference on Smart Transportation and Fut
 ure Mobility
URL:http://www.wikicfp.com/cfp/servlet/event.showcfp?eventid=118184&copyo
 wnerid=167543
UID:cfp873482-D@wikicfp.com
END:VEVENT
BEGIN:VEVENT
DTSTAMP:20260423T044450Z
DTSTART;VALUE=DATE:20260626
SUMMARY:CSTFM 2026 Notification Due
DESCRIPTION:2026 International Conference on Smart Transportation and Fut
 ure Mobility
URL:http://www.wikicfp.com/cfp/servlet/event.showcfp?eventid=118184&copyo
 wnerid=167543
UID:cfp873482-N@wikicfp.com
END:VEVENT
BEGIN:VEVENT
DTSTAMP:20260423T044450Z
DTSTART;VALUE=DATE:20260703
SUMMARY:CSTFM 2026 Final Version Due
DESCRIPTION:2026 International Conference on Smart Transportation and Fut
 ure Mobility
URL:http://www.wikicfp.com/cfp/servlet/event.showcfp?eventid=118184&copyo
 wnerid=167543
UID:cfp873482-N@wikicfp.com
END:VEVENT
END:VCALENDAR
