BEGIN:VCALENDAR
PRODID:-//WikiCFP//Veronique_Rousseau51 1.0//EN
VERSION:2.0
CALSCALE:GREGORIAN
BEGIN:VEVENT
DTSTAMP:20260421T105838Z
DTSTART;VALUE=DATE:20211025
DTEND;VALUE=DATE:20211030
SUMMARY:CP 2021
DESCRIPTION:Twenty-Seventh Conference on Principles and Practice of Const
 raint Programming - Virtual Conference
URL:http://www.wikicfp.com/cfp/servlet/event.showcfp?eventid=124920&copyo
 wnerid=167345
UID:cfp872536-E@wikicfp.com
END:VEVENT
BEGIN:VEVENT
DTSTAMP:20260421T105838Z
DTSTART;VALUE=DATE:20210521
SUMMARY:CP 2021 Abstract Due
DESCRIPTION:Twenty-Seventh Conference on Principles and Practice of Const
 raint Programming - Virtual Conference
URL:http://www.wikicfp.com/cfp/servlet/event.showcfp?eventid=124920&copyo
 wnerid=167345
UID:cfp872536-A@wikicfp.com
END:VEVENT
BEGIN:VEVENT
DTSTAMP:20260421T105838Z
DTSTART;VALUE=DATE:20210530
SUMMARY:CP 2021 Deadline
DESCRIPTION:Twenty-Seventh Conference on Principles and Practice of Const
 raint Programming - Virtual Conference
URL:http://www.wikicfp.com/cfp/servlet/event.showcfp?eventid=124920&copyo
 wnerid=167345
UID:cfp872536-D@wikicfp.com
END:VEVENT
BEGIN:VEVENT
DTSTAMP:20260421T105838Z
DTSTART;VALUE=DATE:20210705
SUMMARY:CP 2021 Notification Due
DESCRIPTION:Twenty-Seventh Conference on Principles and Practice of Const
 raint Programming - Virtual Conference
URL:http://www.wikicfp.com/cfp/servlet/event.showcfp?eventid=124920&copyo
 wnerid=167345
UID:cfp872536-N@wikicfp.com
END:VEVENT
BEGIN:VEVENT
DTSTAMP:20260421T105838Z
DTSTART;VALUE=DATE:20210726
SUMMARY:CP 2021 Final Version Due
DESCRIPTION:Twenty-Seventh Conference on Principles and Practice of Const
 raint Programming - Virtual Conference
URL:http://www.wikicfp.com/cfp/servlet/event.showcfp?eventid=124920&copyo
 wnerid=167345
UID:cfp872536-N@wikicfp.com
END:VEVENT
END:VCALENDAR
