BEGIN:VCALENDAR
PRODID:-//WikiCFP//khellas15a 1.0//EN
VERSION:2.0
CALSCALE:GREGORIAN
BEGIN:VEVENT
DTSTAMP:20260425T000220Z
DTSTART;VALUE=DATE:20210718
DTEND;VALUE=DATE:20210725
SUMMARY:ICML 2021
DESCRIPTION:International Conference on Machine Learning
URL:http://www.wikicfp.com/cfp/servlet/event.showcfp?eventid=117461&copyo
 wnerid=167036
UID:cfp869303-E@wikicfp.com
END:VEVENT
BEGIN:VEVENT
DTSTAMP:20260425T000220Z
DTSTART;VALUE=DATE:20210128
SUMMARY:ICML 2021 Abstract Due
DESCRIPTION:International Conference on Machine Learning
URL:http://www.wikicfp.com/cfp/servlet/event.showcfp?eventid=117461&copyo
 wnerid=167036
UID:cfp869303-A@wikicfp.com
END:VEVENT
BEGIN:VEVENT
DTSTAMP:20260425T000220Z
DTSTART;VALUE=DATE:20210204
SUMMARY:ICML 2021 Deadline
DESCRIPTION:International Conference on Machine Learning
URL:http://www.wikicfp.com/cfp/servlet/event.showcfp?eventid=117461&copyo
 wnerid=167036
UID:cfp869303-D@wikicfp.com
END:VEVENT
BEGIN:VEVENT
DTSTAMP:20260425T000220Z
DTSTART;VALUE=DATE:20210508
SUMMARY:ICML 2021 Notification Due
DESCRIPTION:International Conference on Machine Learning
URL:http://www.wikicfp.com/cfp/servlet/event.showcfp?eventid=117461&copyo
 wnerid=167036
UID:cfp869303-N@wikicfp.com
END:VEVENT
BEGIN:VEVENT
DTSTAMP:20260425T000220Z
DTSTART;VALUE=DATE:20210610
SUMMARY:ICML 2021 Final Version Due
DESCRIPTION:International Conference on Machine Learning
URL:http://www.wikicfp.com/cfp/servlet/event.showcfp?eventid=117461&copyo
 wnerid=167036
UID:cfp869303-N@wikicfp.com
END:VEVENT
BEGIN:VEVENT
DTSTAMP:20260425T000220Z
DTSTART;VALUE=DATE:20210315
SUMMARY:SI:ICPR-MVAP 2021 Deadline
DESCRIPTION:Special Issue on Selected Papers from 25th ICPR in Machine Vi
 sion and Applications
URL:http://www.wikicfp.com/cfp/servlet/event.showcfp?eventid=102604&copyo
 wnerid=167036
UID:cfp869307-D@wikicfp.com
END:VEVENT
BEGIN:VEVENT
DTSTAMP:20260425T000220Z
DTSTART;VALUE=DATE:20210815
SUMMARY:SI:ICPR-MVAP 2021 Notification Due
DESCRIPTION:Special Issue on Selected Papers from 25th ICPR in Machine Vi
 sion and Applications
URL:http://www.wikicfp.com/cfp/servlet/event.showcfp?eventid=102604&copyo
 wnerid=167036
UID:cfp869307-N@wikicfp.com
END:VEVENT
BEGIN:VEVENT
DTSTAMP:20260425T000220Z
DTSTART;VALUE=DATE:20210901
SUMMARY:SI:ICPR-MVAP 2021 Final Version Due
DESCRIPTION:Special Issue on Selected Papers from 25th ICPR in Machine Vi
 sion and Applications
URL:http://www.wikicfp.com/cfp/servlet/event.showcfp?eventid=102604&copyo
 wnerid=167036
UID:cfp869307-N@wikicfp.com
END:VEVENT
BEGIN:VEVENT
DTSTAMP:20260425T000220Z
DTSTART;VALUE=DATE:20210725
DTEND;VALUE=DATE:20210728
SUMMARY:MVA 2021
DESCRIPTION:17th International Conference on Machine Vision Applications
URL:http://www.wikicfp.com/cfp/servlet/event.showcfp?eventid=113932&copyo
 wnerid=167036
UID:cfp869304-E@wikicfp.com
END:VEVENT
BEGIN:VEVENT
DTSTAMP:20260425T000220Z
DTSTART;VALUE=DATE:20210331
SUMMARY:MVA 2021 Deadline
DESCRIPTION:17th International Conference on Machine Vision Applications
URL:http://www.wikicfp.com/cfp/servlet/event.showcfp?eventid=113932&copyo
 wnerid=167036
UID:cfp869304-D@wikicfp.com
END:VEVENT
BEGIN:VEVENT
DTSTAMP:20260425T000220Z
DTSTART;VALUE=DATE:20210601
SUMMARY:MVA 2021 Notification Due
DESCRIPTION:17th International Conference on Machine Vision Applications
URL:http://www.wikicfp.com/cfp/servlet/event.showcfp?eventid=113932&copyo
 wnerid=167036
UID:cfp869304-N@wikicfp.com
END:VEVENT
BEGIN:VEVENT
DTSTAMP:20260425T000220Z
DTSTART;VALUE=DATE:20210608
SUMMARY:MVA 2021 Final Version Due
DESCRIPTION:17th International Conference on Machine Vision Applications
URL:http://www.wikicfp.com/cfp/servlet/event.showcfp?eventid=113932&copyo
 wnerid=167036
UID:cfp869304-N@wikicfp.com
END:VEVENT
BEGIN:VEVENT
DTSTAMP:20260425T000220Z
DTSTART;VALUE=DATE:20211213
DTEND;VALUE=DATE:20211217
SUMMARY:ICMLA 2021
DESCRIPTION:20th IEEE International Conference on Machine Learning and Ap
 plications
URL:http://www.wikicfp.com/cfp/servlet/event.showcfp?eventid=120552&copyo
 wnerid=167036
UID:cfp869305-E@wikicfp.com
END:VEVENT
BEGIN:VEVENT
DTSTAMP:20260425T000220Z
DTSTART;VALUE=DATE:20210703
SUMMARY:ICMLA 2021 Deadline
DESCRIPTION:20th IEEE International Conference on Machine Learning and Ap
 plications
URL:http://www.wikicfp.com/cfp/servlet/event.showcfp?eventid=120552&copyo
 wnerid=167036
UID:cfp869305-D@wikicfp.com
END:VEVENT
BEGIN:VEVENT
DTSTAMP:20260425T000220Z
DTSTART;VALUE=DATE:20210904
SUMMARY:ICMLA 2021 Notification Due
DESCRIPTION:20th IEEE International Conference on Machine Learning and Ap
 plications
URL:http://www.wikicfp.com/cfp/servlet/event.showcfp?eventid=120552&copyo
 wnerid=167036
UID:cfp869305-N@wikicfp.com
END:VEVENT
BEGIN:VEVENT
DTSTAMP:20260425T000220Z
DTSTART;VALUE=DATE:20211001
SUMMARY:ICMLA 2021 Final Version Due
DESCRIPTION:20th IEEE International Conference on Machine Learning and Ap
 plications
URL:http://www.wikicfp.com/cfp/servlet/event.showcfp?eventid=120552&copyo
 wnerid=167036
UID:cfp869305-N@wikicfp.com
END:VEVENT
BEGIN:VEVENT
DTSTAMP:20260425T000220Z
DTSTART;VALUE=DATE:20211119
DTEND;VALUE=DATE:20211122
SUMMARY:Scoups-FMVIP 2021
DESCRIPTION:2021 International Conference on Frontiers of Machine Vision 
 and Image Processing 
URL:http://www.wikicfp.com/cfp/servlet/event.showcfp?eventid=118957&copyo
 wnerid=167036
UID:cfp869306-E@wikicfp.com
END:VEVENT
BEGIN:VEVENT
DTSTAMP:20260425T000220Z
DTSTART;VALUE=DATE:20210820
SUMMARY:Scoups-FMVIP 2021 Deadline
DESCRIPTION:2021 International Conference on Frontiers of Machine Vision 
 and Image Processing 
URL:http://www.wikicfp.com/cfp/servlet/event.showcfp?eventid=118957&copyo
 wnerid=167036
UID:cfp869306-D@wikicfp.com
END:VEVENT
END:VCALENDAR
