BEGIN:VCALENDAR
PRODID:-//WikiCFP//albaghli 1.0//EN
VERSION:2.0
CALSCALE:GREGORIAN
BEGIN:VEVENT
DTSTAMP:20260424T183306Z
DTSTART;VALUE=DATE:20210203
DTEND;VALUE=DATE:20210206
SUMMARY:ICSMO--Ei Compendex\, Scopus 2021
DESCRIPTION:2021 The 9th International Conference on System Modeling and 
 Optimization (ICSMO 2021)--Ei Compendex\, Scopus
URL:http://www.wikicfp.com/cfp/servlet/event.showcfp?eventid=110794&copyo
 wnerid=166664
UID:cfp865960-E@wikicfp.com
END:VEVENT
BEGIN:VEVENT
DTSTAMP:20260424T183306Z
DTSTART;VALUE=DATE:20210105
SUMMARY:ICSMO--Ei Compendex\, Scopus 2021 Deadline
DESCRIPTION:2021 The 9th International Conference on System Modeling and 
 Optimization (ICSMO 2021)--Ei Compendex\, Scopus
URL:http://www.wikicfp.com/cfp/servlet/event.showcfp?eventid=110794&copyo
 wnerid=166664
UID:cfp865960-D@wikicfp.com
END:VEVENT
BEGIN:VEVENT
DTSTAMP:20260424T183306Z
DTSTART;VALUE=DATE:20210327
DTEND;VALUE=DATE:20210330
SUMMARY:ICOCE--EI Compendex\, Scopus 2021
DESCRIPTION:2021 5th International Conference on Civil Engineering (ICOCE
  2021)--EI Compendex\, Scopus
URL:http://www.wikicfp.com/cfp/servlet/event.showcfp?eventid=110072&copyo
 wnerid=166664
UID:cfp865962-E@wikicfp.com
END:VEVENT
BEGIN:VEVENT
DTSTAMP:20260424T183306Z
DTSTART;VALUE=DATE:20210130
SUMMARY:ICOCE--EI Compendex\, Scopus 2021 Deadline
DESCRIPTION:2021 5th International Conference on Civil Engineering (ICOCE
  2021)--EI Compendex\, Scopus
URL:http://www.wikicfp.com/cfp/servlet/event.showcfp?eventid=110072&copyo
 wnerid=166664
UID:cfp865962-D@wikicfp.com
END:VEVENT
BEGIN:VEVENT
DTSTAMP:20260424T183306Z
DTSTART;VALUE=DATE:20210310
DTEND;VALUE=DATE:20210313
SUMMARY:ICCGE--Ei Compendex\, Scopus 2021
DESCRIPTION:2021 10th International Conference on Clean and Green Energy 
 (ICCGE 2021)--Ei Compendex\, Scopus
URL:http://www.wikicfp.com/cfp/servlet/event.showcfp?eventid=111521&copyo
 wnerid=166664
UID:cfp865958-E@wikicfp.com
END:VEVENT
BEGIN:VEVENT
DTSTAMP:20260424T183306Z
DTSTART;VALUE=DATE:20210205
SUMMARY:ICCGE--Ei Compendex\, Scopus 2021 Deadline
DESCRIPTION:2021 10th International Conference on Clean and Green Energy 
 (ICCGE 2021)--Ei Compendex\, Scopus
URL:http://www.wikicfp.com/cfp/servlet/event.showcfp?eventid=111521&copyo
 wnerid=166664
UID:cfp865958-D@wikicfp.com
END:VEVENT
BEGIN:VEVENT
DTSTAMP:20260424T183306Z
DTSTART;VALUE=DATE:20210326
DTEND;VALUE=DATE:20210329
SUMMARY:ICERE--EI\, Scopus 2021
DESCRIPTION:2021 7th International Conference on Environment and Renewabl
 e Energy (ICERE 2021)--EI Compendex\, Scopus
URL:http://www.wikicfp.com/cfp/servlet/event.showcfp?eventid=109852&copyo
 wnerid=166664
UID:cfp865961-E@wikicfp.com
END:VEVENT
BEGIN:VEVENT
DTSTAMP:20260424T183306Z
DTSTART;VALUE=DATE:20210215
SUMMARY:ICERE--EI\, Scopus 2021 Deadline
DESCRIPTION:2021 7th International Conference on Environment and Renewabl
 e Energy (ICERE 2021)--EI Compendex\, Scopus
URL:http://www.wikicfp.com/cfp/servlet/event.showcfp?eventid=109852&copyo
 wnerid=166664
UID:cfp865961-D@wikicfp.com
END:VEVENT
BEGIN:VEVENT
DTSTAMP:20260424T183306Z
DTSTART;VALUE=DATE:20210707
DTEND;VALUE=DATE:20210710
SUMMARY:SIMULTECH 2021
DESCRIPTION:11th International Conference on Simulation and Modeling Meth
 odologies\, Technologies and Applications
URL:http://www.wikicfp.com/cfp/servlet/event.showcfp?eventid=115966&copyo
 wnerid=166664
UID:cfp865959-E@wikicfp.com
END:VEVENT
BEGIN:VEVENT
DTSTAMP:20260424T183306Z
DTSTART;VALUE=DATE:20210401
SUMMARY:SIMULTECH 2021 Deadline
DESCRIPTION:11th International Conference on Simulation and Modeling Meth
 odologies\, Technologies and Applications
URL:http://www.wikicfp.com/cfp/servlet/event.showcfp?eventid=115966&copyo
 wnerid=166664
UID:cfp865959-D@wikicfp.com
END:VEVENT
BEGIN:VEVENT
DTSTAMP:20260424T183306Z
DTSTART;VALUE=DATE:20210415
SUMMARY:SIMULTECH 2021 Notification Due
DESCRIPTION:11th International Conference on Simulation and Modeling Meth
 odologies\, Technologies and Applications
URL:http://www.wikicfp.com/cfp/servlet/event.showcfp?eventid=115966&copyo
 wnerid=166664
UID:cfp865959-N@wikicfp.com
END:VEVENT
BEGIN:VEVENT
DTSTAMP:20260424T183306Z
DTSTART;VALUE=DATE:20210429
SUMMARY:SIMULTECH 2021 Final Version Due
DESCRIPTION:11th International Conference on Simulation and Modeling Meth
 odologies\, Technologies and Applications
URL:http://www.wikicfp.com/cfp/servlet/event.showcfp?eventid=115966&copyo
 wnerid=166664
UID:cfp865959-N@wikicfp.com
END:VEVENT
END:VCALENDAR
